BEGIN:VCALENDAR
VERSION:2.0
PRODID:-//Benfield Wines - ECPv6.14.0//NONSGML v1.0//EN
CALSCALE:GREGORIAN
METHOD:PUBLISH
X-WR-CALNAME:Benfield Wines
X-ORIGINAL-URL:https://www.benfieldwines.com
X-WR-CALDESC:Events for Benfield Wines
REFRESH-INTERVAL;VALUE=DURATION:PT1H
X-Robots-Tag:noindex
X-PUBLISHED-TTL:PT1H
BEGIN:VTIMEZONE
TZID:America/Detroit
BEGIN:DAYLIGHT
TZOFFSETFROM:-0500
TZOFFSETTO:-0400
TZNAME:EDT
DTSTART:20260308T070000
END:DAYLIGHT
BEGIN:STANDARD
TZOFFSETFROM:-0400
TZOFFSETTO:-0500
TZNAME:EST
DTSTART:20261101T060000
END:STANDARD
END:VTIMEZONE
BEGIN:VEVENT
DTSTART;TZID=America/Detroit:20260624T190000
DTEND;TZID=America/Detroit:20260624T200000
DTSTAMP:20260420T164915
CREATED:20260411T134128Z
LAST-MODIFIED:20260419T181333Z
UID:10001202-1782327600-1782331200@www.benfieldwines.com
SUMMARY:Rockstar Music Bingo
DESCRIPTION:Bring your electronic device and have some fun with us! Free to play\, fun for all ages!
URL:https://www.benfieldwines.com/event/rockstar-music-bingo-21/2026-06-24/
LOCATION:Benfield Wines\, 102 N Main St\, Swanton\, OH\, 43558\, United States
CATEGORIES:Special
ATTACH;FMTTYPE=image/jpeg:https://www.benfieldwines.com/wp-content/uploads/2022/05/rockstar.jpg
ORGANIZER;CN="Julia Benfield":MAILTO:julia@benfieldwines.com
GEO:41.58904;-83.890911
X-APPLE-STRUCTURED-LOCATION;VALUE=URI;X-ADDRESS=Benfield Wines 102 N Main St Swanton OH 43558 United States;X-APPLE-RADIUS=500;X-TITLE=102 N Main St:geo:-83.890911,41.58904
END:VEVENT
BEGIN:VEVENT
DTSTART;TZID=America/Detroit:20260627T180000
DTEND;TZID=America/Detroit:20260627T200000
DTSTAMP:20260420T164915
CREATED:20260419T180602Z
LAST-MODIFIED:20260419T180602Z
UID:10001200-1782583200-1782590400@www.benfieldwines.com
SUMMARY:Candle Making Workshop: Drink Edition!
DESCRIPTION:Drink Candle Making Workshop – Click HERE for tickets!\nShake things up with no bar skills required! 🤪\nIn this hands-on workshop\, you’ll create your very own drink-inspired candle that looks good enough to sip (but please don’t 😉). Choose from a variety of “cocktail” styles\, colors\, and faux garnishes to design a candle that mimics your favorite beverage—from creamy layered drinks to iced classics with all the finishing touches.\nWe’ll guide you step-by-step through the candle making process\, from pouring and layering to decorating with realistic toppings. Whether you’re coming with friends\, on a date\, or just treating yourself\, this workshop is equal parts creative\, relaxing\, and fun.\n✨ What’s included:\n• All candle-making supplies\n👉🏼We will be working with soy wax and gel wax!\n• Drink-style glassware\n( Different glassware to choose from)\n• Custom colors\, scents & toppings\n• Step-by-step instruction\n• One handcrafted drink candle & wax melts!\nPerfect for beginners and seasoned DIY lovers alike\, come pour some creativity! 🍸✨\nLimited seats available!
URL:https://www.benfieldwines.com/event/candle-making-workshop-drink-edition/
LOCATION:Benfield Wines\, 102 N Main St\, Swanton\, OH\, 43558\, United States
CATEGORIES:Art
ATTACH;FMTTYPE=image/jpeg:https://www.benfieldwines.com/wp-content/uploads/2026/04/candle-class.jpg
ORGANIZER;CN="Julia Benfield":MAILTO:julia@benfieldwines.com
GEO:41.58904;-83.890911
X-APPLE-STRUCTURED-LOCATION;VALUE=URI;X-ADDRESS=Benfield Wines 102 N Main St Swanton OH 43558 United States;X-APPLE-RADIUS=500;X-TITLE=102 N Main St:geo:-83.890911,41.58904
END:VEVENT
END:VCALENDAR