BEGIN:VCALENDAR
VERSION:2.0
PRODID:-//Benfield Wines - ECPv6.14.0//NONSGML v1.0//EN
CALSCALE:GREGORIAN
METHOD:PUBLISH
X-WR-CALNAME:Benfield Wines
X-ORIGINAL-URL:https://www.benfieldwines.com
X-WR-CALDESC:Events for Benfield Wines
REFRESH-INTERVAL;VALUE=DURATION:PT1H
X-Robots-Tag:noindex
X-PUBLISHED-TTL:PT1H
BEGIN:VTIMEZONE
TZID:America/Detroit
BEGIN:DAYLIGHT
TZOFFSETFROM:-0500
TZOFFSETTO:-0400
TZNAME:EDT
DTSTART:20260308T070000
END:DAYLIGHT
BEGIN:STANDARD
TZOFFSETFROM:-0400
TZOFFSETTO:-0500
TZNAME:EST
DTSTART:20261101T060000
END:STANDARD
END:VTIMEZONE
BEGIN:VEVENT
DTSTART;TZID=America/Detroit:20260513T190000
DTEND;TZID=America/Detroit:20260513T200000
DTSTAMP:20260420T042218
CREATED:20260223T214628Z
LAST-MODIFIED:20260223T214628Z
UID:10001182-1778698800-1778702400@www.benfieldwines.com
SUMMARY:Rockstar Music Bingo
DESCRIPTION:Bring your electronic device and have some fun with us! Free to play! Fun for all ages!
URL:https://www.benfieldwines.com/event/rockstar-music-bingo-20/2026-05-13/
LOCATION:Benfield Wines\, 102 N Main St\, Swanton\, OH\, 43558\, United States
CATEGORIES:Music
ATTACH;FMTTYPE=image/jpeg:https://www.benfieldwines.com/wp-content/uploads/2022/05/rockstar.jpg
ORGANIZER;CN="Julia Benfield":MAILTO:julia@benfieldwines.com
GEO:41.58904;-83.890911
X-APPLE-STRUCTURED-LOCATION;VALUE=URI;X-ADDRESS=Benfield Wines 102 N Main St Swanton OH 43558 United States;X-APPLE-RADIUS=500;X-TITLE=102 N Main St:geo:-83.890911,41.58904
END:VEVENT
BEGIN:VEVENT
DTSTART;TZID=America/Detroit:20260515T193000
DTEND;TZID=America/Detroit:20260515T213000
DTSTAMP:20260420T042218
CREATED:20260303T012731Z
LAST-MODIFIED:20260404T172050Z
UID:10001183-1778873400-1778880600@www.benfieldwines.com
SUMMARY:Celebrating Ohio Authors: 250 Years of Stories!
DESCRIPTION:Ohio is turning 250 and we’re celebrating with books\, wine\, and incredible local authors 🍷\nJoin Gathering Volumes at Benfield Wines for a special Ohio Creates event featuring a powerhouse lineup of Ohio writers:\n📚 Mindy McGinnis (YA)\n📚 E. M. Anderson (Cozy Fantasy)\n📚 Kristina Smith & Kevin Moore (Ohio History)\n📚 Kathryn Moon (Romantasy)\n📚 Anastasia Ryan (Humor)\nWhether you love romance\, fantasy\, YA\, or quirky nonfiction\, there’s something here for you.\nFor ticket\, click HERE\n🎟️ Ticket Options\nVIP Experience (6:30–9:30 PM) – $50\nOne glass of wine included\nGoody bag\nPrivate author talks\n$30 voucher for books\, food\, or drinks\nGeneral Admission (7:30–9:30 PM) – $25\nMeet the authors\nBook signings\n$25 voucher for books\, food\, or drinks\n💬 Why You Should Come\nCelebrate Ohio’s 250th anniversary\nSupport Ohio authors\nDiscover your next favorite book\nEnjoy a fun\, relaxed night out\nTickets are limited—grab yours before they’re gone!
URL:https://www.benfieldwines.com/event/celebrating-ohio-authors-250-years-of-stories/
LOCATION:Benfield Wines\, 102 N Main St\, Swanton\, OH\, 43558\, United States
CATEGORIES:Art
ATTACH;FMTTYPE=image/png:https://www.benfieldwines.com/wp-content/uploads/2026/03/Screenshot-2026-03-02-202523.png
ORGANIZER;CN="Julia Benfield":MAILTO:julia@benfieldwines.com
GEO:41.58904;-83.890911
X-APPLE-STRUCTURED-LOCATION;VALUE=URI;X-ADDRESS=Benfield Wines 102 N Main St Swanton OH 43558 United States;X-APPLE-RADIUS=500;X-TITLE=102 N Main St:geo:-83.890911,41.58904
END:VEVENT
BEGIN:VEVENT
DTSTART;TZID=America/Detroit:20260516T120000
DTEND;TZID=America/Detroit:20260516T170000
DTSTAMP:20260420T042218
CREATED:20260419T175616Z
LAST-MODIFIED:20260419T175720Z
UID:10001199-1778932800-1778950800@www.benfieldwines.com
SUMMARY:National Mimosa Day - Mimosa Flights!
DESCRIPTION:It’s National Mim-O-sa day! So let’s celebrate with some Mimosa flights! Pick your juice\, pick your bubbly\, and have some fun with us!
URL:https://www.benfieldwines.com/event/national-mimosa-day-mimosa-flights/
LOCATION:Benfield Wines\, 102 N Main St\, Swanton\, OH\, 43558\, United States
CATEGORIES:Special
ATTACH;FMTTYPE=image/jpeg:https://www.benfieldwines.com/wp-content/uploads/2026/04/mimosa3.jpg
ORGANIZER;CN="Julia Benfield":MAILTO:julia@benfieldwines.com
GEO:41.58904;-83.890911
X-APPLE-STRUCTURED-LOCATION;VALUE=URI;X-ADDRESS=Benfield Wines 102 N Main St Swanton OH 43558 United States;X-APPLE-RADIUS=500;X-TITLE=102 N Main St:geo:-83.890911,41.58904
END:VEVENT
BEGIN:VEVENT
DTSTART;TZID=America/Detroit:20260516T190000
DTEND;TZID=America/Detroit:20260516T203000
DTSTAMP:20260420T042218
CREATED:20260419T182341Z
LAST-MODIFIED:20260419T182341Z
UID:10001209-1778958000-1778963400@www.benfieldwines.com
SUMMARY:Rockstar Music Bingo - 60s\, 70s\, and 80s!
DESCRIPTION:Bring your electronic device and have some fun with us! Free to play\, fun for all ages!
URL:https://www.benfieldwines.com/event/rockstar-music-bingo-60s-70s-and-80s/
LOCATION:Benfield Wines\, 102 N Main St\, Swanton\, OH\, 43558\, United States
CATEGORIES:Special
ATTACH;FMTTYPE=image/jpeg:https://www.benfieldwines.com/wp-content/uploads/2022/05/rockstar.jpg
ORGANIZER;CN="Julia Benfield":MAILTO:julia@benfieldwines.com
GEO:41.58904;-83.890911
X-APPLE-STRUCTURED-LOCATION;VALUE=URI;X-ADDRESS=Benfield Wines 102 N Main St Swanton OH 43558 United States;X-APPLE-RADIUS=500;X-TITLE=102 N Main St:geo:-83.890911,41.58904
END:VEVENT
END:VCALENDAR