BEGIN:VCALENDAR
VERSION:2.0
PRODID:-//Benfield Wines - ECPv6.15.20//NONSGML v1.0//EN
CALSCALE:GREGORIAN
METHOD:PUBLISH
X-WR-CALNAME:Benfield Wines
X-ORIGINAL-URL:https://www.benfieldwines.com
X-WR-CALDESC:Events for Benfield Wines
REFRESH-INTERVAL;VALUE=DURATION:PT1H
X-Robots-Tag:noindex
X-PUBLISHED-TTL:PT1H
BEGIN:VTIMEZONE
TZID:America/Detroit
BEGIN:DAYLIGHT
TZOFFSETFROM:-0500
TZOFFSETTO:-0400
TZNAME:EDT
DTSTART:20210314T070000
END:DAYLIGHT
BEGIN:STANDARD
TZOFFSETFROM:-0400
TZOFFSETTO:-0500
TZNAME:EST
DTSTART:20211107T060000
END:STANDARD
BEGIN:DAYLIGHT
TZOFFSETFROM:-0500
TZOFFSETTO:-0400
TZNAME:EDT
DTSTART:20220313T070000
END:DAYLIGHT
BEGIN:STANDARD
TZOFFSETFROM:-0400
TZOFFSETTO:-0500
TZNAME:EST
DTSTART:20221106T060000
END:STANDARD
BEGIN:DAYLIGHT
TZOFFSETFROM:-0500
TZOFFSETTO:-0400
TZNAME:EDT
DTSTART:20230312T070000
END:DAYLIGHT
BEGIN:STANDARD
TZOFFSETFROM:-0400
TZOFFSETTO:-0500
TZNAME:EST
DTSTART:20231105T060000
END:STANDARD
END:VTIMEZONE
BEGIN:VEVENT
DTSTART;TZID=America/Detroit:20220621T173000
DTEND;TZID=America/Detroit:20220621T183000
DTSTAMP:20260424T081957
CREATED:20220617T192153Z
LAST-MODIFIED:20220617T192153Z
UID:10000430-1655832600-1655836200@www.benfieldwines.com
SUMMARY:Yogafit Core & Pour with Level Fitness
DESCRIPTION:Yogafit Core focuses on strengthening and stretching of the core muscles while using traditional yoga poses. This is a time to relax from your day and focus on your breathing and letting go of the demands of life. Yoga mats are provided. You can purchase from a wide selection of beer\, wine\, or Coke products. We will incorporate the beverages in our yoga movements. As we Inhale the aromas and Exhale our day to focus on ourselves. This class is an all inclusive\, everyone welcome environment. It is beginner poses\, however we will be moving from standing to mat positions throughout the class. Drink price NOT included in price of class\nClick HERE to register!
URL:https://www.benfieldwines.com/event/yogafit-core-pour-with-level-fitness/
LOCATION:Benfield Wines\, 102 N Main St\, Swanton\, OH\, 43558\, United States
CATEGORIES:Special
ATTACH;FMTTYPE=image/jpeg:https://www.benfieldwines.com/wp-content/uploads/2022/06/yoga.jpg
ORGANIZER;CN="Julia Benfield":MAILTO:julia@benfieldwines.com
GEO:41.58904;-83.890911
X-APPLE-STRUCTURED-LOCATION;VALUE=URI;X-ADDRESS=Benfield Wines 102 N Main St Swanton OH 43558 United States;X-APPLE-RADIUS=500;X-TITLE=102 N Main St:geo:-83.890911,41.58904
END:VEVENT
BEGIN:VEVENT
DTSTART;VALUE=DATE:20220618
DTEND;VALUE=DATE:20220619
DTSTAMP:20260424T081957
CREATED:20220530T221154Z
LAST-MODIFIED:20220530T221154Z
UID:10000426-1655510400-1655596799@www.benfieldwines.com
SUMMARY:CLOSED for a private event
DESCRIPTION:Closed for a private event
URL:https://www.benfieldwines.com/event/closed-for-a-private-event/
LOCATION:Benfield Wines\, 102 N Main St\, Swanton\, OH\, 43558\, United States
ATTACH;FMTTYPE=image/jpeg:https://www.benfieldwines.com/wp-content/uploads/2021/11/logo.jpg
ORGANIZER;CN="Julia Benfield":MAILTO:julia@benfieldwines.com
GEO:41.58904;-83.890911
X-APPLE-STRUCTURED-LOCATION;VALUE=URI;X-ADDRESS=Benfield Wines 102 N Main St Swanton OH 43558 United States;X-APPLE-RADIUS=500;X-TITLE=102 N Main St:geo:-83.890911,41.58904
END:VEVENT
BEGIN:VEVENT
DTSTART;TZID=America/Detroit:20220615T190000
DTEND;TZID=America/Detroit:20220615T200000
DTSTAMP:20260424T081957
CREATED:20220509T152331Z
LAST-MODIFIED:20220530T224411Z
UID:10000416-1655319600-1655323200@www.benfieldwines.com
SUMMARY:RockStar Bingo!
DESCRIPTION:Fun\, prizes\, music\, and food!\nNeed not be 21 to play\nFREE to play!
URL:https://www.benfieldwines.com/event/rockstar-bingo-4/2022-06-15/
LOCATION:Benfield Wines\, 102 N Main St\, Swanton\, OH\, 43558\, United States
CATEGORIES:Special
ATTACH;FMTTYPE=image/jpeg:https://www.benfieldwines.com/wp-content/uploads/2022/05/rockstar.jpg
ORGANIZER;CN="Julia Benfield":MAILTO:julia@benfieldwines.com
GEO:41.58904;-83.890911
X-APPLE-STRUCTURED-LOCATION;VALUE=URI;X-ADDRESS=Benfield Wines 102 N Main St Swanton OH 43558 United States;X-APPLE-RADIUS=500;X-TITLE=102 N Main St:geo:-83.890911,41.58904
END:VEVENT
BEGIN:VEVENT
DTSTART;TZID=America/Detroit:20220611T180000
DTEND;TZID=America/Detroit:20220611T210000
DTSTAMP:20260424T081957
CREATED:20220530T221053Z
LAST-MODIFIED:20220530T221053Z
UID:10000425-1654970400-1654981200@www.benfieldwines.com
SUMMARY:Music with Abbigale!
DESCRIPTION:Amazing music with outstanding wine\, wine slushies\, beer\, bourbon and food!
URL:https://www.benfieldwines.com/event/music-with-abbigale-7/
LOCATION:Benfield Wines\, 102 N Main St\, Swanton\, OH\, 43558\, United States
CATEGORIES:Music
ATTACH;FMTTYPE=image/jpeg:https://www.benfieldwines.com/wp-content/uploads/2021/04/Abbigale.jpg
ORGANIZER;CN="Julia Benfield":MAILTO:julia@benfieldwines.com
GEO:41.58904;-83.890911
X-APPLE-STRUCTURED-LOCATION;VALUE=URI;X-ADDRESS=Benfield Wines 102 N Main St Swanton OH 43558 United States;X-APPLE-RADIUS=500;X-TITLE=102 N Main St:geo:-83.890911,41.58904
END:VEVENT
BEGIN:VEVENT
DTSTART;TZID=America/Detroit:20220611T143000
DTEND;TZID=America/Detroit:20220611T163000
DTSTAMP:20260424T081957
CREATED:20220530T220453Z
LAST-MODIFIED:20220530T220453Z
UID:10000424-1654957800-1654965000@www.benfieldwines.com
SUMMARY:Paintin’ with Posh: Patriotic Pride
DESCRIPTION:Click HERE the link to see all 5 design choices and to register.\nTickets are available for pre-sale only!
URL:https://www.benfieldwines.com/event/paintin-with-posh-patriotic-pride/
LOCATION:Benfield Wines\, 102 N Main St\, Swanton\, OH\, 43558\, United States
CATEGORIES:Art
ATTACH;FMTTYPE=image/jpeg:https://www.benfieldwines.com/wp-content/uploads/2022/05/283398144_2934215730209508_665489727610500738_n.jpg
ORGANIZER;CN="Julia Benfield":MAILTO:julia@benfieldwines.com
GEO:41.58904;-83.890911
X-APPLE-STRUCTURED-LOCATION;VALUE=URI;X-ADDRESS=Benfield Wines 102 N Main St Swanton OH 43558 United States;X-APPLE-RADIUS=500;X-TITLE=102 N Main St:geo:-83.890911,41.58904
END:VEVENT
BEGIN:VEVENT
DTSTART;TZID=America/Detroit:20220610T190000
DTEND;TZID=America/Detroit:20220610T210000
DTSTAMP:20260424T081957
CREATED:20220415T221742Z
LAST-MODIFIED:20220415T223029Z
UID:10000399-1654887600-1654894800@www.benfieldwines.com
SUMMARY:Hangin' with my Gnomies
DESCRIPTION:Come hang with YOUR gnomies and make some gnomes!\n2/$30\n•Specify when signing up which 2 gnomes you’d like (choices in pictures).\n If you don’t\, we’ll have a variety of options available for you the day of the class to choose from.
URL:https://www.benfieldwines.com/event/hangin-with-my-gnomies/
LOCATION:Benfield Wines\, 102 N Main St\, Swanton\, OH\, 43558\, United States
CATEGORIES:Art
ATTACH;FMTTYPE=image/jpeg:https://www.benfieldwines.com/wp-content/uploads/2022/04/gnomes.jpg
ORGANIZER;CN="Julia Benfield":MAILTO:julia@benfieldwines.com
GEO:41.58904;-83.890911
X-APPLE-STRUCTURED-LOCATION;VALUE=URI;X-ADDRESS=Benfield Wines 102 N Main St Swanton OH 43558 United States;X-APPLE-RADIUS=500;X-TITLE=102 N Main St:geo:-83.890911,41.58904
END:VEVENT
BEGIN:VEVENT
DTSTART;TZID=America/Detroit:20220609T183000
DTEND;TZID=America/Detroit:20220609T203000
DTSTAMP:20260424T081957
CREATED:20220306T152654Z
LAST-MODIFIED:20220306T154359Z
UID:10000379-1654799400-1654806600@www.benfieldwines.com
SUMMARY:Summer Fun Painting Class
DESCRIPTION:Come Paint with Us!\nSucculent pots 3 for $37 or 6 for $57 (3 inch pots- succulents included)\nRounds $45\nNoodle boards/stove covers – $77 (include your stove size when registering or we will use standard stove size measurements)\n$37 due at the time of registration – balance due at class\nPLEASE COMMENT IN REGISTRATION AS TO WHICH PROJECT YOU WOULD LIKE TO DO & PERSONALIZATION.\nNo outside alcohol\nNo refunds
URL:https://www.benfieldwines.com/event/summer-fun-painting-class/
LOCATION:Benfield Wines\, 102 N Main St\, Swanton\, OH\, 43558\, United States
CATEGORIES:Art
ATTACH;FMTTYPE=image/jpeg:https://www.benfieldwines.com/wp-content/uploads/2022/03/Summer-fun.jpg
ORGANIZER;CN="Julia Benfield":MAILTO:julia@benfieldwines.com
GEO:41.58904;-83.890911
X-APPLE-STRUCTURED-LOCATION;VALUE=URI;X-ADDRESS=Benfield Wines 102 N Main St Swanton OH 43558 United States;X-APPLE-RADIUS=500;X-TITLE=102 N Main St:geo:-83.890911,41.58904
END:VEVENT
BEGIN:VEVENT
DTSTART;TZID=America/Detroit:20220608T190000
DTEND;TZID=America/Detroit:20220608T200000
DTSTAMP:20260424T081957
CREATED:20220509T152331Z
LAST-MODIFIED:20220530T224411Z
UID:10000415-1654714800-1654718400@www.benfieldwines.com
SUMMARY:RockStar Bingo!
DESCRIPTION:Fun\, prizes\, music\, and food!\nNeed not be 21 to play\nFREE to play!
URL:https://www.benfieldwines.com/event/rockstar-bingo-4/2022-06-08/
LOCATION:Benfield Wines\, 102 N Main St\, Swanton\, OH\, 43558\, United States
CATEGORIES:Special
ATTACH;FMTTYPE=image/jpeg:https://www.benfieldwines.com/wp-content/uploads/2022/05/rockstar.jpg
ORGANIZER;CN="Julia Benfield":MAILTO:julia@benfieldwines.com
GEO:41.58904;-83.890911
X-APPLE-STRUCTURED-LOCATION;VALUE=URI;X-ADDRESS=Benfield Wines 102 N Main St Swanton OH 43558 United States;X-APPLE-RADIUS=500;X-TITLE=102 N Main St:geo:-83.890911,41.58904
END:VEVENT
BEGIN:VEVENT
DTSTART;TZID=America/Detroit:20220604T180000
DTEND;TZID=America/Detroit:20220604T210000
DTSTAMP:20260424T081957
CREATED:20220530T211127Z
LAST-MODIFIED:20220530T211844Z
UID:10000423-1654365600-1654376400@www.benfieldwines.com
SUMMARY:Music with Sarah Brosch
DESCRIPTION:Great music\, great beer\, wine\, wine slushies\, bourbon\, and food!\nMusic 6-9pm
URL:https://www.benfieldwines.com/event/music-with-sarah-brosch-3/
LOCATION:Benfield Wines\, 102 N Main St\, Swanton\, OH\, 43558\, United States
CATEGORIES:Music
ATTACH;FMTTYPE=image/jpeg:https://www.benfieldwines.com/wp-content/uploads/2021/07/Sarah-Brosch.jpg
ORGANIZER;CN="Julia Benfield":MAILTO:julia@benfieldwines.com
GEO:41.58904;-83.890911
X-APPLE-STRUCTURED-LOCATION;VALUE=URI;X-ADDRESS=Benfield Wines 102 N Main St Swanton OH 43558 United States;X-APPLE-RADIUS=500;X-TITLE=102 N Main St:geo:-83.890911,41.58904
END:VEVENT
BEGIN:VEVENT
DTSTART;TZID=America/Detroit:20220604T090000
DTEND;TZID=America/Detroit:20220604T130000
DTSTAMP:20260424T081957
CREATED:20220530T223443Z
LAST-MODIFIED:20220530T223443Z
UID:10000429-1654333200-1654347600@www.benfieldwines.com
SUMMARY:Swanton Downtown Market
DESCRIPTION:Saucy Slamwich Food Truck\, vendors\, music\, and more!
URL:https://www.benfieldwines.com/event/swanton-downtown-market/
LOCATION:Benfield Wines\, 102 N Main St\, Swanton\, OH\, 43558\, United States
CATEGORIES:Special
ATTACH;FMTTYPE=image/jpeg:https://www.benfieldwines.com/wp-content/uploads/2022/05/FM-banner.jpg
ORGANIZER;CN="Julia Benfield":MAILTO:julia@benfieldwines.com
GEO:41.58904;-83.890911
X-APPLE-STRUCTURED-LOCATION;VALUE=URI;X-ADDRESS=Benfield Wines 102 N Main St Swanton OH 43558 United States;X-APPLE-RADIUS=500;X-TITLE=102 N Main St:geo:-83.890911,41.58904
END:VEVENT
BEGIN:VEVENT
DTSTART;TZID=America/Detroit:20220603T183000
DTEND;TZID=America/Detroit:20220603T213000
DTSTAMP:20260424T081957
CREATED:20220416T152732Z
LAST-MODIFIED:20220530T212208Z
UID:10000400-1654281000-1654291800@www.benfieldwines.com
SUMMARY:Music with Tammy and Dan
DESCRIPTION:Great music with amazing wine\, beer\, and bourbon!
URL:https://www.benfieldwines.com/event/music-with-tammy-and-dan/
LOCATION:Benfield Wines\, 102 N Main St\, Swanton\, OH\, 43558\, United States
CATEGORIES:Music
ATTACH;FMTTYPE=image/jpeg:https://www.benfieldwines.com/wp-content/uploads/2022/03/Dan-and-Tammy.jpg
ORGANIZER;CN="Julia Benfield":MAILTO:julia@benfieldwines.com
GEO:41.58904;-83.890911
X-APPLE-STRUCTURED-LOCATION;VALUE=URI;X-ADDRESS=Benfield Wines 102 N Main St Swanton OH 43558 United States;X-APPLE-RADIUS=500;X-TITLE=102 N Main St:geo:-83.890911,41.58904
END:VEVENT
BEGIN:VEVENT
DTSTART;TZID=America/Detroit:20220601T190000
DTEND;TZID=America/Detroit:20220601T200000
DTSTAMP:20260424T081957
CREATED:20220509T152331Z
LAST-MODIFIED:20220530T224411Z
UID:10000414-1654110000-1654113600@www.benfieldwines.com
SUMMARY:RockStar Bingo!
DESCRIPTION:Fun\, prizes\, music\, and food!\nNeed not be 21 to play\nFREE to play!
URL:https://www.benfieldwines.com/event/rockstar-bingo-4/2022-06-01/
LOCATION:Benfield Wines\, 102 N Main St\, Swanton\, OH\, 43558\, United States
CATEGORIES:Special
ATTACH;FMTTYPE=image/jpeg:https://www.benfieldwines.com/wp-content/uploads/2022/05/rockstar.jpg
ORGANIZER;CN="Julia Benfield":MAILTO:julia@benfieldwines.com
GEO:41.58904;-83.890911
X-APPLE-STRUCTURED-LOCATION;VALUE=URI;X-ADDRESS=Benfield Wines 102 N Main St Swanton OH 43558 United States;X-APPLE-RADIUS=500;X-TITLE=102 N Main St:geo:-83.890911,41.58904
END:VEVENT
BEGIN:VEVENT
DTSTART;TZID=America/Detroit:20220528T180000
DTEND;TZID=America/Detroit:20220528T210000
DTSTAMP:20260424T081957
CREATED:20220403T204954Z
LAST-MODIFIED:20220403T204954Z
UID:10000393-1653760800-1653771600@www.benfieldwines.com
SUMMARY:Music with Dragonfly
DESCRIPTION:amazing music with great wine\, beer\, bourbon and food
URL:https://www.benfieldwines.com/event/music-with-dragonfly-9/
LOCATION:Benfield Wines\, 102 N Main St\, Swanton\, OH\, 43558\, United States
CATEGORIES:Music
ATTACH;FMTTYPE=image/jpeg:https://www.benfieldwines.com/wp-content/uploads/2021/01/dragonfly.jpg
ORGANIZER;CN="Julia Benfield":MAILTO:julia@benfieldwines.com
GEO:41.58904;-83.890911
X-APPLE-STRUCTURED-LOCATION;VALUE=URI;X-ADDRESS=Benfield Wines 102 N Main St Swanton OH 43558 United States;X-APPLE-RADIUS=500;X-TITLE=102 N Main St:geo:-83.890911,41.58904
END:VEVENT
BEGIN:VEVENT
DTSTART;TZID=America/Detroit:20220527T180000
DTEND;TZID=America/Detroit:20220527T210000
DTSTAMP:20260424T081957
CREATED:20220506T215128Z
LAST-MODIFIED:20220509T195315Z
UID:10000409-1653674400-1653685200@www.benfieldwines.com
SUMMARY:An Evening with Medium Sirena La Point
DESCRIPTION:These events are limited seating so that Sirena may make as many connections as possible but remember a message is not guaranteed!\nNo outside alcohol\, please.
URL:https://www.benfieldwines.com/event/an-evening-with-medium-sirena-la-point/
LOCATION:Benfield Wines\, 102 N Main St\, Swanton\, OH\, 43558\, United States
CATEGORIES:Special
ATTACH;FMTTYPE=image/jpeg:https://www.benfieldwines.com/wp-content/uploads/2022/01/272118550_2015991425234887_1557872486365772178_n.jpg
ORGANIZER;CN="Julia Benfield":MAILTO:julia@benfieldwines.com
GEO:41.58904;-83.890911
X-APPLE-STRUCTURED-LOCATION;VALUE=URI;X-ADDRESS=Benfield Wines 102 N Main St Swanton OH 43558 United States;X-APPLE-RADIUS=500;X-TITLE=102 N Main St:geo:-83.890911,41.58904
END:VEVENT
BEGIN:VEVENT
DTSTART;TZID=America/Detroit:20220525T190000
DTEND;TZID=America/Detroit:20220525T200000
DTSTAMP:20260424T081957
CREATED:20220509T152331Z
LAST-MODIFIED:20220530T224411Z
UID:10000413-1653505200-1653508800@www.benfieldwines.com
SUMMARY:RockStar Bingo!
DESCRIPTION:Fun\, prizes\, music\, and food!\nNeed not be 21 to play\nFREE to play!
URL:https://www.benfieldwines.com/event/rockstar-bingo-4/2022-05-25/
LOCATION:Benfield Wines\, 102 N Main St\, Swanton\, OH\, 43558\, United States
CATEGORIES:Special
ATTACH;FMTTYPE=image/jpeg:https://www.benfieldwines.com/wp-content/uploads/2022/05/rockstar.jpg
ORGANIZER;CN="Julia Benfield":MAILTO:julia@benfieldwines.com
GEO:41.58904;-83.890911
X-APPLE-STRUCTURED-LOCATION;VALUE=URI;X-ADDRESS=Benfield Wines 102 N Main St Swanton OH 43558 United States;X-APPLE-RADIUS=500;X-TITLE=102 N Main St:geo:-83.890911,41.58904
END:VEVENT
BEGIN:VEVENT
DTSTART;TZID=America/Detroit:20220521T180000
DTEND;TZID=America/Detroit:20220521T210000
DTSTAMP:20260424T081957
CREATED:20220403T202401Z
LAST-MODIFIED:20220403T202821Z
UID:10000392-1653156000-1653166800@www.benfieldwines.com
SUMMARY:Music with Tim Oehlers
DESCRIPTION:great music with amazing wine\, beer\, bourbon and food!
URL:https://www.benfieldwines.com/event/music-with-tim-oehlers-4/
LOCATION:Benfield Wines\, 102 N Main St\, Swanton\, OH\, 43558\, United States
CATEGORIES:Music
ATTACH;FMTTYPE=image/jpeg:https://www.benfieldwines.com/wp-content/uploads/2021/03/tim.jpg
ORGANIZER;CN="Julia Benfield":MAILTO:julia@benfieldwines.com
GEO:41.58904;-83.890911
X-APPLE-STRUCTURED-LOCATION;VALUE=URI;X-ADDRESS=Benfield Wines 102 N Main St Swanton OH 43558 United States;X-APPLE-RADIUS=500;X-TITLE=102 N Main St:geo:-83.890911,41.58904
END:VEVENT
BEGIN:VEVENT
DTSTART;TZID=America/Detroit:20220519T183000
DTEND;TZID=America/Detroit:20220519T203000
DTSTAMP:20260424T081957
CREATED:20220310T235152Z
LAST-MODIFIED:20220310T235152Z
UID:10000382-1652985000-1652992200@www.benfieldwines.com
SUMMARY:Charcuterie Board Class May 19th
DESCRIPTION:Come cook with Lulu Fare! Multiple recipes for dips to go with your charcuterie board!\nGrab a friend for a relaxing afternoon and learn to build a great charcuterie tray!
URL:https://www.benfieldwines.com/event/charcuterie-board-class-may-19th/
LOCATION:Benfield Wines\, 102 N Main St\, Swanton\, OH\, 43558\, United States
CATEGORIES:Special
ORGANIZER;CN="Julia Benfield":MAILTO:julia@benfieldwines.com
GEO:41.58904;-83.890911
X-APPLE-STRUCTURED-LOCATION;VALUE=URI;X-ADDRESS=Benfield Wines 102 N Main St Swanton OH 43558 United States;X-APPLE-RADIUS=500;X-TITLE=102 N Main St:geo:-83.890911,41.58904
END:VEVENT
BEGIN:VEVENT
DTSTART;TZID=America/Detroit:20220518T190000
DTEND;TZID=America/Detroit:20220518T200000
DTSTAMP:20260424T081957
CREATED:20220509T152331Z
LAST-MODIFIED:20220530T224411Z
UID:10000412-1652900400-1652904000@www.benfieldwines.com
SUMMARY:RockStar Bingo!
DESCRIPTION:Fun\, prizes\, music\, and food!\nNeed not be 21 to play\nFREE to play!
URL:https://www.benfieldwines.com/event/rockstar-bingo-4/2022-05-18/
LOCATION:Benfield Wines\, 102 N Main St\, Swanton\, OH\, 43558\, United States
CATEGORIES:Special
ATTACH;FMTTYPE=image/jpeg:https://www.benfieldwines.com/wp-content/uploads/2022/05/rockstar.jpg
ORGANIZER;CN="Julia Benfield":MAILTO:julia@benfieldwines.com
GEO:41.58904;-83.890911
X-APPLE-STRUCTURED-LOCATION;VALUE=URI;X-ADDRESS=Benfield Wines 102 N Main St Swanton OH 43558 United States;X-APPLE-RADIUS=500;X-TITLE=102 N Main St:geo:-83.890911,41.58904
END:VEVENT
BEGIN:VEVENT
DTSTART;TZID=America/Detroit:20220514T180000
DTEND;TZID=America/Detroit:20220514T210000
DTSTAMP:20260424T081957
CREATED:20220403T200938Z
LAST-MODIFIED:20220403T201554Z
UID:10000391-1652551200-1652562000@www.benfieldwines.com
SUMMARY:Music with Jen and John
DESCRIPTION:amazing music with great wine\, beer\, bourbon and food
URL:https://www.benfieldwines.com/event/music-with-jen-and-john/
LOCATION:Benfield Wines\, 102 N Main St\, Swanton\, OH\, 43558\, United States
CATEGORIES:Music
ATTACH;FMTTYPE=image/jpeg:https://www.benfieldwines.com/wp-content/uploads/2021/04/Jenn-and-John.jpg
ORGANIZER;CN="Julia Benfield":MAILTO:julia@benfieldwines.com
GEO:41.58904;-83.890911
X-APPLE-STRUCTURED-LOCATION;VALUE=URI;X-ADDRESS=Benfield Wines 102 N Main St Swanton OH 43558 United States;X-APPLE-RADIUS=500;X-TITLE=102 N Main St:geo:-83.890911,41.58904
END:VEVENT
BEGIN:VEVENT
DTSTART;TZID=America/Detroit:20220514T120000
DTEND;TZID=America/Detroit:20220514T140000
DTSTAMP:20260424T081957
CREATED:20220310T234300Z
LAST-MODIFIED:20220310T234300Z
UID:10000381-1652529600-1652536800@www.benfieldwines.com
SUMMARY:Brunch Charcuterie Board Class
DESCRIPTION:Come cook with Lulu Fare! Multiple recipes for dips to go with your charcuterie board!\nGrab a friend for a relaxing afternoon and learn to build a great charcuterie tray!
URL:https://www.benfieldwines.com/event/brunch-charcuterie-board-class/
LOCATION:Benfield Wines\, 102 N Main St\, Swanton\, OH\, 43558\, United States
CATEGORIES:Special
ORGANIZER;CN="Julia Benfield":MAILTO:julia@benfieldwines.com
GEO:41.58904;-83.890911
X-APPLE-STRUCTURED-LOCATION;VALUE=URI;X-ADDRESS=Benfield Wines 102 N Main St Swanton OH 43558 United States;X-APPLE-RADIUS=500;X-TITLE=102 N Main St:geo:-83.890911,41.58904
END:VEVENT
BEGIN:VEVENT
DTSTART;TZID=America/Detroit:20220513T180000
DTEND;TZID=America/Detroit:20220513T210000
DTSTAMP:20260424T081957
CREATED:20220319T144437Z
LAST-MODIFIED:20220319T144437Z
UID:10000384-1652464800-1652475600@www.benfieldwines.com
SUMMARY:Music with Chris Knopp!
DESCRIPTION:Great Music with amazing wine\, beer\, bourbon and food!
URL:https://www.benfieldwines.com/event/music-with-chris-knopp-3/
LOCATION:Benfield Wines\, 102 N Main St\, Swanton\, OH\, 43558\, United States
CATEGORIES:Music
ATTACH;FMTTYPE=image/jpeg:https://www.benfieldwines.com/wp-content/uploads/2021/04/chris-knopp.jpg
ORGANIZER;CN="Julia Benfield":MAILTO:julia@benfieldwines.com
GEO:41.58904;-83.890911
X-APPLE-STRUCTURED-LOCATION;VALUE=URI;X-ADDRESS=Benfield Wines 102 N Main St Swanton OH 43558 United States;X-APPLE-RADIUS=500;X-TITLE=102 N Main St:geo:-83.890911,41.58904
END:VEVENT
BEGIN:VEVENT
DTSTART;TZID=America/Detroit:20220512T183000
DTEND;TZID=America/Detroit:20220512T210000
DTSTAMP:20260424T081957
CREATED:20220416T174639Z
LAST-MODIFIED:20220416T174639Z
UID:10000405-1652380200-1652389200@www.benfieldwines.com
SUMMARY:Paintin' with Posh!
DESCRIPTION:Get your tickets HERE\nAll of your supplies are waiting for you to create your very own masterpiece. Hang on to your paintbrush for a night of ARTSY fun!
URL:https://www.benfieldwines.com/event/paintin-with-posh/
LOCATION:Benfield Wines\, 102 N Main St\, Swanton\, OH\, 43558\, United States
CATEGORIES:Art
ATTACH;FMTTYPE=image/jpeg:https://www.benfieldwines.com/wp-content/uploads/2022/04/https___cdn.evbuc_.com_images_267905509_545211552207_1_original.jpg
ORGANIZER;CN="Julia Benfield":MAILTO:julia@benfieldwines.com
GEO:41.58904;-83.890911
X-APPLE-STRUCTURED-LOCATION;VALUE=URI;X-ADDRESS=Benfield Wines 102 N Main St Swanton OH 43558 United States;X-APPLE-RADIUS=500;X-TITLE=102 N Main St:geo:-83.890911,41.58904
END:VEVENT
BEGIN:VEVENT
DTSTART;TZID=America/Detroit:20220511T190000
DTEND;TZID=America/Detroit:20220511T200000
DTSTAMP:20260424T081957
CREATED:20220509T152331Z
LAST-MODIFIED:20220530T224411Z
UID:10000411-1652295600-1652299200@www.benfieldwines.com
SUMMARY:RockStar Bingo!
DESCRIPTION:Fun\, prizes\, music\, and food!\nNeed not be 21 to play\nFREE to play!
URL:https://www.benfieldwines.com/event/rockstar-bingo-4/2022-05-11/
LOCATION:Benfield Wines\, 102 N Main St\, Swanton\, OH\, 43558\, United States
CATEGORIES:Special
ATTACH;FMTTYPE=image/jpeg:https://www.benfieldwines.com/wp-content/uploads/2022/05/rockstar.jpg
ORGANIZER;CN="Julia Benfield":MAILTO:julia@benfieldwines.com
GEO:41.58904;-83.890911
X-APPLE-STRUCTURED-LOCATION;VALUE=URI;X-ADDRESS=Benfield Wines 102 N Main St Swanton OH 43558 United States;X-APPLE-RADIUS=500;X-TITLE=102 N Main St:geo:-83.890911,41.58904
END:VEVENT
BEGIN:VEVENT
DTSTART;TZID=America/Detroit:20220507T180000
DTEND;TZID=America/Detroit:20220507T210000
DTSTAMP:20260424T081957
CREATED:20220403T195719Z
LAST-MODIFIED:20220403T195719Z
UID:10000390-1651946400-1651957200@www.benfieldwines.com
SUMMARY:Music with the Great Ramona Collins
DESCRIPTION:amazing music with great wine\, beer\, bourbon and food!
URL:https://www.benfieldwines.com/event/music-with-the-great-ramona-collins-2/
LOCATION:Benfield Wines\, 102 N Main St\, Swanton\, OH\, 43558\, United States
CATEGORIES:Music
ATTACH;FMTTYPE=image/jpeg:https://www.benfieldwines.com/wp-content/uploads/2021/04/ramonac.jpg
ORGANIZER;CN="Julia Benfield":MAILTO:julia@benfieldwines.com
GEO:41.58904;-83.890911
X-APPLE-STRUCTURED-LOCATION;VALUE=URI;X-ADDRESS=Benfield Wines 102 N Main St Swanton OH 43558 United States;X-APPLE-RADIUS=500;X-TITLE=102 N Main St:geo:-83.890911,41.58904
END:VEVENT
BEGIN:VEVENT
DTSTART;TZID=America/Detroit:20220506T180000
DTEND;TZID=America/Detroit:20220506T210000
DTSTAMP:20260424T081957
CREATED:20220118T172236Z
LAST-MODIFIED:20220418T131142Z
UID:10000368-1651860000-1651870800@www.benfieldwines.com
SUMMARY:Lifelines & Benfield Wines: An Evening with Medium Sirena La Point - SOLD OUT
DESCRIPTION:These events are limited seating so that Sirena may make as many connections as possible but remember a message is not guaranteed!\nNo outside alcohol\, please.
URL:https://www.benfieldwines.com/event/lifelines-benfield-wines-an-evening-with-medium-sirena-la-point/
LOCATION:Benfield Wines\, 102 N Main St\, Swanton\, OH\, 43558\, United States
CATEGORIES:Special
ATTACH;FMTTYPE=image/jpeg:https://www.benfieldwines.com/wp-content/uploads/2022/01/272118550_2015991425234887_1557872486365772178_n.jpg
ORGANIZER;CN="Julia Benfield":MAILTO:julia@benfieldwines.com
GEO:41.58904;-83.890911
X-APPLE-STRUCTURED-LOCATION;VALUE=URI;X-ADDRESS=Benfield Wines 102 N Main St Swanton OH 43558 United States;X-APPLE-RADIUS=500;X-TITLE=102 N Main St:geo:-83.890911,41.58904
END:VEVENT
BEGIN:VEVENT
DTSTART;TZID=America/Detroit:20220505T150000
DTEND;TZID=America/Detroit:20220505T200000
DTSTAMP:20260424T081957
CREATED:20220410T194235Z
LAST-MODIFIED:20220410T194235Z
UID:10000397-1651762800-1651780800@www.benfieldwines.com
SUMMARY:Love Potion Wine Release
DESCRIPTION:Mom called – this is what she wants for Mother’s Day! Our amazing Chocolate Raspberry port!!\nGet it quick!  Supplies ALWAYS run out FAST!
URL:https://www.benfieldwines.com/event/love-potion-wine-release/
LOCATION:Benfield Wines\, 102 N Main St\, Swanton\, OH\, 43558\, United States
CATEGORIES:Special
ATTACH;FMTTYPE=image/jpeg:https://www.benfieldwines.com/wp-content/uploads/2022/04/love-potion.jpg
ORGANIZER;CN="Julia Benfield":MAILTO:julia@benfieldwines.com
GEO:41.58904;-83.890911
X-APPLE-STRUCTURED-LOCATION;VALUE=URI;X-ADDRESS=Benfield Wines 102 N Main St Swanton OH 43558 United States;X-APPLE-RADIUS=500;X-TITLE=102 N Main St:geo:-83.890911,41.58904
END:VEVENT
BEGIN:VEVENT
DTSTART;TZID=America/Detroit:20220504T190000
DTEND;TZID=America/Detroit:20220504T200000
DTSTAMP:20260424T081957
CREATED:20220416T163432Z
LAST-MODIFIED:20220416T163432Z
UID:10000404-1651690800-1651694400@www.benfieldwines.com
SUMMARY:Rockstar Bingo!
DESCRIPTION:Bingo with a twist! It’s music instead of numbers!  Fun\, prizes\, music and wine/beer/bourbon!
URL:https://www.benfieldwines.com/event/rockstar-bingo-3/
LOCATION:Benfield Wines\, 102 N Main St\, Swanton\, OH\, 43558\, United States
CATEGORIES:Special
ATTACH;FMTTYPE=image/jpeg:https://www.benfieldwines.com/wp-content/uploads/2022/04/Rockstar-Bingo.jpg
ORGANIZER;CN="Julia Benfield":MAILTO:julia@benfieldwines.com
GEO:41.58904;-83.890911
X-APPLE-STRUCTURED-LOCATION;VALUE=URI;X-ADDRESS=Benfield Wines 102 N Main St Swanton OH 43558 United States;X-APPLE-RADIUS=500;X-TITLE=102 N Main St:geo:-83.890911,41.58904
END:VEVENT
BEGIN:VEVENT
DTSTART;TZID=America/Detroit:20220430T180000
DTEND;TZID=America/Detroit:20220430T210000
DTSTAMP:20260424T081957
CREATED:20220403T182236Z
LAST-MODIFIED:20220427T231228Z
UID:10000389-1651341600-1651352400@www.benfieldwines.com
SUMMARY:Music with Jim Young & Scott Lavender!
DESCRIPTION:The amazing voice of Jim Young accompanied by world renowned pianist and conductor Scott Lavender!
URL:https://www.benfieldwines.com/event/music-with-jim-young-scott-lavender/
LOCATION:Benfield Wines\, 102 N Main St\, Swanton\, OH\, 43558\, United States
CATEGORIES:Music
ATTACH;FMTTYPE=image/jpeg:https://www.benfieldwines.com/wp-content/uploads/2022/04/young.jpg
ORGANIZER;CN="Julia Benfield":MAILTO:julia@benfieldwines.com
GEO:41.58904;-83.890911
X-APPLE-STRUCTURED-LOCATION;VALUE=URI;X-ADDRESS=Benfield Wines 102 N Main St Swanton OH 43558 United States;X-APPLE-RADIUS=500;X-TITLE=102 N Main St:geo:-83.890911,41.58904
END:VEVENT
BEGIN:VEVENT
DTSTART;TZID=America/Detroit:20220429T190000
DTEND;TZID=America/Detroit:20220429T210000
DTSTAMP:20260424T081957
CREATED:20220213T152822Z
LAST-MODIFIED:20220427T131413Z
UID:10000370-1651258800-1651266000@www.benfieldwines.com
SUMMARY:Spring/Summer Painting Class!
DESCRIPTION:Large Flower Box $62\nFlower box with porch board attached\, $72\nDog porch board $52\nRounds $42\n$42 due at time of registration – remainder due at class\nPLEASE COMMENT IN REGISTRATION AS TO WHICH PROJECT YOU WOULD LIKE TO DO.\nNo outside alcohol\nNo refunds
URL:https://www.benfieldwines.com/event/spring-summer-painting-class/
LOCATION:Benfield Wines\, 102 N Main St\, Swanton\, OH\, 43558\, United States
CATEGORIES:Art
ATTACH;FMTTYPE=image/png:https://www.benfieldwines.com/wp-content/uploads/2022/02/Capture.png
ORGANIZER;CN="Julia Benfield":MAILTO:julia@benfieldwines.com
GEO:41.58904;-83.890911
X-APPLE-STRUCTURED-LOCATION;VALUE=URI;X-ADDRESS=Benfield Wines 102 N Main St Swanton OH 43558 United States;X-APPLE-RADIUS=500;X-TITLE=102 N Main St:geo:-83.890911,41.58904
END:VEVENT
BEGIN:VEVENT
DTSTART;TZID=America/Detroit:20220427T190000
DTEND;TZID=America/Detroit:20220427T200000
DTSTAMP:20260424T081957
CREATED:20220416T162139Z
LAST-MODIFIED:20220416T162139Z
UID:10000403-1651086000-1651089600@www.benfieldwines.com
SUMMARY:Rockstar Bingo
DESCRIPTION:Bingo with a twist! Instead of numbers it’s songs!! Music\, Prizes and Fun!
URL:https://www.benfieldwines.com/event/rockstar-bingo-2/
LOCATION:Benfield Wines\, 102 N Main St\, Swanton\, OH\, 43558\, United States
CATEGORIES:Special
ATTACH;FMTTYPE=image/jpeg:https://www.benfieldwines.com/wp-content/uploads/2022/04/Rockstar-Bingo.jpg
ORGANIZER;CN="Julia Benfield":MAILTO:julia@benfieldwines.com
GEO:41.58904;-83.890911
X-APPLE-STRUCTURED-LOCATION;VALUE=URI;X-ADDRESS=Benfield Wines 102 N Main St Swanton OH 43558 United States;X-APPLE-RADIUS=500;X-TITLE=102 N Main St:geo:-83.890911,41.58904
END:VEVENT
END:VCALENDAR