BEGIN:VCALENDAR
VERSION:2.0
PRODID:-//Benfield Wines - ECPv6.15.20//NONSGML v1.0//EN
CALSCALE:GREGORIAN
METHOD:PUBLISH
X-WR-CALNAME:Benfield Wines
X-ORIGINAL-URL:https://www.benfieldwines.com
X-WR-CALDESC:Events for Benfield Wines
REFRESH-INTERVAL;VALUE=DURATION:PT1H
X-Robots-Tag:noindex
X-PUBLISHED-TTL:PT1H
BEGIN:VTIMEZONE
TZID:America/Detroit
BEGIN:DAYLIGHT
TZOFFSETFROM:-0500
TZOFFSETTO:-0400
TZNAME:EDT
DTSTART:20230312T070000
END:DAYLIGHT
BEGIN:STANDARD
TZOFFSETFROM:-0400
TZOFFSETTO:-0500
TZNAME:EST
DTSTART:20231105T060000
END:STANDARD
BEGIN:DAYLIGHT
TZOFFSETFROM:-0500
TZOFFSETTO:-0400
TZNAME:EDT
DTSTART:20240310T070000
END:DAYLIGHT
BEGIN:STANDARD
TZOFFSETFROM:-0400
TZOFFSETTO:-0500
TZNAME:EST
DTSTART:20241103T060000
END:STANDARD
BEGIN:DAYLIGHT
TZOFFSETFROM:-0500
TZOFFSETTO:-0400
TZNAME:EDT
DTSTART:20250309T070000
END:DAYLIGHT
BEGIN:STANDARD
TZOFFSETFROM:-0400
TZOFFSETTO:-0500
TZNAME:EST
DTSTART:20251102T060000
END:STANDARD
END:VTIMEZONE
BEGIN:VEVENT
DTSTART;TZID=America/Detroit:20240302T180000
DTEND;TZID=America/Detroit:20240302T210000
DTSTAMP:20260422T184251
CREATED:20240211T170845Z
LAST-MODIFIED:20240211T170845Z
UID:10000729-1709402400-1709413200@www.benfieldwines.com
SUMMARY:Music with Steve Kennedy!
DESCRIPTION:Amazing music with great wine\, beer\, bourbon and food
URL:https://www.benfieldwines.com/event/music-with-steve-kennedy-5/
LOCATION:Benfield Wines\, 102 N Main St\, Swanton\, OH\, 43558\, United States
CATEGORIES:Music
ORGANIZER;CN="Julia Benfield":MAILTO:julia@benfieldwines.com
GEO:41.58904;-83.890911
X-APPLE-STRUCTURED-LOCATION;VALUE=URI;X-ADDRESS=Benfield Wines 102 N Main St Swanton OH 43558 United States;X-APPLE-RADIUS=500;X-TITLE=102 N Main St:geo:-83.890911,41.58904
END:VEVENT
BEGIN:VEVENT
DTSTART;TZID=America/Detroit:20240301T183000
DTEND;TZID=America/Detroit:20240301T213000
DTSTAMP:20260422T184251
CREATED:20240211T160500Z
LAST-MODIFIED:20240211T160557Z
UID:10000725-1709317800-1709328600@www.benfieldwines.com
SUMMARY:Paintin' with Posh!
DESCRIPTION:Click HERE for tickets!\nPick your project and come paint with us!\nNo outside alcohol.\nNo refunds
URL:https://www.benfieldwines.com/event/paintin-with-posh-3/2024-03-01/
LOCATION:Benfield Wines\, 102 N Main St\, Swanton\, OH\, 43558\, United States
CATEGORIES:Art
ATTACH;FMTTYPE=image/jpeg:https://www.benfieldwines.com/wp-content/uploads/2024/02/spring.jpg
ORGANIZER;CN="Julia Benfield":MAILTO:julia@benfieldwines.com
GEO:41.58904;-83.890911
X-APPLE-STRUCTURED-LOCATION;VALUE=URI;X-ADDRESS=Benfield Wines 102 N Main St Swanton OH 43558 United States;X-APPLE-RADIUS=500;X-TITLE=102 N Main St:geo:-83.890911,41.58904
END:VEVENT
BEGIN:VEVENT
DTSTART;TZID=America/Detroit:20240228T190000
DTEND;TZID=America/Detroit:20240228T200000
DTSTAMP:20260422T184251
CREATED:20240211T151703Z
LAST-MODIFIED:20240211T153122Z
UID:10000724-1709146800-1709150400@www.benfieldwines.com
SUMMARY:Rockstar Music Bingo!
DESCRIPTION:Bring your electronic device and have fun with us!  Fun for all ages\, Prizes! Free to play!
URL:https://www.benfieldwines.com/event/rockstar-music-bingo-5/
LOCATION:Benfield Wines\, 102 N Main St\, Swanton\, OH\, 43558\, United States
CATEGORIES:Music
ATTACH;FMTTYPE=image/jpeg:https://www.benfieldwines.com/wp-content/uploads/2022/05/rockstar.jpg
ORGANIZER;CN="Julia Benfield":MAILTO:julia@benfieldwines.com
GEO:41.58904;-83.890911
X-APPLE-STRUCTURED-LOCATION;VALUE=URI;X-ADDRESS=Benfield Wines 102 N Main St Swanton OH 43558 United States;X-APPLE-RADIUS=500;X-TITLE=102 N Main St:geo:-83.890911,41.58904
END:VEVENT
BEGIN:VEVENT
DTSTART;TZID=America/Detroit:20240224T180000
DTEND;TZID=America/Detroit:20240224T210000
DTSTAMP:20260422T184251
CREATED:20240211T164614Z
LAST-MODIFIED:20240211T164614Z
UID:10000728-1708797600-1708808400@www.benfieldwines.com
SUMMARY:Music: Dealing with Dragons!
DESCRIPTION:A great mix of pop and rock!  Come enjoy some great music with us! Amazing wine\, beer\, bourbon and food!
URL:https://www.benfieldwines.com/event/music-dealing-with-dragons/
LOCATION:Benfield Wines\, 102 N Main St\, Swanton\, OH\, 43558\, United States
CATEGORIES:Music
ORGANIZER;CN="Julia Benfield":MAILTO:julia@benfieldwines.com
GEO:41.58904;-83.890911
X-APPLE-STRUCTURED-LOCATION;VALUE=URI;X-ADDRESS=Benfield Wines 102 N Main St Swanton OH 43558 United States;X-APPLE-RADIUS=500;X-TITLE=102 N Main St:geo:-83.890911,41.58904
END:VEVENT
BEGIN:VEVENT
DTSTART;TZID=America/Detroit:20240222T190000
DTEND;TZID=America/Detroit:20240222T200000
DTSTAMP:20260422T184251
CREATED:20240211T171458Z
LAST-MODIFIED:20240218T021848Z
UID:10000730-1708628400-1708632000@www.benfieldwines.com
SUMMARY:Wine Guy Trivia - Theme: Animals!
DESCRIPTION:Bring your electronic device and come have some fun with us!  Free to play – fun for all ages!
URL:https://www.benfieldwines.com/event/wine-guy-trivia-theme-animals/
LOCATION:Benfield Wines\, 102 N Main St\, Swanton\, OH\, 43558\, United States
CATEGORIES:Special
ATTACH;FMTTYPE=image/jpeg:https://www.benfieldwines.com/wp-content/uploads/2023/12/411485280_10162610390475701_3615785312387767430_n.jpg
ORGANIZER;CN="Julia Benfield":MAILTO:julia@benfieldwines.com
GEO:41.58904;-83.890911
X-APPLE-STRUCTURED-LOCATION;VALUE=URI;X-ADDRESS=Benfield Wines 102 N Main St Swanton OH 43558 United States;X-APPLE-RADIUS=500;X-TITLE=102 N Main St:geo:-83.890911,41.58904
END:VEVENT
BEGIN:VEVENT
DTSTART;TZID=America/Detroit:20240222T170000
DTEND;TZID=America/Detroit:20240222T200000
DTSTAMP:20260422T184251
CREATED:20240211T162322Z
LAST-MODIFIED:20240211T162322Z
UID:10000727-1708621200-1708632000@www.benfieldwines.com
SUMMARY:National Margarita Day - Wine-aritas!
DESCRIPTION:Special drink menu for today! Come celebrate with us!!
URL:https://www.benfieldwines.com/event/national-margarita-day-wine-aritas/
LOCATION:Benfield Wines\, 102 N Main St\, Swanton\, OH\, 43558\, United States
CATEGORIES:Special
ATTACH;FMTTYPE=image/jpeg:https://www.benfieldwines.com/wp-content/uploads/2024/02/margartia.jpg
ORGANIZER;CN="Julia Benfield":MAILTO:julia@benfieldwines.com
GEO:41.58904;-83.890911
X-APPLE-STRUCTURED-LOCATION;VALUE=URI;X-ADDRESS=Benfield Wines 102 N Main St Swanton OH 43558 United States;X-APPLE-RADIUS=500;X-TITLE=102 N Main St:geo:-83.890911,41.58904
END:VEVENT
BEGIN:VEVENT
DTSTART;TZID=America/Detroit:20240221T190000
DTEND;TZID=America/Detroit:20240221T200000
DTSTAMP:20260422T184251
CREATED:20240211T151335Z
LAST-MODIFIED:20240211T151516Z
UID:10000719-1708542000-1708545600@www.benfieldwines.com
SUMMARY:Rockstar Music Bingo!
DESCRIPTION:Bring your electronic device and have fun with us!  Fun for all ages\, Prizes! Free to play!
URL:https://www.benfieldwines.com/event/rockstar-music-bingo-4/
LOCATION:Benfield Wines\, 102 N Main St\, Swanton\, OH\, 43558\, United States
CATEGORIES:Music
ATTACH;FMTTYPE=image/jpeg:https://www.benfieldwines.com/wp-content/uploads/2022/05/rockstar.jpg
ORGANIZER;CN="Julia Benfield":MAILTO:julia@benfieldwines.com
GEO:41.58904;-83.890911
X-APPLE-STRUCTURED-LOCATION;VALUE=URI;X-ADDRESS=Benfield Wines 102 N Main St Swanton OH 43558 United States;X-APPLE-RADIUS=500;X-TITLE=102 N Main St:geo:-83.890911,41.58904
END:VEVENT
BEGIN:VEVENT
DTSTART;TZID=America/Detroit:20240217T180000
DTEND;TZID=America/Detroit:20240217T210000
DTSTAMP:20260422T184251
CREATED:20240211T151203Z
LAST-MODIFIED:20240211T151203Z
UID:10000718-1708192800-1708203600@www.benfieldwines.com
SUMMARY:Music with Gypsy Lovin Duo!
DESCRIPTION:Great music with amazing wine\, beer\, bourbon and food!
URL:https://www.benfieldwines.com/event/music-with-gypsy-lovin-duo/
LOCATION:Benfield Wines\, 102 N Main St\, Swanton\, OH\, 43558\, United States
CATEGORIES:Music
ATTACH;FMTTYPE=image/png:https://www.benfieldwines.com/wp-content/uploads/2023/11/gyspy-2.png
ORGANIZER;CN="Julia Benfield":MAILTO:julia@benfieldwines.com
GEO:41.58904;-83.890911
X-APPLE-STRUCTURED-LOCATION;VALUE=URI;X-ADDRESS=Benfield Wines 102 N Main St Swanton OH 43558 United States;X-APPLE-RADIUS=500;X-TITLE=102 N Main St:geo:-83.890911,41.58904
END:VEVENT
BEGIN:VEVENT
DTSTART;TZID=America/Detroit:20240216T190000
DTEND;TZID=America/Detroit:20240216T200000
DTSTAMP:20260422T184251
CREATED:20240211T151052Z
LAST-MODIFIED:20240211T151052Z
UID:10000717-1708110000-1708113600@www.benfieldwines.com
SUMMARY:Rockstar Music Bingo - Theme: Yacht Rock!
DESCRIPTION:Free to play – fun for all ages!  Bring your electronic device and have fun with us! Prizes!
URL:https://www.benfieldwines.com/event/rockstar-music-bingo-theme-yacht-rock/
LOCATION:Benfield Wines\, 102 N Main St\, Swanton\, OH\, 43558\, United States
CATEGORIES:Special
ATTACH;FMTTYPE=image/jpeg:https://www.benfieldwines.com/wp-content/uploads/2022/05/rockstar.jpg
ORGANIZER;CN="Julia Benfield":MAILTO:julia@benfieldwines.com
GEO:41.58904;-83.890911
X-APPLE-STRUCTURED-LOCATION;VALUE=URI;X-ADDRESS=Benfield Wines 102 N Main St Swanton OH 43558 United States;X-APPLE-RADIUS=500;X-TITLE=102 N Main St:geo:-83.890911,41.58904
END:VEVENT
BEGIN:VEVENT
DTSTART;TZID=America/Detroit:20240215T190000
DTEND;TZID=America/Detroit:20240215T200000
DTSTAMP:20260422T184251
CREATED:20240211T150909Z
LAST-MODIFIED:20240211T160716Z
UID:10000716-1708023600-1708027200@www.benfieldwines.com
SUMMARY:Wine Guy Trivia! Theme: Women in Music - Taylor Swift\, Beyonce\, Lady Gaga\, etc!
DESCRIPTION:Bring your electronic device and come have some fun with us!  Free to Play\, Prizes!
URL:https://www.benfieldwines.com/event/trivia-theme-women-in-music-taylor-swift-beyonce-lady-gaga-etc/
LOCATION:Benfield Wines\, 102 N Main St\, Swanton\, OH\, 43558\, United States
CATEGORIES:Special
ATTACH;FMTTYPE=image/jpeg:https://www.benfieldwines.com/wp-content/uploads/2023/12/411485280_10162610390475701_3615785312387767430_n.jpg
ORGANIZER;CN="Julia Benfield":MAILTO:julia@benfieldwines.com
GEO:41.58904;-83.890911
X-APPLE-STRUCTURED-LOCATION;VALUE=URI;X-ADDRESS=Benfield Wines 102 N Main St Swanton OH 43558 United States;X-APPLE-RADIUS=500;X-TITLE=102 N Main St:geo:-83.890911,41.58904
END:VEVENT
BEGIN:VEVENT
DTSTART;TZID=America/Detroit:20240214T190000
DTEND;TZID=America/Detroit:20240214T200000
DTSTAMP:20260422T184251
CREATED:20240115T002809Z
LAST-MODIFIED:20240115T002809Z
UID:10000712-1707937200-1707940800@www.benfieldwines.com
SUMMARY:Rockstar Music Bingo
DESCRIPTION:Bring your electronic device and have some fun with us! Free to play and fun for all ages!
URL:https://www.benfieldwines.com/event/rockstar-music-bingo-3/
LOCATION:Benfield Wines\, 102 N Main St\, Swanton\, OH\, 43558\, United States
CATEGORIES:Special
ATTACH;FMTTYPE=image/jpeg:https://www.benfieldwines.com/wp-content/uploads/2022/05/rockstar.jpg
ORGANIZER;CN="Julia Benfield":MAILTO:julia@benfieldwines.com
GEO:41.58904;-83.890911
X-APPLE-STRUCTURED-LOCATION;VALUE=URI;X-ADDRESS=Benfield Wines 102 N Main St Swanton OH 43558 United States;X-APPLE-RADIUS=500;X-TITLE=102 N Main St:geo:-83.890911,41.58904
END:VEVENT
BEGIN:VEVENT
DTSTART;TZID=America/Detroit:20240213T170000
DTEND;TZID=America/Detroit:20240213T200000
DTSTAMP:20260422T184251
CREATED:20240115T002616Z
LAST-MODIFIED:20240115T002616Z
UID:10000711-1707843600-1707854400@www.benfieldwines.com
SUMMARY:Fat Tuesday Paczki and Wine Pairing
DESCRIPTION:Pop in for some free Paczki and pair with some of our great wines!  While supplies last!
URL:https://www.benfieldwines.com/event/fat-tuesday-paczki-and-wine-pairing/
LOCATION:Benfield Wines\, 102 N Main St\, Swanton\, OH\, 43558\, United States
CATEGORIES:Special
ATTACH;FMTTYPE=image/jpeg:https://www.benfieldwines.com/wp-content/uploads/2024/01/paczki.jpg
ORGANIZER;CN="Julia Benfield":MAILTO:julia@benfieldwines.com
GEO:41.58904;-83.890911
X-APPLE-STRUCTURED-LOCATION;VALUE=URI;X-ADDRESS=Benfield Wines 102 N Main St Swanton OH 43558 United States;X-APPLE-RADIUS=500;X-TITLE=102 N Main St:geo:-83.890911,41.58904
END:VEVENT
BEGIN:VEVENT
DTSTART;TZID=America/Detroit:20240210T180000
DTEND;TZID=America/Detroit:20240210T220000
DTSTAMP:20260422T184251
CREATED:20240121T193715Z
LAST-MODIFIED:20240121T193715Z
UID:10000715-1707588000-1707602400@www.benfieldwines.com
SUMMARY:Off Site Event in Downtown Toledo!
DESCRIPTION:Click HERE to find tickets!
URL:https://www.benfieldwines.com/event/off-site-event-in-downtown-toledo/
LOCATION:Benfield Wines\, 102 N Main St\, Swanton\, OH\, 43558\, United States
CATEGORIES:Special
ATTACH;FMTTYPE=image/jpeg:https://www.benfieldwines.com/wp-content/uploads/2023/10/off-site-event.jpg
ORGANIZER;CN="Julia Benfield":MAILTO:julia@benfieldwines.com
GEO:41.58904;-83.890911
X-APPLE-STRUCTURED-LOCATION;VALUE=URI;X-ADDRESS=Benfield Wines 102 N Main St Swanton OH 43558 United States;X-APPLE-RADIUS=500;X-TITLE=102 N Main St:geo:-83.890911,41.58904
END:VEVENT
BEGIN:VEVENT
DTSTART;TZID=America/Detroit:20240210T180000
DTEND;TZID=America/Detroit:20240210T210000
DTSTAMP:20260422T184251
CREATED:20231228T123105Z
LAST-MODIFIED:20231228T123529Z
UID:10000697-1707588000-1707598800@www.benfieldwines.com
SUMMARY:Valentines & Benfield Wines: An Evening with Medium Sirena La Point
DESCRIPTION:These events are limited seating so that Sirena may make as many connections as possible but remember a message is not guaranteed!\nOne drink ticket with purchase – includes wine\, wine flight\, beer\, or slushy\nNo outside alcohol\, please.\nPlease note in comment box who you’d like to sit with
URL:https://www.benfieldwines.com/event/valentines-benfield-wines-an-evening-with-medium-sirena-la-point-2/
LOCATION:Benfield Wines\, 102 N Main St\, Swanton\, OH\, 43558\, United States
CATEGORIES:Special
ATTACH;FMTTYPE=image/jpeg:https://www.benfieldwines.com/wp-content/uploads/2022/11/valentine-sirena.jpg
ORGANIZER;CN="Julia Benfield":MAILTO:julia@benfieldwines.com
GEO:41.58904;-83.890911
X-APPLE-STRUCTURED-LOCATION;VALUE=URI;X-ADDRESS=Benfield Wines 102 N Main St Swanton OH 43558 United States;X-APPLE-RADIUS=500;X-TITLE=102 N Main St:geo:-83.890911,41.58904
END:VEVENT
BEGIN:VEVENT
DTSTART;TZID=America/Detroit:20240209T180000
DTEND;TZID=America/Detroit:20240209T210000
DTSTAMP:20260422T184251
CREATED:20240114T235200Z
LAST-MODIFIED:20240114T235200Z
UID:10000710-1707501600-1707512400@www.benfieldwines.com
SUMMARY:Music with P3K
DESCRIPTION:Amazing music with great wine\, beer\, bourbon and food!
URL:https://www.benfieldwines.com/event/music-with-p3k/
LOCATION:Benfield Wines\, 102 N Main St\, Swanton\, OH\, 43558\, United States
CATEGORIES:Music
ATTACH;FMTTYPE=image/jpeg:https://www.benfieldwines.com/wp-content/uploads/2024/01/P3K.jpg
ORGANIZER;CN="Julia Benfield":MAILTO:julia@benfieldwines.com
GEO:41.58904;-83.890911
X-APPLE-STRUCTURED-LOCATION;VALUE=URI;X-ADDRESS=Benfield Wines 102 N Main St Swanton OH 43558 United States;X-APPLE-RADIUS=500;X-TITLE=102 N Main St:geo:-83.890911,41.58904
END:VEVENT
BEGIN:VEVENT
DTSTART;TZID=America/Detroit:20240208T190000
DTEND;TZID=America/Detroit:20240208T200000
DTSTAMP:20260422T184251
CREATED:20240114T174130Z
LAST-MODIFIED:20240114T174133Z
UID:10000708-1707418800-1707422400@www.benfieldwines.com
SUMMARY:Wine Guy Trivia - Valentines Edition!
DESCRIPTION:Bring your electronic device and come play some trivia with us! Prizes! Free to play – fun for all ages!
URL:https://www.benfieldwines.com/event/wine-guy-trivia-valentines-edition/
LOCATION:Benfield Wines\, 102 N Main St\, Swanton\, OH\, 43558\, United States
CATEGORIES:Special
ATTACH;FMTTYPE=image/jpeg:https://www.benfieldwines.com/wp-content/uploads/2023/12/411485280_10162610390475701_3615785312387767430_n.jpg
ORGANIZER;CN="Julia Benfield":MAILTO:julia@benfieldwines.com
GEO:41.58904;-83.890911
X-APPLE-STRUCTURED-LOCATION;VALUE=URI;X-ADDRESS=Benfield Wines 102 N Main St Swanton OH 43558 United States;X-APPLE-RADIUS=500;X-TITLE=102 N Main St:geo:-83.890911,41.58904
END:VEVENT
BEGIN:VEVENT
DTSTART;TZID=America/Detroit:20240207T190000
DTEND;TZID=America/Detroit:20240207T200000
DTSTAMP:20260422T184251
CREATED:20240101T185059Z
LAST-MODIFIED:20240101T185059Z
UID:10000703-1707332400-1707336000@www.benfieldwines.com
SUMMARY:Rockstar Music Bing
DESCRIPTION:Bring your electronic device and have some fun with us! prizes! fun for all ages!
URL:https://www.benfieldwines.com/event/rockstar-music-bing/2024-02-07/
LOCATION:Benfield Wines\, 102 N Main St\, Swanton\, OH\, 43558\, United States
CATEGORIES:Special
ATTACH;FMTTYPE=image/jpeg:https://www.benfieldwines.com/wp-content/uploads/2022/05/rockstar.jpg
ORGANIZER;CN="Julia Benfield":MAILTO:julia@benfieldwines.com
GEO:41.58904;-83.890911
X-APPLE-STRUCTURED-LOCATION;VALUE=URI;X-ADDRESS=Benfield Wines 102 N Main St Swanton OH 43558 United States;X-APPLE-RADIUS=500;X-TITLE=102 N Main St:geo:-83.890911,41.58904
END:VEVENT
BEGIN:VEVENT
DTSTART;TZID=America/Detroit:20240203T180000
DTEND;TZID=America/Detroit:20240203T210000
DTSTAMP:20260422T184251
CREATED:20240101T202042Z
LAST-MODIFIED:20240101T202042Z
UID:10000705-1706983200-1706994000@www.benfieldwines.com
SUMMARY:Music with EZ Pickenz
DESCRIPTION:Amazing music with great wine\, beer\, bourbon and food!
URL:https://www.benfieldwines.com/event/music-with-ez-pickenz-15/
LOCATION:Benfield Wines\, 102 N Main St\, Swanton\, OH\, 43558\, United States
CATEGORIES:Music
ATTACH;FMTTYPE=image/png:https://www.benfieldwines.com/wp-content/uploads/2023/09/EZ-Pickenz.png
ORGANIZER;CN="Julia Benfield":MAILTO:julia@benfieldwines.com
GEO:41.58904;-83.890911
X-APPLE-STRUCTURED-LOCATION;VALUE=URI;X-ADDRESS=Benfield Wines 102 N Main St Swanton OH 43558 United States;X-APPLE-RADIUS=500;X-TITLE=102 N Main St:geo:-83.890911,41.58904
END:VEVENT
BEGIN:VEVENT
DTSTART;TZID=America/Detroit:20240203T133000
DTEND;TZID=America/Detroit:20240203T163000
DTSTAMP:20260422T184251
CREATED:20240121T182102Z
LAST-MODIFIED:20240121T182208Z
UID:10000714-1706967000-1706977800@www.benfieldwines.com
SUMMARY:Paintin' with Posh!
DESCRIPTION:Come paint with us! Create some fun with your friends! Click HERE for more details! No outside alcohol please. Lots of options to choose from!
URL:https://www.benfieldwines.com/event/paintin-with-posh-2/2024-02-03/
LOCATION:Benfield Wines\, 102 N Main St\, Swanton\, OH\, 43558\, United States
CATEGORIES:Art
ATTACH;FMTTYPE=image/jpeg:https://www.benfieldwines.com/wp-content/uploads/2024/01/paintin.jpg
ORGANIZER;CN="Julia Benfield":MAILTO:julia@benfieldwines.com
GEO:41.58904;-83.890911
X-APPLE-STRUCTURED-LOCATION;VALUE=URI;X-ADDRESS=Benfield Wines 102 N Main St Swanton OH 43558 United States;X-APPLE-RADIUS=500;X-TITLE=102 N Main St:geo:-83.890911,41.58904
END:VEVENT
BEGIN:VEVENT
DTSTART;TZID=America/Detroit:20240202T183000
DTEND;TZID=America/Detroit:20240202T183000
DTSTAMP:20260422T184251
CREATED:20240121T182102Z
LAST-MODIFIED:20240121T182208Z
UID:10000713-1706898600-1706898600@www.benfieldwines.com
SUMMARY:Paintin' with Posh!
DESCRIPTION:Come paint with us! Create some fun with your friends! Click HERE for more details! No outside alcohol please. Lots of options to choose from!
URL:https://www.benfieldwines.com/event/paintin-with-posh-2/2024-02-02/
LOCATION:Benfield Wines\, 102 N Main St\, Swanton\, OH\, 43558\, United States
CATEGORIES:Art
ATTACH;FMTTYPE=image/jpeg:https://www.benfieldwines.com/wp-content/uploads/2024/01/paintin.jpg
ORGANIZER;CN="Julia Benfield":MAILTO:julia@benfieldwines.com
GEO:41.58904;-83.890911
X-APPLE-STRUCTURED-LOCATION;VALUE=URI;X-ADDRESS=Benfield Wines 102 N Main St Swanton OH 43558 United States;X-APPLE-RADIUS=500;X-TITLE=102 N Main St:geo:-83.890911,41.58904
END:VEVENT
BEGIN:VEVENT
DTSTART;TZID=America/Detroit:20240201T190000
DTEND;TZID=America/Detroit:20240201T200000
DTSTAMP:20260422T184251
CREATED:20240114T174900Z
LAST-MODIFIED:20240114T175412Z
UID:10000709-1706814000-1706817600@www.benfieldwines.com
SUMMARY:Wine Guy Trivia - COUNTRY MUSIC NIGHT!
DESCRIPTION:Bring your electronic device and come play some trivia with us! Prizes! Free to play – fun for all ages!
URL:https://www.benfieldwines.com/event/wine-guy-trivia-country-music-night/
LOCATION:Benfield Wines\, 102 N Main St\, Swanton\, OH\, 43558\, United States
CATEGORIES:Special
ATTACH;FMTTYPE=image/jpeg:https://www.benfieldwines.com/wp-content/uploads/2023/12/411485280_10162610390475701_3615785312387767430_n.jpg
ORGANIZER;CN="Julia Benfield":MAILTO:julia@benfieldwines.com
GEO:41.58904;-83.890911
X-APPLE-STRUCTURED-LOCATION;VALUE=URI;X-ADDRESS=Benfield Wines 102 N Main St Swanton OH 43558 United States;X-APPLE-RADIUS=500;X-TITLE=102 N Main St:geo:-83.890911,41.58904
END:VEVENT
BEGIN:VEVENT
DTSTART;TZID=America/Detroit:20240131T190000
DTEND;TZID=America/Detroit:20240131T200000
DTSTAMP:20260422T184251
CREATED:20240101T185059Z
LAST-MODIFIED:20240101T185059Z
UID:10000702-1706727600-1706731200@www.benfieldwines.com
SUMMARY:Rockstar Music Bing
DESCRIPTION:Bring your electronic device and have some fun with us! prizes! fun for all ages!
URL:https://www.benfieldwines.com/event/rockstar-music-bing/2024-01-31/
LOCATION:Benfield Wines\, 102 N Main St\, Swanton\, OH\, 43558\, United States
CATEGORIES:Special
ATTACH;FMTTYPE=image/jpeg:https://www.benfieldwines.com/wp-content/uploads/2022/05/rockstar.jpg
ORGANIZER;CN="Julia Benfield":MAILTO:julia@benfieldwines.com
GEO:41.58904;-83.890911
X-APPLE-STRUCTURED-LOCATION;VALUE=URI;X-ADDRESS=Benfield Wines 102 N Main St Swanton OH 43558 United States;X-APPLE-RADIUS=500;X-TITLE=102 N Main St:geo:-83.890911,41.58904
END:VEVENT
BEGIN:VEVENT
DTSTART;TZID=America/Detroit:20240127T180000
DTEND;TZID=America/Detroit:20240127T210000
DTSTAMP:20260422T184251
CREATED:20240101T185856Z
LAST-MODIFIED:20240101T185856Z
UID:10000704-1706378400-1706389200@www.benfieldwines.com
SUMMARY:Music with Abbigale!
DESCRIPTION:Amazing music with great wine\, beer\, bourbon and food!
URL:https://www.benfieldwines.com/event/music-with-abbigale-16/
LOCATION:Benfield Wines\, 102 N Main St\, Swanton\, OH\, 43558\, United States
CATEGORIES:Music
ATTACH;FMTTYPE=image/jpeg:https://www.benfieldwines.com/wp-content/uploads/2021/04/Abbigale.jpg
ORGANIZER;CN="Julia Benfield":MAILTO:julia@benfieldwines.com
GEO:41.58904;-83.890911
X-APPLE-STRUCTURED-LOCATION;VALUE=URI;X-ADDRESS=Benfield Wines 102 N Main St Swanton OH 43558 United States;X-APPLE-RADIUS=500;X-TITLE=102 N Main St:geo:-83.890911,41.58904
END:VEVENT
BEGIN:VEVENT
DTSTART;TZID=America/Detroit:20240125T190000
DTEND;TZID=America/Detroit:20240125T200000
DTSTAMP:20260422T184251
CREATED:20240114T173659Z
LAST-MODIFIED:20240114T173659Z
UID:10000707-1706209200-1706212800@www.benfieldwines.com
SUMMARY:Wine Guy Trivia! BRRR! Winter Fun Facts!
DESCRIPTION:Bring your electronic device and come play some trivia with us! Prizes! Free to play – fun for all ages!
URL:https://www.benfieldwines.com/event/wine-guy-trivia-brrr-winter-fun-facts/
LOCATION:Benfield Wines\, 102 N Main St\, Swanton\, OH\, 43558\, United States
CATEGORIES:Special
ATTACH;FMTTYPE=image/jpeg:https://www.benfieldwines.com/wp-content/uploads/2023/12/411485280_10162610390475701_3615785312387767430_n.jpg
ORGANIZER;CN="Julia Benfield":MAILTO:julia@benfieldwines.com
GEO:41.58904;-83.890911
X-APPLE-STRUCTURED-LOCATION;VALUE=URI;X-ADDRESS=Benfield Wines 102 N Main St Swanton OH 43558 United States;X-APPLE-RADIUS=500;X-TITLE=102 N Main St:geo:-83.890911,41.58904
END:VEVENT
BEGIN:VEVENT
DTSTART;TZID=America/Detroit:20240124T190000
DTEND;TZID=America/Detroit:20240124T200000
DTSTAMP:20260422T184251
CREATED:20240101T185059Z
LAST-MODIFIED:20240101T185059Z
UID:10000701-1706122800-1706126400@www.benfieldwines.com
SUMMARY:Rockstar Music Bing
DESCRIPTION:Bring your electronic device and have some fun with us! prizes! fun for all ages!
URL:https://www.benfieldwines.com/event/rockstar-music-bing/2024-01-24/
LOCATION:Benfield Wines\, 102 N Main St\, Swanton\, OH\, 43558\, United States
CATEGORIES:Special
ATTACH;FMTTYPE=image/jpeg:https://www.benfieldwines.com/wp-content/uploads/2022/05/rockstar.jpg
ORGANIZER;CN="Julia Benfield":MAILTO:julia@benfieldwines.com
GEO:41.58904;-83.890911
X-APPLE-STRUCTURED-LOCATION;VALUE=URI;X-ADDRESS=Benfield Wines 102 N Main St Swanton OH 43558 United States;X-APPLE-RADIUS=500;X-TITLE=102 N Main St:geo:-83.890911,41.58904
END:VEVENT
BEGIN:VEVENT
DTSTART;TZID=America/Detroit:20240120T180000
DTEND;TZID=America/Detroit:20240120T210000
DTSTAMP:20260422T184251
CREATED:20240101T184712Z
LAST-MODIFIED:20240101T184712Z
UID:10000699-1705773600-1705784400@www.benfieldwines.com
SUMMARY:Music with Johnny Rodriguez
DESCRIPTION:Amazing music with great wine\, beer\, bourbon and food~!
URL:https://www.benfieldwines.com/event/music-with-johnny-rodriguez-3/
LOCATION:Benfield Wines\, 102 N Main St\, Swanton\, OH\, 43558\, United States
CATEGORIES:Music
ATTACH;FMTTYPE=image/jpeg:https://www.benfieldwines.com/wp-content/uploads/2024/01/JOhnny-2.jpg
ORGANIZER;CN="Julia Benfield":MAILTO:julia@benfieldwines.com
GEO:41.58904;-83.890911
X-APPLE-STRUCTURED-LOCATION;VALUE=URI;X-ADDRESS=Benfield Wines 102 N Main St Swanton OH 43558 United States;X-APPLE-RADIUS=500;X-TITLE=102 N Main St:geo:-83.890911,41.58904
END:VEVENT
BEGIN:VEVENT
DTSTART;TZID=America/Detroit:20240119T190000
DTEND;TZID=America/Detroit:20240119T210000
DTSTAMP:20260422T184251
CREATED:20231217T000525Z
LAST-MODIFIED:20240114T164406Z
UID:10000692-1705690800-1705698000@www.benfieldwines.com
SUMMARY:Wine Glass Painting Class with Art Matters Ltd
DESCRIPTION:You get to paint 4 glasses and you choose the theme: snowmen or hearts!  All supplies and instruction provided. NO outside alcohol\, no refunds.
URL:https://www.benfieldwines.com/event/wine-glass-painting-class-with-art-matters-ltd/
LOCATION:Benfield Wines\, 102 N Main St\, Swanton\, OH\, 43558\, United States
CATEGORIES:Art
ORGANIZER;CN="Julia Benfield":MAILTO:julia@benfieldwines.com
GEO:41.58904;-83.890911
X-APPLE-STRUCTURED-LOCATION;VALUE=URI;X-ADDRESS=Benfield Wines 102 N Main St Swanton OH 43558 United States;X-APPLE-RADIUS=500;X-TITLE=102 N Main St:geo:-83.890911,41.58904
END:VEVENT
BEGIN:VEVENT
DTSTART;TZID=America/Detroit:20240119T120000
DTEND;TZID=America/Detroit:20240119T210000
DTSTAMP:20260422T184251
CREATED:20240114T171447Z
LAST-MODIFIED:20240114T171447Z
UID:10000706-1705665600-1705698000@www.benfieldwines.com
SUMMARY:National Popcorn Day - Popcorn & Wine Pairing
DESCRIPTION:It’s National Popcorn Day! Come celebrate with us by tasting some free popcorn paired with our amazing wines! Cheeseburger\, Cinnamon Roll\, PB &J\, Dill Pickle\, Cheddar RANCH\, Sea Salt and Vinegar – or just plain ole popcorn! We’ll make some suggestions but look forward to seeing what YOU like!
URL:https://www.benfieldwines.com/event/national-popcorn-day-popcorn-wine-pairing/
LOCATION:Benfield Wines\, 102 N Main St\, Swanton\, OH\, 43558\, United States
CATEGORIES:Food truck
ATTACH;FMTTYPE=image/jpeg:https://www.benfieldwines.com/wp-content/uploads/2024/01/popcorn-2.jpg
ORGANIZER;CN="Julia Benfield":MAILTO:julia@benfieldwines.com
GEO:41.58904;-83.890911
X-APPLE-STRUCTURED-LOCATION;VALUE=URI;X-ADDRESS=Benfield Wines 102 N Main St Swanton OH 43558 United States;X-APPLE-RADIUS=500;X-TITLE=102 N Main St:geo:-83.890911,41.58904
END:VEVENT
BEGIN:VEVENT
DTSTART;TZID=America/Detroit:20240118T190000
DTEND;TZID=America/Detroit:20240118T200000
DTSTAMP:20260422T184251
CREATED:20231217T004520Z
LAST-MODIFIED:20231217T004727Z
UID:10000694-1705604400-1705608000@www.benfieldwines.com
SUMMARY:Wine Guy Trivia! Harry Potter!
DESCRIPTION:Bring your electronic device and come have some fun with us!  Free to play and fun for all ages
URL:https://www.benfieldwines.com/event/wine-guy-trivia-harry-potter/
LOCATION:Benfield Wines\, 102 N Main St\, Swanton\, OH\, 43558\, United States
CATEGORIES:Special
ATTACH;FMTTYPE=image/jpeg:https://www.benfieldwines.com/wp-content/uploads/2023/12/411485280_10162610390475701_3615785312387767430_n.jpg
ORGANIZER;CN="Julia Benfield":MAILTO:julia@benfieldwines.com
GEO:41.58904;-83.890911
X-APPLE-STRUCTURED-LOCATION;VALUE=URI;X-ADDRESS=Benfield Wines 102 N Main St Swanton OH 43558 United States;X-APPLE-RADIUS=500;X-TITLE=102 N Main St:geo:-83.890911,41.58904
END:VEVENT
BEGIN:VEVENT
DTSTART;TZID=America/Detroit:20240117T190000
DTEND;TZID=America/Detroit:20240117T200000
DTSTAMP:20260422T184251
CREATED:20240101T184850Z
LAST-MODIFIED:20240101T184850Z
UID:10000700-1705518000-1705521600@www.benfieldwines.com
SUMMARY:Rockstar Music Bingo
DESCRIPTION:Bring your electronic device and have some fun with us! prizes! fun for all ages! Free to play!
URL:https://www.benfieldwines.com/event/rockstar-music-bingo-2/
LOCATION:Benfield Wines\, 102 N Main St\, Swanton\, OH\, 43558\, United States
CATEGORIES:Special
ATTACH;FMTTYPE=image/jpeg:https://www.benfieldwines.com/wp-content/uploads/2022/05/rockstar.jpg
ORGANIZER;CN="Julia Benfield":MAILTO:julia@benfieldwines.com
GEO:41.58904;-83.890911
X-APPLE-STRUCTURED-LOCATION;VALUE=URI;X-ADDRESS=Benfield Wines 102 N Main St Swanton OH 43558 United States;X-APPLE-RADIUS=500;X-TITLE=102 N Main St:geo:-83.890911,41.58904
END:VEVENT
END:VCALENDAR