BEGIN:VCALENDAR
VERSION:2.0
PRODID:-//Benfield Wines - ECPv6.15.20//NONSGML v1.0//EN
CALSCALE:GREGORIAN
METHOD:PUBLISH
X-WR-CALNAME:Benfield Wines
X-ORIGINAL-URL:https://www.benfieldwines.com
X-WR-CALDESC:Events for Benfield Wines
REFRESH-INTERVAL;VALUE=DURATION:PT1H
X-Robots-Tag:noindex
X-PUBLISHED-TTL:PT1H
BEGIN:VTIMEZONE
TZID:America/Detroit
BEGIN:DAYLIGHT
TZOFFSETFROM:-0500
TZOFFSETTO:-0400
TZNAME:EDT
DTSTART:20220313T070000
END:DAYLIGHT
BEGIN:STANDARD
TZOFFSETFROM:-0400
TZOFFSETTO:-0500
TZNAME:EST
DTSTART:20221106T060000
END:STANDARD
BEGIN:DAYLIGHT
TZOFFSETFROM:-0500
TZOFFSETTO:-0400
TZNAME:EDT
DTSTART:20230312T070000
END:DAYLIGHT
BEGIN:STANDARD
TZOFFSETFROM:-0400
TZOFFSETTO:-0500
TZNAME:EST
DTSTART:20231105T060000
END:STANDARD
BEGIN:DAYLIGHT
TZOFFSETFROM:-0500
TZOFFSETTO:-0400
TZNAME:EDT
DTSTART:20240310T070000
END:DAYLIGHT
BEGIN:STANDARD
TZOFFSETFROM:-0400
TZOFFSETTO:-0500
TZNAME:EST
DTSTART:20241103T060000
END:STANDARD
END:VTIMEZONE
BEGIN:VEVENT
DTSTART;TZID=America/Detroit:20230920T170000
DTEND;TZID=America/Detroit:20230920T200000
DTSTAMP:20260423T045833
CREATED:20230902T194939Z
LAST-MODIFIED:20230902T200146Z
UID:10000637-1695229200-1695240000@www.benfieldwines.com
SUMMARY:National Pepperoni Pizza Day!
DESCRIPTION:Have you HAD our Pepperoni Pizza?  OMG YUM!  1$ off today! Pop in for some pizza and play some bingo!
URL:https://www.benfieldwines.com/event/national-pepperoni-pizza-day/
LOCATION:Benfield Wines\, 102 N Main St\, Swanton\, OH\, 43558\, United States
CATEGORIES:Special
ATTACH;FMTTYPE=image/jpeg:https://www.benfieldwines.com/wp-content/uploads/2023/09/pepperoni-day.jpg
ORGANIZER;CN="Julia Benfield":MAILTO:julia@benfieldwines.com
GEO:41.58904;-83.890911
X-APPLE-STRUCTURED-LOCATION;VALUE=URI;X-ADDRESS=Benfield Wines 102 N Main St Swanton OH 43558 United States;X-APPLE-RADIUS=500;X-TITLE=102 N Main St:geo:-83.890911,41.58904
END:VEVENT
BEGIN:VEVENT
DTSTART;TZID=America/Detroit:20230916T180000
DTEND;TZID=America/Detroit:20230916T210000
DTSTAMP:20260423T045833
CREATED:20230902T184938Z
LAST-MODIFIED:20230902T184938Z
UID:10000634-1694887200-1694898000@www.benfieldwines.com
SUMMARY:Music with EZ Pickenz
DESCRIPTION:Great music with amazing wine\, beer\, bourbon and food!
URL:https://www.benfieldwines.com/event/music-with-ez-pickenz-13/
LOCATION:Benfield Wines\, 102 N Main St\, Swanton\, OH\, 43558\, United States
CATEGORIES:Music
ATTACH;FMTTYPE=image/png:https://www.benfieldwines.com/wp-content/uploads/2023/09/EZ-Pickenz.png
ORGANIZER;CN="Julia Benfield":MAILTO:julia@benfieldwines.com
GEO:41.58904;-83.890911
X-APPLE-STRUCTURED-LOCATION;VALUE=URI;X-ADDRESS=Benfield Wines 102 N Main St Swanton OH 43558 United States;X-APPLE-RADIUS=500;X-TITLE=102 N Main St:geo:-83.890911,41.58904
END:VEVENT
BEGIN:VEVENT
DTSTART;TZID=America/Detroit:20230916T150000
DTEND;TZID=America/Detroit:20230916T210000
DTSTAMP:20260423T045833
CREATED:20230902T201354Z
LAST-MODIFIED:20230902T201354Z
UID:10000649-1694876400-1694898000@www.benfieldwines.com
SUMMARY:Special Off Site Event!
DESCRIPTION:Beer Tent: Open 3-9 p.m. with $5 admission supporting Helping Hands of Hicksville. Enjoy beers and wines from some of northwest Ohio’s best  click HERE (coming soon) to see where we’ll be!
URL:https://www.benfieldwines.com/event/special-off-site-event-2/
LOCATION:Benfield Wines\, 102 N Main St\, Swanton\, OH\, 43558\, United States
CATEGORIES:Special
ATTACH;FMTTYPE=image/jpeg:https://www.benfieldwines.com/wp-content/uploads/2022/08/offsite.jpg
ORGANIZER;CN="Julia Benfield":MAILTO:julia@benfieldwines.com
GEO:41.58904;-83.890911
X-APPLE-STRUCTURED-LOCATION;VALUE=URI;X-ADDRESS=Benfield Wines 102 N Main St Swanton OH 43558 United States;X-APPLE-RADIUS=500;X-TITLE=102 N Main St:geo:-83.890911,41.58904
END:VEVENT
BEGIN:VEVENT
DTSTART;TZID=America/Detroit:20230915T190000
DTEND;TZID=America/Detroit:20230915T200000
DTSTAMP:20260423T045833
CREATED:20230902T184323Z
LAST-MODIFIED:20230902T184323Z
UID:10000633-1694804400-1694808000@www.benfieldwines.com
SUMMARY:Rock! Rockstar Music Bingo Night!
DESCRIPTION:Free to Play! Bring your electronic device and play some music bingo! Come hungry and thirsty… And have the chance to win some prizes!
URL:https://www.benfieldwines.com/event/rock-rockstar-music-bingo-night/
LOCATION:Benfield Wines\, 102 N Main St\, Swanton\, OH\, 43558\, United States
CATEGORIES:Special
ATTACH;FMTTYPE=image/jpeg:https://www.benfieldwines.com/wp-content/uploads/2023/09/rock2.jpg
ORGANIZER;CN="Julia Benfield":MAILTO:julia@benfieldwines.com
GEO:41.58904;-83.890911
X-APPLE-STRUCTURED-LOCATION;VALUE=URI;X-ADDRESS=Benfield Wines 102 N Main St Swanton OH 43558 United States;X-APPLE-RADIUS=500;X-TITLE=102 N Main St:geo:-83.890911,41.58904
END:VEVENT
BEGIN:VEVENT
DTSTART;TZID=America/Detroit:20230913T190000
DTEND;TZID=America/Detroit:20230913T200000
DTSTAMP:20260423T045833
CREATED:20230428T205453Z
LAST-MODIFIED:20230428T205453Z
UID:10000599-1694631600-1694635200@www.benfieldwines.com
SUMMARY:Rockstar Bingo! Music Bingo!!
DESCRIPTION:Free to Play! Fun for all ages! Prizes! Bring your electronic device and come hungry and thirsty!!
URL:https://www.benfieldwines.com/event/rockstar-bingo-music-bingo/2023-09-13/
LOCATION:Benfield Wines\, 102 N Main St\, Swanton\, OH\, 43558\, United States
CATEGORIES:Special
ATTACH;FMTTYPE=image/jpeg:https://www.benfieldwines.com/wp-content/uploads/2022/05/rockstar.jpg
ORGANIZER;CN="Julia Benfield":MAILTO:julia@benfieldwines.com
GEO:41.58904;-83.890911
X-APPLE-STRUCTURED-LOCATION;VALUE=URI;X-ADDRESS=Benfield Wines 102 N Main St Swanton OH 43558 United States;X-APPLE-RADIUS=500;X-TITLE=102 N Main St:geo:-83.890911,41.58904
END:VEVENT
BEGIN:VEVENT
DTSTART;TZID=America/Detroit:20230909T180000
DTEND;TZID=America/Detroit:20230909T210000
DTSTAMP:20260423T045833
CREATED:20230824T002516Z
LAST-MODIFIED:20230824T002516Z
UID:10000632-1694282400-1694293200@www.benfieldwines.com
SUMMARY:Music with Rick Flores
DESCRIPTION:Amazing music with great wine\, beer\, bourbon and food!
URL:https://www.benfieldwines.com/event/music-with-rick-flores-3/
LOCATION:Benfield Wines\, 102 N Main St\, Swanton\, OH\, 43558\, United States
CATEGORIES:Music
ATTACH;FMTTYPE=image/jpeg:https://www.benfieldwines.com/wp-content/uploads/2023/05/Rick-flores-2.jpg
ORGANIZER;CN="Julia Benfield":MAILTO:julia@benfieldwines.com
GEO:41.58904;-83.890911
X-APPLE-STRUCTURED-LOCATION;VALUE=URI;X-ADDRESS=Benfield Wines 102 N Main St Swanton OH 43558 United States;X-APPLE-RADIUS=500;X-TITLE=102 N Main St:geo:-83.890911,41.58904
END:VEVENT
BEGIN:VEVENT
DTSTART;TZID=America/Detroit:20230908T180000
DTEND;TZID=America/Detroit:20230908T210000
DTSTAMP:20260423T045833
CREATED:20230824T002248Z
LAST-MODIFIED:20230824T002414Z
UID:10000631-1694196000-1694206800@www.benfieldwines.com
SUMMARY:Music with Johnny Rodriguez
DESCRIPTION:amazing music with great wine\, beer\, bourbon and food
URL:https://www.benfieldwines.com/event/music-with-johnny-rodriguez-2/
LOCATION:Benfield Wines\, 102 N Main St\, Swanton\, OH\, 43558\, United States
CATEGORIES:Music
ATTACH;FMTTYPE=image/jpeg:https://www.benfieldwines.com/wp-content/uploads/2023/04/Johnny-Rodriguez.jpg
ORGANIZER;CN="Julia Benfield":MAILTO:julia@benfieldwines.com
GEO:41.58904;-83.890911
X-APPLE-STRUCTURED-LOCATION;VALUE=URI;X-ADDRESS=Benfield Wines 102 N Main St Swanton OH 43558 United States;X-APPLE-RADIUS=500;X-TITLE=102 N Main St:geo:-83.890911,41.58904
END:VEVENT
BEGIN:VEVENT
DTSTART;TZID=America/Detroit:20230906T190000
DTEND;TZID=America/Detroit:20230906T200000
DTSTAMP:20260423T045833
CREATED:20230428T205453Z
LAST-MODIFIED:20230428T205453Z
UID:10000598-1694026800-1694030400@www.benfieldwines.com
SUMMARY:Rockstar Bingo! Music Bingo!!
DESCRIPTION:Free to Play! Fun for all ages! Prizes! Bring your electronic device and come hungry and thirsty!!
URL:https://www.benfieldwines.com/event/rockstar-bingo-music-bingo/2023-09-06/
LOCATION:Benfield Wines\, 102 N Main St\, Swanton\, OH\, 43558\, United States
CATEGORIES:Special
ATTACH;FMTTYPE=image/jpeg:https://www.benfieldwines.com/wp-content/uploads/2022/05/rockstar.jpg
ORGANIZER;CN="Julia Benfield":MAILTO:julia@benfieldwines.com
GEO:41.58904;-83.890911
X-APPLE-STRUCTURED-LOCATION;VALUE=URI;X-ADDRESS=Benfield Wines 102 N Main St Swanton OH 43558 United States;X-APPLE-RADIUS=500;X-TITLE=102 N Main St:geo:-83.890911,41.58904
END:VEVENT
BEGIN:VEVENT
DTSTART;TZID=America/Detroit:20230902T180000
DTEND;TZID=America/Detroit:20230902T210000
DTSTAMP:20260423T045833
CREATED:20230824T000039Z
LAST-MODIFIED:20230824T000053Z
UID:10000630-1693677600-1693688400@www.benfieldwines.com
SUMMARY:Dave Carpenter @ Benfield Wines
DESCRIPTION:Great music with amazing wine\, beer\, bourbon and food!
URL:https://www.benfieldwines.com/event/dave-carpenter-benfield-wines/
LOCATION:Benfield Wines\, 102 N Main St\, Swanton\, OH\, 43558\, United States
CATEGORIES:Music
ATTACH;FMTTYPE=image/jpeg:https://www.benfieldwines.com/wp-content/uploads/2023/08/dave-carpenter-2.jpg
ORGANIZER;CN="Julia Benfield":MAILTO:julia@benfieldwines.com
GEO:41.58904;-83.890911
X-APPLE-STRUCTURED-LOCATION;VALUE=URI;X-ADDRESS=Benfield Wines 102 N Main St Swanton OH 43558 United States;X-APPLE-RADIUS=500;X-TITLE=102 N Main St:geo:-83.890911,41.58904
END:VEVENT
BEGIN:VEVENT
DTSTART;TZID=America/Detroit:20230901T180000
DTEND;TZID=America/Detroit:20230901T210000
DTSTAMP:20260423T045833
CREATED:20230823T235055Z
LAST-MODIFIED:20230823T235917Z
UID:10000629-1693591200-1693602000@www.benfieldwines.com
SUMMARY:Music with the Great Ramona Collins
DESCRIPTION:Amazing music with great wine\, beer\, bourbon and food!
URL:https://www.benfieldwines.com/event/music-with-the-great-ramona-collins-3/
LOCATION:Benfield Wines\, 102 N Main St\, Swanton\, OH\, 43558\, United States
CATEGORIES:Music
ATTACH;FMTTYPE=image/jpeg:https://www.benfieldwines.com/wp-content/uploads/2021/04/ramonac.jpg
ORGANIZER;CN="Julia Benfield":MAILTO:julia@benfieldwines.com
GEO:41.58904;-83.890911
X-APPLE-STRUCTURED-LOCATION;VALUE=URI;X-ADDRESS=Benfield Wines 102 N Main St Swanton OH 43558 United States;X-APPLE-RADIUS=500;X-TITLE=102 N Main St:geo:-83.890911,41.58904
END:VEVENT
BEGIN:VEVENT
DTSTART;TZID=America/Detroit:20230830T190000
DTEND;TZID=America/Detroit:20230830T200000
DTSTAMP:20260423T045833
CREATED:20230428T205453Z
LAST-MODIFIED:20230428T205453Z
UID:10000597-1693422000-1693425600@www.benfieldwines.com
SUMMARY:Rockstar Bingo! Music Bingo!!
DESCRIPTION:Free to Play! Fun for all ages! Prizes! Bring your electronic device and come hungry and thirsty!!
URL:https://www.benfieldwines.com/event/rockstar-bingo-music-bingo/2023-08-30/
LOCATION:Benfield Wines\, 102 N Main St\, Swanton\, OH\, 43558\, United States
CATEGORIES:Special
ATTACH;FMTTYPE=image/jpeg:https://www.benfieldwines.com/wp-content/uploads/2022/05/rockstar.jpg
ORGANIZER;CN="Julia Benfield":MAILTO:julia@benfieldwines.com
GEO:41.58904;-83.890911
X-APPLE-STRUCTURED-LOCATION;VALUE=URI;X-ADDRESS=Benfield Wines 102 N Main St Swanton OH 43558 United States;X-APPLE-RADIUS=500;X-TITLE=102 N Main St:geo:-83.890911,41.58904
END:VEVENT
BEGIN:VEVENT
DTSTART;TZID=America/Detroit:20230826T180000
DTEND;TZID=America/Detroit:20230826T210000
DTSTAMP:20260423T045833
CREATED:20230731T003814Z
LAST-MODIFIED:20230731T003931Z
UID:10000627-1693072800-1693083600@www.benfieldwines.com
SUMMARY:Swanton Block Party - Music Off Main!
DESCRIPTION:Food trucks\, music\, community\, and fun! Join us for a great evening in our DORA district! Music provided by Jenn & John!
URL:https://www.benfieldwines.com/event/swanton-block-party-music-off-main/
LOCATION:Benfield Wines\, 102 N Main St\, Swanton\, OH\, 43558\, United States
CATEGORIES:Music,Special
ATTACH;FMTTYPE=image/jpeg:https://www.benfieldwines.com/wp-content/uploads/2023/04/after.jpg
ORGANIZER;CN="Julia Benfield":MAILTO:julia@benfieldwines.com
GEO:41.58904;-83.890911
X-APPLE-STRUCTURED-LOCATION;VALUE=URI;X-ADDRESS=Benfield Wines 102 N Main St Swanton OH 43558 United States;X-APPLE-RADIUS=500;X-TITLE=102 N Main St:geo:-83.890911,41.58904
END:VEVENT
BEGIN:VEVENT
DTSTART;TZID=America/Detroit:20230825T190000
DTEND;TZID=America/Detroit:20230825T200000
DTSTAMP:20260423T045833
CREATED:20230731T004327Z
LAST-MODIFIED:20230731T004528Z
UID:10000628-1692990000-1692993600@www.benfieldwines.com
SUMMARY:Harry Styles and Boy Bands Rockstar Music Bingo!
DESCRIPTION:Join us for some boy bands and chances to wine gift cards!  Play 3 rounds of music bingo with us!  Come hungry  and thirsty!
URL:https://www.benfieldwines.com/event/harry-styles-and-boy-bands-rockstar-music-bingo/
LOCATION:Benfield Wines\, 102 N Main St\, Swanton\, OH\, 43558\, United States
CATEGORIES:Music,Special
ATTACH;FMTTYPE=image/jpeg:https://www.benfieldwines.com/wp-content/uploads/2023/07/Harry-styles.jpg
ORGANIZER;CN="Julia Benfield":MAILTO:julia@benfieldwines.com
GEO:41.58904;-83.890911
X-APPLE-STRUCTURED-LOCATION;VALUE=URI;X-ADDRESS=Benfield Wines 102 N Main St Swanton OH 43558 United States;X-APPLE-RADIUS=500;X-TITLE=102 N Main St:geo:-83.890911,41.58904
END:VEVENT
BEGIN:VEVENT
DTSTART;TZID=America/Detroit:20230823T190000
DTEND;TZID=America/Detroit:20230823T200000
DTSTAMP:20260423T045833
CREATED:20230428T205453Z
LAST-MODIFIED:20230428T205453Z
UID:10000596-1692817200-1692820800@www.benfieldwines.com
SUMMARY:Rockstar Bingo! Music Bingo!!
DESCRIPTION:Free to Play! Fun for all ages! Prizes! Bring your electronic device and come hungry and thirsty!!
URL:https://www.benfieldwines.com/event/rockstar-bingo-music-bingo/2023-08-23/
LOCATION:Benfield Wines\, 102 N Main St\, Swanton\, OH\, 43558\, United States
CATEGORIES:Special
ATTACH;FMTTYPE=image/jpeg:https://www.benfieldwines.com/wp-content/uploads/2022/05/rockstar.jpg
ORGANIZER;CN="Julia Benfield":MAILTO:julia@benfieldwines.com
GEO:41.58904;-83.890911
X-APPLE-STRUCTURED-LOCATION;VALUE=URI;X-ADDRESS=Benfield Wines 102 N Main St Swanton OH 43558 United States;X-APPLE-RADIUS=500;X-TITLE=102 N Main St:geo:-83.890911,41.58904
END:VEVENT
BEGIN:VEVENT
DTSTART;TZID=America/Detroit:20230819T180000
DTEND;TZID=America/Detroit:20230819T210000
DTSTAMP:20260423T045833
CREATED:20230731T002405Z
LAST-MODIFIED:20230731T002405Z
UID:10000626-1692468000-1692478800@www.benfieldwines.com
SUMMARY:Music with Abbigale - Wine Guy's Birthday!!
DESCRIPTION:Amazing music\, great wine\, beer\, bourbon and food!
URL:https://www.benfieldwines.com/event/music-with-abbigale-wine-guys-birthday/
LOCATION:Benfield Wines\, 102 N Main St\, Swanton\, OH\, 43558\, United States
CATEGORIES:Music
ATTACH;FMTTYPE=image/jpeg:https://www.benfieldwines.com/wp-content/uploads/2021/04/Abbigale.jpg
ORGANIZER;CN="Julia Benfield":MAILTO:julia@benfieldwines.com
GEO:41.58904;-83.890911
X-APPLE-STRUCTURED-LOCATION;VALUE=URI;X-ADDRESS=Benfield Wines 102 N Main St Swanton OH 43558 United States;X-APPLE-RADIUS=500;X-TITLE=102 N Main St:geo:-83.890911,41.58904
END:VEVENT
BEGIN:VEVENT
DTSTART;TZID=America/Detroit:20230816T190000
DTEND;TZID=America/Detroit:20230816T200000
DTSTAMP:20260423T045833
CREATED:20230428T205453Z
LAST-MODIFIED:20230428T205453Z
UID:10000595-1692212400-1692216000@www.benfieldwines.com
SUMMARY:Rockstar Bingo! Music Bingo!!
DESCRIPTION:Free to Play! Fun for all ages! Prizes! Bring your electronic device and come hungry and thirsty!!
URL:https://www.benfieldwines.com/event/rockstar-bingo-music-bingo/2023-08-16/
LOCATION:Benfield Wines\, 102 N Main St\, Swanton\, OH\, 43558\, United States
CATEGORIES:Special
ATTACH;FMTTYPE=image/jpeg:https://www.benfieldwines.com/wp-content/uploads/2022/05/rockstar.jpg
ORGANIZER;CN="Julia Benfield":MAILTO:julia@benfieldwines.com
GEO:41.58904;-83.890911
X-APPLE-STRUCTURED-LOCATION;VALUE=URI;X-ADDRESS=Benfield Wines 102 N Main St Swanton OH 43558 United States;X-APPLE-RADIUS=500;X-TITLE=102 N Main St:geo:-83.890911,41.58904
END:VEVENT
BEGIN:VEVENT
DTSTART;TZID=America/Detroit:20230812T113000
DTEND;TZID=America/Detroit:20230812T220000
DTSTAMP:20260423T045833
CREATED:20230731T001954Z
LAST-MODIFIED:20230731T001954Z
UID:10000625-1691839800-1691877600@www.benfieldwines.com
SUMMARY:Special OFF SITE Event! - Tasting Room Open!
DESCRIPTION:Click HERE to see where we are!
URL:https://www.benfieldwines.com/event/special-off-site-event-tasting-room-open-2/
LOCATION:Benfield Wines\, 102 N Main St\, Swanton\, OH\, 43558\, United States
CATEGORIES:Special
ATTACH;FMTTYPE=image/jpeg:https://www.benfieldwines.com/wp-content/uploads/2023/04/after.jpg
ORGANIZER;CN="Julia Benfield":MAILTO:julia@benfieldwines.com
GEO:41.58904;-83.890911
X-APPLE-STRUCTURED-LOCATION;VALUE=URI;X-ADDRESS=Benfield Wines 102 N Main St Swanton OH 43558 United States;X-APPLE-RADIUS=500;X-TITLE=102 N Main St:geo:-83.890911,41.58904
END:VEVENT
BEGIN:VEVENT
DTSTART;TZID=America/Detroit:20230811T180000
DTEND;TZID=America/Detroit:20230811T220000
DTSTAMP:20260423T045833
CREATED:20230731T001831Z
LAST-MODIFIED:20230731T001831Z
UID:10000624-1691776800-1691791200@www.benfieldwines.com
SUMMARY:Special OFF SITE Event - Tasting Room Open!
DESCRIPTION:Click HERE to see where we are!
URL:https://www.benfieldwines.com/event/special-off-site-event-tasting-room-open/
LOCATION:Benfield Wines\, 102 N Main St\, Swanton\, OH\, 43558\, United States
CATEGORIES:Special
ATTACH;FMTTYPE=image/jpeg:https://www.benfieldwines.com/wp-content/uploads/2023/04/after.jpg
ORGANIZER;CN="Julia Benfield":MAILTO:julia@benfieldwines.com
GEO:41.58904;-83.890911
X-APPLE-STRUCTURED-LOCATION;VALUE=URI;X-ADDRESS=Benfield Wines 102 N Main St Swanton OH 43558 United States;X-APPLE-RADIUS=500;X-TITLE=102 N Main St:geo:-83.890911,41.58904
END:VEVENT
BEGIN:VEVENT
DTSTART;TZID=America/Detroit:20230809T190000
DTEND;TZID=America/Detroit:20230809T200000
DTSTAMP:20260423T045833
CREATED:20230428T205453Z
LAST-MODIFIED:20230428T205453Z
UID:10000594-1691607600-1691611200@www.benfieldwines.com
SUMMARY:Rockstar Bingo! Music Bingo!!
DESCRIPTION:Free to Play! Fun for all ages! Prizes! Bring your electronic device and come hungry and thirsty!!
URL:https://www.benfieldwines.com/event/rockstar-bingo-music-bingo/2023-08-09/
LOCATION:Benfield Wines\, 102 N Main St\, Swanton\, OH\, 43558\, United States
CATEGORIES:Special
ATTACH;FMTTYPE=image/jpeg:https://www.benfieldwines.com/wp-content/uploads/2022/05/rockstar.jpg
ORGANIZER;CN="Julia Benfield":MAILTO:julia@benfieldwines.com
GEO:41.58904;-83.890911
X-APPLE-STRUCTURED-LOCATION;VALUE=URI;X-ADDRESS=Benfield Wines 102 N Main St Swanton OH 43558 United States;X-APPLE-RADIUS=500;X-TITLE=102 N Main St:geo:-83.890911,41.58904
END:VEVENT
BEGIN:VEVENT
DTSTART;TZID=America/Detroit:20230805T180000
DTEND;TZID=America/Detroit:20230805T210000
DTSTAMP:20260423T045833
CREATED:20230731T000948Z
LAST-MODIFIED:20230731T000948Z
UID:10000623-1691258400-1691269200@www.benfieldwines.com
SUMMARY:Music with Morgan Tooth
DESCRIPTION:Great music with amazing wine\, beer\, bourbon and food!
URL:https://www.benfieldwines.com/event/music-with-morgan-tooth-7/
LOCATION:Benfield Wines\, 102 N Main St\, Swanton\, OH\, 43558\, United States
CATEGORIES:Music
ATTACH;FMTTYPE=image/jpeg:https://www.benfieldwines.com/wp-content/uploads/2022/01/morgan-tooth.jpg
ORGANIZER;CN="Julia Benfield":MAILTO:julia@benfieldwines.com
GEO:41.58904;-83.890911
X-APPLE-STRUCTURED-LOCATION;VALUE=URI;X-ADDRESS=Benfield Wines 102 N Main St Swanton OH 43558 United States;X-APPLE-RADIUS=500;X-TITLE=102 N Main St:geo:-83.890911,41.58904
END:VEVENT
BEGIN:VEVENT
DTSTART;TZID=America/Detroit:20230805T130000
DTEND;TZID=America/Detroit:20230805T170000
DTSTAMP:20260423T045833
CREATED:20230731T000647Z
LAST-MODIFIED:20230731T003154Z
UID:10000622-1691240400-1691254800@www.benfieldwines.com
SUMMARY:Special OFF Site Event
DESCRIPTION:Click HERE for details!\nEmail damtickets4u@gmail.com for tickets!
URL:https://www.benfieldwines.com/event/special-off-site-event/
LOCATION:Benfield Wines\, 102 N Main St\, Swanton\, OH\, 43558\, United States
CATEGORIES:Special
ATTACH;FMTTYPE=image/jpeg:https://www.benfieldwines.com/wp-content/uploads/2023/04/after.jpg
ORGANIZER;CN="Julia Benfield":MAILTO:julia@benfieldwines.com
GEO:41.58904;-83.890911
X-APPLE-STRUCTURED-LOCATION;VALUE=URI;X-ADDRESS=Benfield Wines 102 N Main St Swanton OH 43558 United States;X-APPLE-RADIUS=500;X-TITLE=102 N Main St:geo:-83.890911,41.58904
END:VEVENT
BEGIN:VEVENT
DTSTART;TZID=America/Detroit:20230803T180000
DTEND;TZID=America/Detroit:20230803T210000
DTSTAMP:20260423T045833
CREATED:20230516T141022Z
LAST-MODIFIED:20230729T192808Z
UID:10000602-1691085600-1691096400@www.benfieldwines.com
SUMMARY:An Evening with Medium Sirena La Point - SOLD OUT
DESCRIPTION:These events are limited seating so that Sirena may make as many connections as possible but remember a message is not guaranteed! One drink ticket with purchase – includes wine\, wine flight\, beer\, or slushy\nNo outside alcohol\, please.\nPlease note in comment box who you’d like to sit with
URL:https://www.benfieldwines.com/event/an-evening-with-medium-sirena-la-point-2/
LOCATION:Benfield Wines\, 102 N Main St\, Swanton\, OH\, 43558\, United States
CATEGORIES:Special
ATTACH;FMTTYPE=image/jpeg:https://www.benfieldwines.com/wp-content/uploads/2021/12/271998657_2015354591965237_2108977398750970594_n.jpg
ORGANIZER;CN="Julia Benfield":MAILTO:julia@benfieldwines.com
GEO:41.58904;-83.890911
X-APPLE-STRUCTURED-LOCATION;VALUE=URI;X-ADDRESS=Benfield Wines 102 N Main St Swanton OH 43558 United States;X-APPLE-RADIUS=500;X-TITLE=102 N Main St:geo:-83.890911,41.58904
END:VEVENT
BEGIN:VEVENT
DTSTART;TZID=America/Detroit:20230802T190000
DTEND;TZID=America/Detroit:20230802T200000
DTSTAMP:20260423T045833
CREATED:20230428T205453Z
LAST-MODIFIED:20230428T205453Z
UID:10000593-1691002800-1691006400@www.benfieldwines.com
SUMMARY:Rockstar Bingo! Music Bingo!!
DESCRIPTION:Free to Play! Fun for all ages! Prizes! Bring your electronic device and come hungry and thirsty!!
URL:https://www.benfieldwines.com/event/rockstar-bingo-music-bingo/2023-08-02/
LOCATION:Benfield Wines\, 102 N Main St\, Swanton\, OH\, 43558\, United States
CATEGORIES:Special
ATTACH;FMTTYPE=image/jpeg:https://www.benfieldwines.com/wp-content/uploads/2022/05/rockstar.jpg
ORGANIZER;CN="Julia Benfield":MAILTO:julia@benfieldwines.com
GEO:41.58904;-83.890911
X-APPLE-STRUCTURED-LOCATION;VALUE=URI;X-ADDRESS=Benfield Wines 102 N Main St Swanton OH 43558 United States;X-APPLE-RADIUS=500;X-TITLE=102 N Main St:geo:-83.890911,41.58904
END:VEVENT
BEGIN:VEVENT
DTSTART;TZID=America/Detroit:20230728T190000
DTEND;TZID=America/Detroit:20230728T200000
DTSTAMP:20260423T045833
CREATED:20230620T011306Z
LAST-MODIFIED:20230620T011306Z
UID:10000621-1690570800-1690574400@www.benfieldwines.com
SUMMARY:Rockstar Bingo - Music Bingo!
DESCRIPTION:Come play some music bingo with us!  Free to play\, fun for all ages!  Bring your electronic device and play bingo for a chance to win some prizes!
URL:https://www.benfieldwines.com/event/rockstar-bingo-music-bingo-2/
LOCATION:Benfield Wines\, 102 N Main St\, Swanton\, OH\, 43558\, United States
CATEGORIES:Special
ATTACH;FMTTYPE=image/jpeg:https://www.benfieldwines.com/wp-content/uploads/2022/05/rockstar.jpg
ORGANIZER;CN="Julia Benfield":MAILTO:julia@benfieldwines.com
GEO:41.58904;-83.890911
X-APPLE-STRUCTURED-LOCATION;VALUE=URI;X-ADDRESS=Benfield Wines 102 N Main St Swanton OH 43558 United States;X-APPLE-RADIUS=500;X-TITLE=102 N Main St:geo:-83.890911,41.58904
END:VEVENT
BEGIN:VEVENT
DTSTART;TZID=America/Detroit:20230726T190000
DTEND;TZID=America/Detroit:20230726T200000
DTSTAMP:20260423T045833
CREATED:20230428T205453Z
LAST-MODIFIED:20230428T205453Z
UID:10000592-1690398000-1690401600@www.benfieldwines.com
SUMMARY:Rockstar Bingo! Music Bingo!!
DESCRIPTION:Free to Play! Fun for all ages! Prizes! Bring your electronic device and come hungry and thirsty!!
URL:https://www.benfieldwines.com/event/rockstar-bingo-music-bingo/2023-07-26/
LOCATION:Benfield Wines\, 102 N Main St\, Swanton\, OH\, 43558\, United States
CATEGORIES:Special
ATTACH;FMTTYPE=image/jpeg:https://www.benfieldwines.com/wp-content/uploads/2022/05/rockstar.jpg
ORGANIZER;CN="Julia Benfield":MAILTO:julia@benfieldwines.com
GEO:41.58904;-83.890911
X-APPLE-STRUCTURED-LOCATION;VALUE=URI;X-ADDRESS=Benfield Wines 102 N Main St Swanton OH 43558 United States;X-APPLE-RADIUS=500;X-TITLE=102 N Main St:geo:-83.890911,41.58904
END:VEVENT
BEGIN:VEVENT
DTSTART;TZID=America/Detroit:20230722T180000
DTEND;TZID=America/Detroit:20230722T210000
DTSTAMP:20260423T045833
CREATED:20230620T010520Z
LAST-MODIFIED:20230620T010520Z
UID:10000619-1690048800-1690059600@www.benfieldwines.com
SUMMARY:Music with Mark Ulinski!
DESCRIPTION:Great music with amazing wine\, beer\, bourbon and food!
URL:https://www.benfieldwines.com/event/music-with-mark-ulinski/
LOCATION:Benfield Wines\, 102 N Main St\, Swanton\, OH\, 43558\, United States
CATEGORIES:Music
ATTACH;FMTTYPE=image/jpeg:https://www.benfieldwines.com/wp-content/uploads/2023/06/Mark-Ulinski.jpg
ORGANIZER;CN="Julia Benfield":MAILTO:julia@benfieldwines.com
GEO:41.58904;-83.890911
X-APPLE-STRUCTURED-LOCATION;VALUE=URI;X-ADDRESS=Benfield Wines 102 N Main St Swanton OH 43558 United States;X-APPLE-RADIUS=500;X-TITLE=102 N Main St:geo:-83.890911,41.58904
END:VEVENT
BEGIN:VEVENT
DTSTART;TZID=America/Detroit:20230721T180000
DTEND;TZID=America/Detroit:20230721T210000
DTSTAMP:20260423T045833
CREATED:20230617T230413Z
LAST-MODIFIED:20230619T150022Z
UID:10000612-1689962400-1689973200@www.benfieldwines.com
SUMMARY:Wine Survivor - Habitat for Humanity Fund Raiser! Music with JP and Big Deal!
DESCRIPTION:Benefit for Habitat for Humanity!\nHuge drawings and lots of chances to win!\nScan HERE for more details!\n \nJoin us for evening of fun\, music\, food\, and give aways for a great cause!
URL:https://www.benfieldwines.com/event/wine-survivor-habitat-for-humanity-fund-raiser/
LOCATION:Benfield Wines\, 102 N Main St\, Swanton\, OH\, 43558\, United States
CATEGORIES:Special
ATTACH;FMTTYPE=image/png:https://www.benfieldwines.com/wp-content/uploads/2023/06/logo.png
ORGANIZER;CN="Julia Benfield":MAILTO:julia@benfieldwines.com
GEO:41.58904;-83.890911
X-APPLE-STRUCTURED-LOCATION;VALUE=URI;X-ADDRESS=Benfield Wines 102 N Main St Swanton OH 43558 United States;X-APPLE-RADIUS=500;X-TITLE=102 N Main St:geo:-83.890911,41.58904
END:VEVENT
BEGIN:VEVENT
DTSTART;TZID=America/Detroit:20230719T190000
DTEND;TZID=America/Detroit:20230719T200000
DTSTAMP:20260423T045833
CREATED:20230428T205453Z
LAST-MODIFIED:20230428T205453Z
UID:10000591-1689793200-1689796800@www.benfieldwines.com
SUMMARY:Rockstar Bingo! Music Bingo!!
DESCRIPTION:Free to Play! Fun for all ages! Prizes! Bring your electronic device and come hungry and thirsty!!
URL:https://www.benfieldwines.com/event/rockstar-bingo-music-bingo/2023-07-19/
LOCATION:Benfield Wines\, 102 N Main St\, Swanton\, OH\, 43558\, United States
CATEGORIES:Special
ATTACH;FMTTYPE=image/jpeg:https://www.benfieldwines.com/wp-content/uploads/2022/05/rockstar.jpg
ORGANIZER;CN="Julia Benfield":MAILTO:julia@benfieldwines.com
GEO:41.58904;-83.890911
X-APPLE-STRUCTURED-LOCATION;VALUE=URI;X-ADDRESS=Benfield Wines 102 N Main St Swanton OH 43558 United States;X-APPLE-RADIUS=500;X-TITLE=102 N Main St:geo:-83.890911,41.58904
END:VEVENT
BEGIN:VEVENT
DTSTART;TZID=America/Detroit:20230715T180000
DTEND;TZID=America/Detroit:20230715T210000
DTSTAMP:20260423T045833
CREATED:20230620T010132Z
LAST-MODIFIED:20230620T010132Z
UID:10000618-1689444000-1689454800@www.benfieldwines.com
SUMMARY:Music with Jim Young and Scott Lavender!
DESCRIPTION:Amazing music with great wine\, beer\, bourbon and food!
URL:https://www.benfieldwines.com/event/music-with-jim-young-and-scott-lavender-2/
LOCATION:Benfield Wines\, 102 N Main St\, Swanton\, OH\, 43558\, United States
CATEGORIES:Music
ATTACH;FMTTYPE=image/jpeg:https://www.benfieldwines.com/wp-content/uploads/2022/04/young.jpg
ORGANIZER;CN="Julia Benfield":MAILTO:julia@benfieldwines.com
GEO:41.58904;-83.890911
X-APPLE-STRUCTURED-LOCATION;VALUE=URI;X-ADDRESS=Benfield Wines 102 N Main St Swanton OH 43558 United States;X-APPLE-RADIUS=500;X-TITLE=102 N Main St:geo:-83.890911,41.58904
END:VEVENT
BEGIN:VEVENT
DTSTART;TZID=America/Detroit:20230712T190000
DTEND;TZID=America/Detroit:20230712T200000
DTSTAMP:20260423T045833
CREATED:20230428T205453Z
LAST-MODIFIED:20230428T205453Z
UID:10000590-1689188400-1689192000@www.benfieldwines.com
SUMMARY:Rockstar Bingo! Music Bingo!!
DESCRIPTION:Free to Play! Fun for all ages! Prizes! Bring your electronic device and come hungry and thirsty!!
URL:https://www.benfieldwines.com/event/rockstar-bingo-music-bingo/2023-07-12/
LOCATION:Benfield Wines\, 102 N Main St\, Swanton\, OH\, 43558\, United States
CATEGORIES:Special
ATTACH;FMTTYPE=image/jpeg:https://www.benfieldwines.com/wp-content/uploads/2022/05/rockstar.jpg
ORGANIZER;CN="Julia Benfield":MAILTO:julia@benfieldwines.com
GEO:41.58904;-83.890911
X-APPLE-STRUCTURED-LOCATION;VALUE=URI;X-ADDRESS=Benfield Wines 102 N Main St Swanton OH 43558 United States;X-APPLE-RADIUS=500;X-TITLE=102 N Main St:geo:-83.890911,41.58904
END:VEVENT
END:VCALENDAR