BEGIN:VCALENDAR
VERSION:2.0
PRODID:-//Benfield Wines - ECPv6.15.20//NONSGML v1.0//EN
CALSCALE:GREGORIAN
METHOD:PUBLISH
X-WR-CALNAME:Benfield Wines
X-ORIGINAL-URL:https://www.benfieldwines.com
X-WR-CALDESC:Events for Benfield Wines
REFRESH-INTERVAL;VALUE=DURATION:PT1H
X-Robots-Tag:noindex
X-PUBLISHED-TTL:PT1H
BEGIN:VTIMEZONE
TZID:America/Detroit
BEGIN:DAYLIGHT
TZOFFSETFROM:-0500
TZOFFSETTO:-0400
TZNAME:EDT
DTSTART:20220313T070000
END:DAYLIGHT
BEGIN:STANDARD
TZOFFSETFROM:-0400
TZOFFSETTO:-0500
TZNAME:EST
DTSTART:20221106T060000
END:STANDARD
BEGIN:DAYLIGHT
TZOFFSETFROM:-0500
TZOFFSETTO:-0400
TZNAME:EDT
DTSTART:20230312T070000
END:DAYLIGHT
BEGIN:STANDARD
TZOFFSETFROM:-0400
TZOFFSETTO:-0500
TZNAME:EST
DTSTART:20231105T060000
END:STANDARD
BEGIN:DAYLIGHT
TZOFFSETFROM:-0500
TZOFFSETTO:-0400
TZNAME:EDT
DTSTART:20240310T070000
END:DAYLIGHT
BEGIN:STANDARD
TZOFFSETFROM:-0400
TZOFFSETTO:-0500
TZNAME:EST
DTSTART:20241103T060000
END:STANDARD
END:VTIMEZONE
BEGIN:VEVENT
DTSTART;TZID=America/Detroit:20230315T190000
DTEND;TZID=America/Detroit:20230315T200000
DTSTAMP:20260423T025514
CREATED:20230205T175029Z
LAST-MODIFIED:20230205T175029Z
UID:10000541-1678906800-1678910400@www.benfieldwines.com
SUMMARY:Rockstar Bingo!
DESCRIPTION:Free to Play! Fun for all ages!  Prizes! Bring your electronic device and come hungry and thirsty!!
URL:https://www.benfieldwines.com/event/rockstar-bingo-18/2023-03-15/
LOCATION:OH
CATEGORIES:Special
ATTACH;FMTTYPE=image/jpeg:https://www.benfieldwines.com/wp-content/uploads/2022/05/rockstar.jpg
END:VEVENT
BEGIN:VEVENT
DTSTART;TZID=America/Detroit:20230311T190000
DTEND;TZID=America/Detroit:20230311T200000
DTSTAMP:20260423T025514
CREATED:20230205T185427Z
LAST-MODIFIED:20230205T185445Z
UID:10000553-1678561200-1678564800@www.benfieldwines.com
SUMMARY:Saturday Rockstar Bingo!
DESCRIPTION:Free to play and fun for all ages!  Bring your electronic device and come play some music bingo with us!
URL:https://www.benfieldwines.com/event/saturday-rockstar-bingo/
LOCATION:Benfield Wines\, 102 N Main St\, Swanton\, OH\, 43558\, United States
CATEGORIES:Special
ATTACH;FMTTYPE=image/jpeg:https://www.benfieldwines.com/wp-content/uploads/2022/05/rockstar.jpg
ORGANIZER;CN="Julia Benfield":MAILTO:julia@benfieldwines.com
GEO:41.58904;-83.890911
X-APPLE-STRUCTURED-LOCATION;VALUE=URI;X-ADDRESS=Benfield Wines 102 N Main St Swanton OH 43558 United States;X-APPLE-RADIUS=500;X-TITLE=102 N Main St:geo:-83.890911,41.58904
END:VEVENT
BEGIN:VEVENT
DTSTART;TZID=America/Detroit:20230310T180000
DTEND;TZID=America/Detroit:20230310T210000
DTSTAMP:20260423T025514
CREATED:20230226T163947Z
LAST-MODIFIED:20230226T163947Z
UID:10000559-1678471200-1678482000@www.benfieldwines.com
SUMMARY:Music with Ramona Collins
DESCRIPTION:Amazing music with great craft wine\, beer\, bourbon and food!
URL:https://www.benfieldwines.com/event/music-with-ramona-collins-9/
LOCATION:Benfield Wines\, 102 N Main St\, Swanton\, OH\, 43558\, United States
CATEGORIES:Music
ATTACH;FMTTYPE=image/jpeg:https://www.benfieldwines.com/wp-content/uploads/2021/04/ramonac.jpg
ORGANIZER;CN="Julia Benfield":MAILTO:julia@benfieldwines.com
GEO:41.58904;-83.890911
X-APPLE-STRUCTURED-LOCATION;VALUE=URI;X-ADDRESS=Benfield Wines 102 N Main St Swanton OH 43558 United States;X-APPLE-RADIUS=500;X-TITLE=102 N Main St:geo:-83.890911,41.58904
END:VEVENT
BEGIN:VEVENT
DTSTART;TZID=America/Detroit:20230309T190000
DTEND;TZID=America/Detroit:20230309T200000
DTSTAMP:20260423T025514
CREATED:20230226T164143Z
LAST-MODIFIED:20230226T164143Z
UID:10000560-1678388400-1678392000@www.benfieldwines.com
SUMMARY:Women's Right to Vote! The 19th Amendment : Historical Lecture
DESCRIPTION:Join us as University of Toledo Professor Chelsea Griffis educates us on the 19th amendment and all the work done leading up to its passage!
URL:https://www.benfieldwines.com/event/womens-right-to-vote-the-19th-amendment-historical-lecture/
LOCATION:Benfield Wines\, 102 N Main St\, Swanton\, OH\, 43558\, United States
CATEGORIES:Special
ATTACH;FMTTYPE=image/jpeg:https://www.benfieldwines.com/wp-content/uploads/2023/02/vote.jpg
ORGANIZER;CN="Julia Benfield":MAILTO:julia@benfieldwines.com
GEO:41.58904;-83.890911
X-APPLE-STRUCTURED-LOCATION;VALUE=URI;X-ADDRESS=Benfield Wines 102 N Main St Swanton OH 43558 United States;X-APPLE-RADIUS=500;X-TITLE=102 N Main St:geo:-83.890911,41.58904
END:VEVENT
BEGIN:VEVENT
DTSTART;TZID=America/Detroit:20230308T190000
DTEND;TZID=America/Detroit:20230308T200000
DTSTAMP:20260423T025514
CREATED:20230205T175029Z
LAST-MODIFIED:20230205T175029Z
UID:10000540-1678302000-1678305600@www.benfieldwines.com
SUMMARY:Rockstar Bingo!
DESCRIPTION:Free to Play! Fun for all ages!  Prizes! Bring your electronic device and come hungry and thirsty!!
URL:https://www.benfieldwines.com/event/rockstar-bingo-18/2023-03-08/
LOCATION:OH
CATEGORIES:Special
ATTACH;FMTTYPE=image/jpeg:https://www.benfieldwines.com/wp-content/uploads/2022/05/rockstar.jpg
END:VEVENT
BEGIN:VEVENT
DTSTART;TZID=America/Detroit:20230304T180000
DTEND;TZID=America/Detroit:20230304T210000
DTSTAMP:20260423T025514
CREATED:20230205T183229Z
LAST-MODIFIED:20230205T183253Z
UID:10000551-1677952800-1677963600@www.benfieldwines.com
SUMMARY:Music with EZ Pickenz!
DESCRIPTION:Great music with amazing wine\, beer\, bourbon and food!
URL:https://www.benfieldwines.com/event/music-with-ez-pickenz-11/
LOCATION:Benfield Wines\, 102 N Main St\, Swanton\, OH\, 43558\, United States
CATEGORIES:Music
ATTACH;FMTTYPE=image/jpeg:https://www.benfieldwines.com/wp-content/uploads/2022/01/ez.jpg
ORGANIZER;CN="Julia Benfield":MAILTO:julia@benfieldwines.com
GEO:41.58904;-83.890911
X-APPLE-STRUCTURED-LOCATION;VALUE=URI;X-ADDRESS=Benfield Wines 102 N Main St Swanton OH 43558 United States;X-APPLE-RADIUS=500;X-TITLE=102 N Main St:geo:-83.890911,41.58904
END:VEVENT
BEGIN:VEVENT
DTSTART;TZID=America/Detroit:20230304T120000
DTEND;TZID=America/Detroit:20230304T160000
DTSTAMP:20260423T025514
CREATED:20230205T183840Z
LAST-MODIFIED:20230205T183909Z
UID:10000552-1677931200-1677945600@www.benfieldwines.com
SUMMARY:Girl Scout Cookie & Wine Pairing
DESCRIPTION:Come get a chance to pair some great cookies with your favorites wines – grab a box or 10 to take home!
URL:https://www.benfieldwines.com/event/girl-scout-cookie-wine-pairing/
LOCATION:OH
CATEGORIES:Special
ATTACH;FMTTYPE=image/jpeg:https://www.benfieldwines.com/wp-content/uploads/2022/02/GS-Cookie.jpg
END:VEVENT
BEGIN:VEVENT
DTSTART;TZID=America/Detroit:20230303T183000
DTEND;TZID=America/Detroit:20230303T183000
DTSTAMP:20260423T025514
CREATED:20230212T180145Z
LAST-MODIFIED:20230212T180236Z
UID:10000556-1677868200-1677868200@www.benfieldwines.com
SUMMARY:Painting with Posh
DESCRIPTION:All of your supplies will be waiting for you to create your very own 3-dimensional wooden masterpiece! You will have a blast!. Alcohol not included in price of class. No outside alcohol. NO refunds Click HERE to register
URL:https://www.benfieldwines.com/event/painting-with-posh-4/
LOCATION:Benfield Wines\, 102 N Main St\, Swanton\, OH\, 43558\, United States
CATEGORIES:Art
ATTACH;FMTTYPE=image/png:https://www.benfieldwines.com/wp-content/uploads/2023/02/easter.png
ORGANIZER;CN="Julia Benfield":MAILTO:julia@benfieldwines.com
GEO:41.58904;-83.890911
X-APPLE-STRUCTURED-LOCATION;VALUE=URI;X-ADDRESS=Benfield Wines 102 N Main St Swanton OH 43558 United States;X-APPLE-RADIUS=500;X-TITLE=102 N Main St:geo:-83.890911,41.58904
END:VEVENT
BEGIN:VEVENT
DTSTART;TZID=America/Detroit:20230301T190000
DTEND;TZID=America/Detroit:20230301T200000
DTSTAMP:20260423T025514
CREATED:20230205T175029Z
LAST-MODIFIED:20230205T175029Z
UID:10000539-1677697200-1677700800@www.benfieldwines.com
SUMMARY:Rockstar Bingo!
DESCRIPTION:Free to Play! Fun for all ages!  Prizes! Bring your electronic device and come hungry and thirsty!!
URL:https://www.benfieldwines.com/event/rockstar-bingo-18/2023-03-01/
LOCATION:OH
CATEGORIES:Special
ATTACH;FMTTYPE=image/jpeg:https://www.benfieldwines.com/wp-content/uploads/2022/05/rockstar.jpg
END:VEVENT
BEGIN:VEVENT
DTSTART;TZID=America/Detroit:20230228T183000
DTEND;TZID=America/Detroit:20230228T200000
DTSTAMP:20260423T025514
CREATED:20230113T191302Z
LAST-MODIFIED:20230113T191302Z
UID:10000527-1677609000-1677614400@www.benfieldwines.com
SUMMARY:Charcuterie Building Class with Lulu Fare
DESCRIPTION:Click HERE for tickets! This is a fun\, laid back casual evening of learning\, laughing\, trial and error and tasting! Learn trucks n techniques to build your board. Lots of dip recipes shared as well. 6:30pm
URL:https://www.benfieldwines.com/event/charcuterie-building-class-with-lulu-fare-2/
LOCATION:Benfield Wines\, 102 N Main St\, Swanton\, OH\, 43558\, United States
CATEGORIES:Food truck,Special
ATTACH;FMTTYPE=image/jpeg:https://www.benfieldwines.com/wp-content/uploads/2023/01/325220173_1218143585576951_1769719254607024667_n.jpg
ORGANIZER;CN="Julia Benfield":MAILTO:julia@benfieldwines.com
GEO:41.58904;-83.890911
X-APPLE-STRUCTURED-LOCATION;VALUE=URI;X-ADDRESS=Benfield Wines 102 N Main St Swanton OH 43558 United States;X-APPLE-RADIUS=500;X-TITLE=102 N Main St:geo:-83.890911,41.58904
END:VEVENT
BEGIN:VEVENT
DTSTART;TZID=America/Detroit:20230225T180000
DTEND;TZID=America/Detroit:20230225T210000
DTSTAMP:20260423T025514
CREATED:20230113T192710Z
LAST-MODIFIED:20230113T192738Z
UID:10000531-1677348000-1677358800@www.benfieldwines.com
SUMMARY:Music with Jack Schilb and Lucky Lemont
DESCRIPTION:Great music with amazing wine\, beer\, bourbon and food!
URL:https://www.benfieldwines.com/event/music-with-jack-schilb-and-lucky-lemont/
LOCATION:Benfield Wines\, 102 N Main St\, Swanton\, OH\, 43558\, United States
CATEGORIES:Music
ATTACH;FMTTYPE=image/jpeg:https://www.benfieldwines.com/wp-content/uploads/2023/01/Jack-Schilb.jpg
ORGANIZER;CN="Julia Benfield":MAILTO:julia@benfieldwines.com
GEO:41.58904;-83.890911
X-APPLE-STRUCTURED-LOCATION;VALUE=URI;X-ADDRESS=Benfield Wines 102 N Main St Swanton OH 43558 United States;X-APPLE-RADIUS=500;X-TITLE=102 N Main St:geo:-83.890911,41.58904
END:VEVENT
BEGIN:VEVENT
DTSTART;TZID=America/Detroit:20230224T180000
DTEND;TZID=America/Detroit:20230224T210000
DTSTAMP:20260423T025514
CREATED:20230205T181812Z
LAST-MODIFIED:20230205T181841Z
UID:10000550-1677261600-1677272400@www.benfieldwines.com
SUMMARY:Music with the Amazing Ramona Collins!
DESCRIPTION:Amazing music with some great wine\, beer\, bourbon and food!
URL:https://www.benfieldwines.com/event/music-with-the-amazing-ramona-collins/
LOCATION:Benfield Wines\, 102 N Main St\, Swanton\, OH\, 43558\, United States
CATEGORIES:Music
ATTACH;FMTTYPE=image/jpeg:https://www.benfieldwines.com/wp-content/uploads/2021/04/ramonac.jpg
ORGANIZER;CN="Julia Benfield":MAILTO:julia@benfieldwines.com
GEO:41.58904;-83.890911
X-APPLE-STRUCTURED-LOCATION;VALUE=URI;X-ADDRESS=Benfield Wines 102 N Main St Swanton OH 43558 United States;X-APPLE-RADIUS=500;X-TITLE=102 N Main St:geo:-83.890911,41.58904
END:VEVENT
BEGIN:VEVENT
DTSTART;TZID=America/Detroit:20230222T190000
DTEND;TZID=America/Detroit:20230222T200000
DTSTAMP:20260423T025514
CREATED:20230205T175029Z
LAST-MODIFIED:20230205T175029Z
UID:10000538-1677092400-1677096000@www.benfieldwines.com
SUMMARY:Rockstar Bingo!
DESCRIPTION:Free to Play! Fun for all ages!  Prizes! Bring your electronic device and come hungry and thirsty!!
URL:https://www.benfieldwines.com/event/rockstar-bingo-18/2023-02-22/
LOCATION:OH
CATEGORIES:Special
ATTACH;FMTTYPE=image/jpeg:https://www.benfieldwines.com/wp-content/uploads/2022/05/rockstar.jpg
END:VEVENT
BEGIN:VEVENT
DTSTART;TZID=America/Detroit:20230221T183000
DTEND;TZID=America/Detroit:20230221T200000
DTSTAMP:20260423T025514
CREATED:20230113T191116Z
LAST-MODIFIED:20230113T191116Z
UID:10000526-1677004200-1677009600@www.benfieldwines.com
SUMMARY:Meal Prep: Chicken Style! With Lulu Fare
DESCRIPTION:Click HERE for tickets! Meal prep and planning made simple. I will demonstrate multiple recipes and you taste test them all. 6:30pm
URL:https://www.benfieldwines.com/event/meal-prep-chicken-style-with-lulu-fare/
LOCATION:Benfield Wines\, 102 N Main St\, Swanton\, OH\, 43558\, United States
CATEGORIES:Special
ATTACH;FMTTYPE=image/jpeg:https://www.benfieldwines.com/wp-content/uploads/2023/01/321562082_688602619390966_5089533212145617724_n.jpg
ORGANIZER;CN="Julia Benfield":MAILTO:julia@benfieldwines.com
GEO:41.58904;-83.890911
X-APPLE-STRUCTURED-LOCATION;VALUE=URI;X-ADDRESS=Benfield Wines 102 N Main St Swanton OH 43558 United States;X-APPLE-RADIUS=500;X-TITLE=102 N Main St:geo:-83.890911,41.58904
END:VEVENT
BEGIN:VEVENT
DTSTART;TZID=America/Detroit:20230221T170000
DTEND;TZID=America/Detroit:20230221T200000
DTSTAMP:20260423T025514
CREATED:20230205T180753Z
LAST-MODIFIED:20230205T180820Z
UID:10000549-1676998800-1677009600@www.benfieldwines.com
SUMMARY:Fat Tuesday Paczki & Wine Pairing
DESCRIPTION:It’s Fat Tuesday! Come in for some free Paczki’s and pair with some great wines!
URL:https://www.benfieldwines.com/event/fat-tuesday-paczki-wine-pairing/
LOCATION:Benfield Wines\, 102 N Main St\, Swanton\, OH\, 43558\, United States
CATEGORIES:Special
ATTACH;FMTTYPE=image/jpeg:https://www.benfieldwines.com/wp-content/uploads/2023/02/fat-tuesday.jpg
ORGANIZER;CN="Julia Benfield":MAILTO:julia@benfieldwines.com
GEO:41.58904;-83.890911
X-APPLE-STRUCTURED-LOCATION;VALUE=URI;X-ADDRESS=Benfield Wines 102 N Main St Swanton OH 43558 United States;X-APPLE-RADIUS=500;X-TITLE=102 N Main St:geo:-83.890911,41.58904
END:VEVENT
BEGIN:VEVENT
DTSTART;TZID=America/Detroit:20230218T180000
DTEND;TZID=America/Detroit:20230218T210000
DTSTAMP:20260423T025514
CREATED:20230113T192006Z
LAST-MODIFIED:20230113T192052Z
UID:10000530-1676743200-1676754000@www.benfieldwines.com
SUMMARY:Music with Steve Kennedy!
DESCRIPTION:great music with amazing wine\, beer\, bourbon and food!
URL:https://www.benfieldwines.com/event/music-with-steve-kennedy-4/
LOCATION:Benfield Wines\, 102 N Main St\, Swanton\, OH\, 43558\, United States
CATEGORIES:Music
ATTACH;FMTTYPE=image/jpeg:https://www.benfieldwines.com/wp-content/uploads/2021/11/Kennedy.jpg
ORGANIZER;CN="Julia Benfield":MAILTO:julia@benfieldwines.com
GEO:41.58904;-83.890911
X-APPLE-STRUCTURED-LOCATION;VALUE=URI;X-ADDRESS=Benfield Wines 102 N Main St Swanton OH 43558 United States;X-APPLE-RADIUS=500;X-TITLE=102 N Main St:geo:-83.890911,41.58904
END:VEVENT
BEGIN:VEVENT
DTSTART;TZID=America/Detroit:20230217T190000
DTEND;TZID=America/Detroit:20230217T210000
DTSTAMP:20260423T025514
CREATED:20230113T190922Z
LAST-MODIFIED:20230113T190922Z
UID:10000525-1676660400-1676667600@www.benfieldwines.com
SUMMARY:Pure Romance Party
DESCRIPTION:Ladies – you asked\, we answered! A fun night to browse some products! Cherie will have her mobile boutique here for you to “Sip and shop!”
URL:https://www.benfieldwines.com/event/pure-romance-party/
LOCATION:Benfield Wines\, 102 N Main St\, Swanton\, OH\, 43558\, United States
CATEGORIES:Special
ATTACH;FMTTYPE=image/jpeg:https://www.benfieldwines.com/wp-content/uploads/2023/01/Pure-Romance.jpg
ORGANIZER;CN="Julia Benfield":MAILTO:julia@benfieldwines.com
GEO:41.58904;-83.890911
X-APPLE-STRUCTURED-LOCATION;VALUE=URI;X-ADDRESS=Benfield Wines 102 N Main St Swanton OH 43558 United States;X-APPLE-RADIUS=500;X-TITLE=102 N Main St:geo:-83.890911,41.58904
END:VEVENT
BEGIN:VEVENT
DTSTART;TZID=America/Detroit:20230215T190000
DTEND;TZID=America/Detroit:20230215T200000
DTSTAMP:20260423T025515
CREATED:20230205T172836Z
LAST-MODIFIED:20230205T172910Z
UID:10000537-1676487600-1676491200@www.benfieldwines.com
SUMMARY:Rockstar Bingo!
DESCRIPTION:Free to play – fun for all ages!  Bring your electronic device and have some fun with us! Come hungry and thirsty!
URL:https://www.benfieldwines.com/event/rockstar-bingo-17/
LOCATION:Benfield Wines\, 102 N Main St\, Swanton\, OH\, 43558\, United States
CATEGORIES:Special
ATTACH;FMTTYPE=image/jpeg:https://www.benfieldwines.com/wp-content/uploads/2022/05/rockstar.jpg
ORGANIZER;CN="Julia Benfield":MAILTO:julia@benfieldwines.com
GEO:41.58904;-83.890911
X-APPLE-STRUCTURED-LOCATION;VALUE=URI;X-ADDRESS=Benfield Wines 102 N Main St Swanton OH 43558 United States;X-APPLE-RADIUS=500;X-TITLE=102 N Main St:geo:-83.890911,41.58904
END:VEVENT
BEGIN:VEVENT
DTSTART;TZID=America/Detroit:20230211T180000
DTEND;TZID=America/Detroit:20230211T213000
DTSTAMP:20260423T025515
CREATED:20221125T183641Z
LAST-MODIFIED:20230201T171945Z
UID:10000509-1676138400-1676151000@www.benfieldwines.com
SUMMARY:Valentines and Benfield Wines - An Evening with Medium Sirena La Point
DESCRIPTION:This is a SPECIAL Valentine’s event with Sirena\, our FAVORITE Medium!. \nYour Single Ticket includes admission for ONE\, plus One wine & chocolate flight to enjoy in the beautiful candle-lit Pilliod Opera House. \nBring your special someone and enjoy a great evening with Sirena! \nPlease include names of both parties in your registration!
URL:https://www.benfieldwines.com/event/valentines-and-benfield-wines-an-evening-with-medium-sirena-la-point/
LOCATION:Benfield Wines\, 102 N Main St\, Swanton\, OH\, 43558\, United States
CATEGORIES:Special
ATTACH;FMTTYPE=image/jpeg:https://www.benfieldwines.com/wp-content/uploads/2022/11/valentine-sirena.jpg
ORGANIZER;CN="Julia Benfield":MAILTO:julia@benfieldwines.com
GEO:41.58904;-83.890911
X-APPLE-STRUCTURED-LOCATION;VALUE=URI;X-ADDRESS=Benfield Wines 102 N Main St Swanton OH 43558 United States;X-APPLE-RADIUS=500;X-TITLE=102 N Main St:geo:-83.890911,41.58904
END:VEVENT
BEGIN:VEVENT
DTSTART;TZID=America/Detroit:20230210T180000
DTEND;TZID=America/Detroit:20230210T210000
DTSTAMP:20260423T025515
CREATED:20230205T165934Z
LAST-MODIFIED:20230205T165934Z
UID:10000535-1676052000-1676062800@www.benfieldwines.com
SUMMARY:Music with Morgan Tooth!
DESCRIPTION:Amazing music with great wine made in house\, beer\, bourbon and food!
URL:https://www.benfieldwines.com/event/music-with-morgan-tooth-5/
LOCATION:Benfield Wines\, 102 N Main St\, Swanton\, OH\, 43558\, United States
CATEGORIES:Music
ATTACH;FMTTYPE=image/jpeg:https://www.benfieldwines.com/wp-content/uploads/2022/01/morgan-tooth.jpg
ORGANIZER;CN="Julia Benfield":MAILTO:julia@benfieldwines.com
GEO:41.58904;-83.890911
X-APPLE-STRUCTURED-LOCATION;VALUE=URI;X-ADDRESS=Benfield Wines 102 N Main St Swanton OH 43558 United States;X-APPLE-RADIUS=500;X-TITLE=102 N Main St:geo:-83.890911,41.58904
END:VEVENT
BEGIN:VEVENT
DTSTART;TZID=America/Detroit:20230209T183000
DTEND;TZID=America/Detroit:20230209T203000
DTSTAMP:20260423T025515
CREATED:20230113T190729Z
LAST-MODIFIED:20230113T190729Z
UID:10000524-1675967400-1675974600@www.benfieldwines.com
SUMMARY:Superbowl Snacks Class with Lulu Fare!
DESCRIPTION:click HERE for tickets!\nJoin us Sat Feb 4 1-3pm as I demonstrate and you taste new dishes to “wow” even the toughest crowd.
URL:https://www.benfieldwines.com/event/superbowl-snacks-class-with-lulu-fare/
LOCATION:Benfield Wines\, 102 N Main St\, Swanton\, OH\, 43558\, United States
CATEGORIES:Food truck,Special
ATTACH;FMTTYPE=image/jpeg:https://www.benfieldwines.com/wp-content/uploads/2023/01/321622333_525091379594559_3299214485772126114_n.jpg
ORGANIZER;CN="Julia Benfield":MAILTO:julia@benfieldwines.com
GEO:41.58904;-83.890911
X-APPLE-STRUCTURED-LOCATION;VALUE=URI;X-ADDRESS=Benfield Wines 102 N Main St Swanton OH 43558 United States;X-APPLE-RADIUS=500;X-TITLE=102 N Main St:geo:-83.890911,41.58904
END:VEVENT
BEGIN:VEVENT
DTSTART;TZID=America/Detroit:20230209T170000
DTEND;TZID=America/Detroit:20230209T200000
DTSTAMP:20260423T025515
CREATED:20230205T172047Z
LAST-MODIFIED:20230205T173204Z
UID:10000536-1675962000-1675972800@www.benfieldwines.com
SUMMARY:National Pizza Day! $1 off Flatbreads!
DESCRIPTION:Come hungry and thirsty! $1 off all flatbreads!
URL:https://www.benfieldwines.com/event/national-pizza-day-1-off-flatbreads/
LOCATION:Benfield Wines\, 102 N Main St\, Swanton\, OH\, 43558\, United States
CATEGORIES:Food truck
ATTACH;FMTTYPE=image/jpeg:https://www.benfieldwines.com/wp-content/uploads/2023/02/pizza-guy.jpg
ORGANIZER;CN="Julia Benfield":MAILTO:julia@benfieldwines.com
GEO:41.58904;-83.890911
X-APPLE-STRUCTURED-LOCATION;VALUE=URI;X-ADDRESS=Benfield Wines 102 N Main St Swanton OH 43558 United States;X-APPLE-RADIUS=500;X-TITLE=102 N Main St:geo:-83.890911,41.58904
END:VEVENT
BEGIN:VEVENT
DTSTART;TZID=America/Detroit:20230208T190000
DTEND;TZID=America/Detroit:20230208T210000
DTSTAMP:20260423T025515
CREATED:20230114T010045Z
LAST-MODIFIED:20230114T010113Z
UID:10000532-1675882800-1675890000@www.benfieldwines.com
SUMMARY:Rockstar Bingo!
DESCRIPTION:Free to play! Prizes! Come hungry and thirsty
URL:https://www.benfieldwines.com/event/rockstar-bingo-16/
LOCATION:Benfield Wines\, 102 N Main St\, Swanton\, OH\, 43558\, United States
CATEGORIES:Special
ATTACH;FMTTYPE=image/jpeg:https://www.benfieldwines.com/wp-content/uploads/2022/05/rockstar.jpg
ORGANIZER;CN="Julia Benfield":MAILTO:julia@benfieldwines.com
GEO:41.58904;-83.890911
X-APPLE-STRUCTURED-LOCATION;VALUE=URI;X-ADDRESS=Benfield Wines 102 N Main St Swanton OH 43558 United States;X-APPLE-RADIUS=500;X-TITLE=102 N Main St:geo:-83.890911,41.58904
END:VEVENT
BEGIN:VEVENT
DTSTART;TZID=America/Detroit:20230204T180000
DTEND;TZID=America/Detroit:20230204T210000
DTSTAMP:20260423T025515
CREATED:20230113T191817Z
LAST-MODIFIED:20230113T191817Z
UID:10000529-1675533600-1675544400@www.benfieldwines.com
SUMMARY:Music with Dave Carpenter
DESCRIPTION:Great music with amazing wine\, beer\, bourbon and food!
URL:https://www.benfieldwines.com/event/music-with-dave-carpenter/
LOCATION:Benfield Wines\, 102 N Main St\, Swanton\, OH\, 43558\, United States
CATEGORIES:Music
ATTACH;FMTTYPE=image/jpeg:https://www.benfieldwines.com/wp-content/uploads/2023/01/Dave-carpenter.jpg
ORGANIZER;CN="Julia Benfield":MAILTO:julia@benfieldwines.com
GEO:41.58904;-83.890911
X-APPLE-STRUCTURED-LOCATION;VALUE=URI;X-ADDRESS=Benfield Wines 102 N Main St Swanton OH 43558 United States;X-APPLE-RADIUS=500;X-TITLE=102 N Main St:geo:-83.890911,41.58904
END:VEVENT
BEGIN:VEVENT
DTSTART;TZID=America/Detroit:20230201T190000
DTEND;TZID=America/Detroit:20230201T200000
DTSTAMP:20260423T025515
CREATED:20230114T012157Z
LAST-MODIFIED:20230114T012157Z
UID:10000533-1675278000-1675281600@www.benfieldwines.com
SUMMARY:Rockstar Bingo!
DESCRIPTION:Free to play! Prizes! Come hungry and thirsty!
URL:https://www.benfieldwines.com/event/rockstar-bingo-15/
LOCATION:Benfield Wines\, 102 N Main St\, Swanton\, OH\, 43558\, United States
CATEGORIES:Special
ATTACH;FMTTYPE=image/jpeg:https://www.benfieldwines.com/wp-content/uploads/2022/05/rockstar.jpg
ORGANIZER;CN="Julia Benfield":MAILTO:julia@benfieldwines.com
GEO:41.58904;-83.890911
X-APPLE-STRUCTURED-LOCATION;VALUE=URI;X-ADDRESS=Benfield Wines 102 N Main St Swanton OH 43558 United States;X-APPLE-RADIUS=500;X-TITLE=102 N Main St:geo:-83.890911,41.58904
END:VEVENT
BEGIN:VEVENT
DTSTART;TZID=America/Detroit:20230128T180000
DTEND;TZID=America/Detroit:20230128T210000
DTSTAMP:20260423T025515
CREATED:20230102T233331Z
LAST-MODIFIED:20230102T233331Z
UID:10000521-1674928800-1674939600@www.benfieldwines.com
SUMMARY:Music with Lori Lefèvre &  Chris Buzelli
DESCRIPTION:Amazing music with great wine\, beer\, bourbon and food!
URL:https://www.benfieldwines.com/event/music-with-lori-lefevre-chris-buzelli/
LOCATION:Benfield Wines\, 102 N Main St\, Swanton\, OH\, 43558\, United States
CATEGORIES:Music
ATTACH;FMTTYPE=image/jpeg:https://www.benfieldwines.com/wp-content/uploads/2021/11/logo.jpg
ORGANIZER;CN="Julia Benfield":MAILTO:julia@benfieldwines.com
GEO:41.58904;-83.890911
X-APPLE-STRUCTURED-LOCATION;VALUE=URI;X-ADDRESS=Benfield Wines 102 N Main St Swanton OH 43558 United States;X-APPLE-RADIUS=500;X-TITLE=102 N Main St:geo:-83.890911,41.58904
END:VEVENT
BEGIN:VEVENT
DTSTART;TZID=America/Detroit:20230128T130000
DTEND;TZID=America/Detroit:20230128T160000
DTSTAMP:20260423T025515
CREATED:20230103T150426Z
LAST-MODIFIED:20230103T150426Z
UID:10000522-1674910800-1674921600@www.benfieldwines.com
SUMMARY:Paintin’ with Posh: Valentine Edition
DESCRIPTION:Click HERE for tickets!\nAll of your supplies will be waiting for you to create your very own 3-dimensional wooden masterpiece! You will have a blast! No outside alcohol\, no refunds
URL:https://www.benfieldwines.com/event/paintin-with-posh-valentine-edition/
LOCATION:Benfield Wines\, 102 N Main St\, Swanton\, OH\, 43558\, United States
CATEGORIES:Art
ATTACH;FMTTYPE=image/png:https://www.benfieldwines.com/wp-content/uploads/2023/01/valentine2.png
ORGANIZER;CN="Julia Benfield":MAILTO:julia@benfieldwines.com
GEO:41.58904;-83.890911
X-APPLE-STRUCTURED-LOCATION;VALUE=URI;X-ADDRESS=Benfield Wines 102 N Main St Swanton OH 43558 United States;X-APPLE-RADIUS=500;X-TITLE=102 N Main St:geo:-83.890911,41.58904
END:VEVENT
BEGIN:VEVENT
DTSTART;TZID=America/Detroit:20230126T183000
DTEND;TZID=America/Detroit:20230126T183000
DTSTAMP:20260423T025515
CREATED:20230113T190503Z
LAST-MODIFIED:20230113T190503Z
UID:10000523-1674757800-1674757800@www.benfieldwines.com
SUMMARY:Soup Making Class/Demo with Lulu Fare!
DESCRIPTION:Click HERE for tickets!\nJoin us for an evening of learning and tasting. Ill demonstrate 3 original soup recipes and you taste.
URL:https://www.benfieldwines.com/event/soup-making-class-demo-with-lulu-fare/
LOCATION:Benfield Wines\, 102 N Main St\, Swanton\, OH\, 43558\, United States
CATEGORIES:Special
ATTACH;FMTTYPE=image/jpeg:https://www.benfieldwines.com/wp-content/uploads/2023/01/321508014_1515313545620173_6324874780719465548_n.jpg
ORGANIZER;CN="Julia Benfield":MAILTO:julia@benfieldwines.com
GEO:41.58904;-83.890911
X-APPLE-STRUCTURED-LOCATION;VALUE=URI;X-ADDRESS=Benfield Wines 102 N Main St Swanton OH 43558 United States;X-APPLE-RADIUS=500;X-TITLE=102 N Main St:geo:-83.890911,41.58904
END:VEVENT
BEGIN:VEVENT
DTSTART;VALUE=DATE:20230124
DTEND;VALUE=DATE:20230126
DTSTAMP:20260423T025515
CREATED:20230102T233148Z
LAST-MODIFIED:20230102T233148Z
UID:10000520-1674518400-1674691199@www.benfieldwines.com
SUMMARY:CLOSED
DESCRIPTION:We are closed 1/24-1/25 – Sorry for the inconvenience.
URL:https://www.benfieldwines.com/event/closed/
LOCATION:Benfield Wines\, 102 N Main St\, Swanton\, OH\, 43558\, United States
CATEGORIES:Special
ATTACH;FMTTYPE=image/jpeg:https://www.benfieldwines.com/wp-content/uploads/2023/01/closed-2.jpg
ORGANIZER;CN="Julia Benfield":MAILTO:julia@benfieldwines.com
GEO:41.58904;-83.890911
X-APPLE-STRUCTURED-LOCATION;VALUE=URI;X-ADDRESS=Benfield Wines 102 N Main St Swanton OH 43558 United States;X-APPLE-RADIUS=500;X-TITLE=102 N Main St:geo:-83.890911,41.58904
END:VEVENT
BEGIN:VEVENT
DTSTART;TZID=America/Detroit:20230121T180000
DTEND;TZID=America/Detroit:20230121T210000
DTSTAMP:20260423T025515
CREATED:20230102T231846Z
LAST-MODIFIED:20230102T231846Z
UID:10000517-1674324000-1674334800@www.benfieldwines.com
SUMMARY:Music with Chris Canode
DESCRIPTION:Great music with amazing wine\, beer\, bourbon and food!
URL:https://www.benfieldwines.com/event/music-with-chris-canode-3/
LOCATION:Benfield Wines\, 102 N Main St\, Swanton\, OH\, 43558\, United States
CATEGORIES:Music
ATTACH;FMTTYPE=image/jpeg:https://www.benfieldwines.com/wp-content/uploads/2022/01/Canode.jpg
ORGANIZER;CN="Julia Benfield":MAILTO:julia@benfieldwines.com
GEO:41.58904;-83.890911
X-APPLE-STRUCTURED-LOCATION;VALUE=URI;X-ADDRESS=Benfield Wines 102 N Main St Swanton OH 43558 United States;X-APPLE-RADIUS=500;X-TITLE=102 N Main St:geo:-83.890911,41.58904
END:VEVENT
END:VCALENDAR