BEGIN:VCALENDAR
VERSION:2.0
PRODID:-//Benfield Wines - ECPv6.15.20//NONSGML v1.0//EN
CALSCALE:GREGORIAN
METHOD:PUBLISH
X-ORIGINAL-URL:https://www.benfieldwines.com
X-WR-CALDESC:Events for Benfield Wines
REFRESH-INTERVAL;VALUE=DURATION:PT1H
X-Robots-Tag:noindex
X-PUBLISHED-TTL:PT1H
BEGIN:VTIMEZONE
TZID:America/Detroit
BEGIN:DAYLIGHT
TZOFFSETFROM:-0500
TZOFFSETTO:-0400
TZNAME:EDT
DTSTART:20220313T070000
END:DAYLIGHT
BEGIN:STANDARD
TZOFFSETFROM:-0400
TZOFFSETTO:-0500
TZNAME:EST
DTSTART:20221106T060000
END:STANDARD
BEGIN:DAYLIGHT
TZOFFSETFROM:-0500
TZOFFSETTO:-0400
TZNAME:EDT
DTSTART:20230312T070000
END:DAYLIGHT
BEGIN:STANDARD
TZOFFSETFROM:-0400
TZOFFSETTO:-0500
TZNAME:EST
DTSTART:20231105T060000
END:STANDARD
BEGIN:DAYLIGHT
TZOFFSETFROM:-0500
TZOFFSETTO:-0400
TZNAME:EDT
DTSTART:20240310T070000
END:DAYLIGHT
BEGIN:STANDARD
TZOFFSETFROM:-0400
TZOFFSETTO:-0500
TZNAME:EST
DTSTART:20241103T060000
END:STANDARD
END:VTIMEZONE
BEGIN:VEVENT
DTSTART;TZID=America/Detroit:20230630T180000
DTEND;TZID=America/Detroit:20230630T210000
DTSTAMP:20260422T203037
CREATED:20230521T145653Z
LAST-MODIFIED:20230619T162803Z
UID:10000607-1688148000-1688158800@www.benfieldwines.com
SUMMARY:Music with Chris Shutters!
DESCRIPTION:great music with amazing wine\, beer\, bourbon and awesome food! Tocayo’s Food Truck will be here!
URL:https://www.benfieldwines.com/event/music-with-chris-shutters-8/
LOCATION:Benfield Wines\, 102 N Main St\, Swanton\, OH\, 43558\, United States
CATEGORIES:Music
ATTACH;FMTTYPE=image/jpeg:https://www.benfieldwines.com/wp-content/uploads/2021/01/chris.jpg
ORGANIZER;CN="Julia Benfield":MAILTO:julia@benfieldwines.com
GEO:41.58904;-83.890911
X-APPLE-STRUCTURED-LOCATION;VALUE=URI;X-ADDRESS=Benfield Wines 102 N Main St Swanton OH 43558 United States;X-APPLE-RADIUS=500;X-TITLE=102 N Main St:geo:-83.890911,41.58904
END:VEVENT
BEGIN:VEVENT
DTSTART;TZID=America/Detroit:20230629T150000
DTEND;TZID=America/Detroit:20230629T210000
DTSTAMP:20260422T203037
CREATED:20230620T002211Z
LAST-MODIFIED:20230620T002920Z
UID:10000613-1688050800-1688072400@www.benfieldwines.com
SUMMARY:National Bombpop Day - Bombpop Slushies!
DESCRIPTION:Come celebrate National Bombpop day with a bombpop slushie!
URL:https://www.benfieldwines.com/event/national-bombpop-day-bombpop-slushies/
LOCATION:Benfield Wines\, 102 N Main St\, Swanton\, OH\, 43558\, United States
CATEGORIES:Special
ATTACH;FMTTYPE=image/jpeg:https://www.benfieldwines.com/wp-content/uploads/2023/06/bombpop.jpg
ORGANIZER;CN="Julia Benfield":MAILTO:julia@benfieldwines.com
GEO:41.58904;-83.890911
X-APPLE-STRUCTURED-LOCATION;VALUE=URI;X-ADDRESS=Benfield Wines 102 N Main St Swanton OH 43558 United States;X-APPLE-RADIUS=500;X-TITLE=102 N Main St:geo:-83.890911,41.58904
END:VEVENT
BEGIN:VEVENT
DTSTART;TZID=America/Detroit:20230628T190000
DTEND;TZID=America/Detroit:20230628T200000
DTSTAMP:20260422T203037
CREATED:20230428T205453Z
LAST-MODIFIED:20230428T205453Z
UID:10000588-1687978800-1687982400@www.benfieldwines.com
SUMMARY:Rockstar Bingo! Music Bingo!!
DESCRIPTION:Free to Play! Fun for all ages! Prizes! Bring your electronic device and come hungry and thirsty!!
URL:https://www.benfieldwines.com/event/rockstar-bingo-music-bingo/2023-06-28/
LOCATION:Benfield Wines\, 102 N Main St\, Swanton\, OH\, 43558\, United States
CATEGORIES:Special
ATTACH;FMTTYPE=image/jpeg:https://www.benfieldwines.com/wp-content/uploads/2022/05/rockstar.jpg
ORGANIZER;CN="Julia Benfield":MAILTO:julia@benfieldwines.com
GEO:41.58904;-83.890911
X-APPLE-STRUCTURED-LOCATION;VALUE=URI;X-ADDRESS=Benfield Wines 102 N Main St Swanton OH 43558 United States;X-APPLE-RADIUS=500;X-TITLE=102 N Main St:geo:-83.890911,41.58904
END:VEVENT
BEGIN:VEVENT
DTSTART;TZID=America/Detroit:20230624T180000
DTEND;TZID=America/Detroit:20230624T210000
DTSTAMP:20260422T203037
CREATED:20230521T145546Z
LAST-MODIFIED:20230521T145546Z
UID:10000606-1687629600-1687640400@www.benfieldwines.com
SUMMARY:Music with Rick Flores
DESCRIPTION:great music with amazing wine\, beer\, bourbon and awesome food!
URL:https://www.benfieldwines.com/event/music-with-rick-flores-2/
LOCATION:Benfield Wines\, 102 N Main St\, Swanton\, OH\, 43558\, United States
CATEGORIES:Music
ATTACH;FMTTYPE=image/jpeg:https://www.benfieldwines.com/wp-content/uploads/2023/05/Rick-flores-2.jpg
ORGANIZER;CN="Julia Benfield":MAILTO:julia@benfieldwines.com
GEO:41.58904;-83.890911
X-APPLE-STRUCTURED-LOCATION;VALUE=URI;X-ADDRESS=Benfield Wines 102 N Main St Swanton OH 43558 United States;X-APPLE-RADIUS=500;X-TITLE=102 N Main St:geo:-83.890911,41.58904
END:VEVENT
BEGIN:VEVENT
DTSTART;TZID=America/Detroit:20230623T180000
DTEND;TZID=America/Detroit:20230623T210000
DTSTAMP:20260422T203037
CREATED:20230521T145159Z
LAST-MODIFIED:20230521T145159Z
UID:10000605-1687543200-1687554000@www.benfieldwines.com
SUMMARY:Music with Abbigale
DESCRIPTION:great music with amazing wine\, beer\, bourbon and awesome food!
URL:https://www.benfieldwines.com/event/music-with-abbigale-13/
LOCATION:Benfield Wines\, 102 N Main St\, Swanton\, OH\, 43558\, United States
CATEGORIES:Music
ATTACH;FMTTYPE=image/jpeg:https://www.benfieldwines.com/wp-content/uploads/2021/04/Abbigale.jpg
ORGANIZER;CN="Julia Benfield":MAILTO:julia@benfieldwines.com
GEO:41.58904;-83.890911
X-APPLE-STRUCTURED-LOCATION;VALUE=URI;X-ADDRESS=Benfield Wines 102 N Main St Swanton OH 43558 United States;X-APPLE-RADIUS=500;X-TITLE=102 N Main St:geo:-83.890911,41.58904
END:VEVENT
BEGIN:VEVENT
DTSTART;TZID=America/Detroit:20230621T190000
DTEND;TZID=America/Detroit:20230621T200000
DTSTAMP:20260422T203037
CREATED:20230428T205453Z
LAST-MODIFIED:20230428T205453Z
UID:10000587-1687374000-1687377600@www.benfieldwines.com
SUMMARY:Rockstar Bingo! Music Bingo!!
DESCRIPTION:Free to Play! Fun for all ages! Prizes! Bring your electronic device and come hungry and thirsty!!
URL:https://www.benfieldwines.com/event/rockstar-bingo-music-bingo/2023-06-21/
LOCATION:Benfield Wines\, 102 N Main St\, Swanton\, OH\, 43558\, United States
CATEGORIES:Special
ATTACH;FMTTYPE=image/jpeg:https://www.benfieldwines.com/wp-content/uploads/2022/05/rockstar.jpg
ORGANIZER;CN="Julia Benfield":MAILTO:julia@benfieldwines.com
GEO:41.58904;-83.890911
X-APPLE-STRUCTURED-LOCATION;VALUE=URI;X-ADDRESS=Benfield Wines 102 N Main St Swanton OH 43558 United States;X-APPLE-RADIUS=500;X-TITLE=102 N Main St:geo:-83.890911,41.58904
END:VEVENT
BEGIN:VEVENT
DTSTART;TZID=America/Detroit:20230614T190000
DTEND;TZID=America/Detroit:20230614T200000
DTSTAMP:20260422T203037
CREATED:20230428T205453Z
LAST-MODIFIED:20230428T205453Z
UID:10000586-1686769200-1686772800@www.benfieldwines.com
SUMMARY:Rockstar Bingo! Music Bingo!!
DESCRIPTION:Free to Play! Fun for all ages! Prizes! Bring your electronic device and come hungry and thirsty!!
URL:https://www.benfieldwines.com/event/rockstar-bingo-music-bingo/2023-06-14/
LOCATION:Benfield Wines\, 102 N Main St\, Swanton\, OH\, 43558\, United States
CATEGORIES:Special
ATTACH;FMTTYPE=image/jpeg:https://www.benfieldwines.com/wp-content/uploads/2022/05/rockstar.jpg
ORGANIZER;CN="Julia Benfield":MAILTO:julia@benfieldwines.com
GEO:41.58904;-83.890911
X-APPLE-STRUCTURED-LOCATION;VALUE=URI;X-ADDRESS=Benfield Wines 102 N Main St Swanton OH 43558 United States;X-APPLE-RADIUS=500;X-TITLE=102 N Main St:geo:-83.890911,41.58904
END:VEVENT
BEGIN:VEVENT
DTSTART;TZID=America/Detroit:20230610T190000
DTEND;TZID=America/Detroit:20230610T200000
DTSTAMP:20260422T203037
CREATED:20230521T151920Z
LAST-MODIFIED:20230521T151920Z
UID:10000609-1686423600-1686427200@www.benfieldwines.com
SUMMARY:Saturday Rockstar Bingo - Music Bingo!
DESCRIPTION:Come play some Music Bingo with us for a chance to win some prizes! Bring your electronic device and have some fun with us!!
URL:https://www.benfieldwines.com/event/saturday-rockstar-bingo-music-bingo/
LOCATION:Benfield Wines\, 102 N Main St\, Swanton\, OH\, 43558\, United States
CATEGORIES:Special
ATTACH;FMTTYPE=image/jpeg:https://www.benfieldwines.com/wp-content/uploads/2022/05/rockstar.jpg
ORGANIZER;CN="Julia Benfield":MAILTO:julia@benfieldwines.com
GEO:41.58904;-83.890911
X-APPLE-STRUCTURED-LOCATION;VALUE=URI;X-ADDRESS=Benfield Wines 102 N Main St Swanton OH 43558 United States;X-APPLE-RADIUS=500;X-TITLE=102 N Main St:geo:-83.890911,41.58904
END:VEVENT
BEGIN:VEVENT
DTSTART;TZID=America/Detroit:20230610T100000
DTEND;TZID=America/Detroit:20230610T130000
DTSTAMP:20260422T203037
CREATED:20230521T155021Z
LAST-MODIFIED:20230521T155021Z
UID:10000610-1686391200-1686402000@www.benfieldwines.com
SUMMARY:Saturday Mimosa Brunch!
DESCRIPTION:Start your Saturday with our special breakfast and mimosa menus! What a yummy way to weekend!
URL:https://www.benfieldwines.com/event/saturday-mimosa-brunch/
LOCATION:Benfield Wines\, 102 N Main St\, Swanton\, OH\, 43558\, United States
CATEGORIES:Special
ORGANIZER;CN="Julia Benfield":MAILTO:julia@benfieldwines.com
GEO:41.58904;-83.890911
X-APPLE-STRUCTURED-LOCATION;VALUE=URI;X-ADDRESS=Benfield Wines 102 N Main St Swanton OH 43558 United States;X-APPLE-RADIUS=500;X-TITLE=102 N Main St:geo:-83.890911,41.58904
END:VEVENT
BEGIN:VEVENT
DTSTART;TZID=America/Detroit:20230609T180000
DTEND;TZID=America/Detroit:20230609T210000
DTSTAMP:20260422T203037
CREATED:20230521T144229Z
LAST-MODIFIED:20230521T144336Z
UID:10000604-1686333600-1686344400@www.benfieldwines.com
SUMMARY:Music with Tina Mae
DESCRIPTION:great music with amazing wine\, beer\, bourbon and awesome food!
URL:https://www.benfieldwines.com/event/music-with-tina-mae/
LOCATION:Benfield Wines\, 102 N Main St\, Swanton\, OH\, 43558\, United States
CATEGORIES:Music
ATTACH;FMTTYPE=image/jpeg:https://www.benfieldwines.com/wp-content/uploads/2023/05/Tina-Mae-2.jpg
ORGANIZER;CN="Julia Benfield":MAILTO:julia@benfieldwines.com
GEO:41.58904;-83.890911
X-APPLE-STRUCTURED-LOCATION;VALUE=URI;X-ADDRESS=Benfield Wines 102 N Main St Swanton OH 43558 United States;X-APPLE-RADIUS=500;X-TITLE=102 N Main St:geo:-83.890911,41.58904
END:VEVENT
BEGIN:VEVENT
DTSTART;TZID=America/Detroit:20230607T190000
DTEND;TZID=America/Detroit:20230607T200000
DTSTAMP:20260422T203037
CREATED:20230428T205453Z
LAST-MODIFIED:20230428T205453Z
UID:10000585-1686164400-1686168000@www.benfieldwines.com
SUMMARY:Rockstar Bingo! Music Bingo!!
DESCRIPTION:Free to Play! Fun for all ages! Prizes! Bring your electronic device and come hungry and thirsty!!
URL:https://www.benfieldwines.com/event/rockstar-bingo-music-bingo/2023-06-07/
LOCATION:Benfield Wines\, 102 N Main St\, Swanton\, OH\, 43558\, United States
CATEGORIES:Special
ATTACH;FMTTYPE=image/jpeg:https://www.benfieldwines.com/wp-content/uploads/2022/05/rockstar.jpg
ORGANIZER;CN="Julia Benfield":MAILTO:julia@benfieldwines.com
GEO:41.58904;-83.890911
X-APPLE-STRUCTURED-LOCATION;VALUE=URI;X-ADDRESS=Benfield Wines 102 N Main St Swanton OH 43558 United States;X-APPLE-RADIUS=500;X-TITLE=102 N Main St:geo:-83.890911,41.58904
END:VEVENT
BEGIN:VEVENT
DTSTART;TZID=America/Detroit:20230603T180000
DTEND;TZID=America/Detroit:20230603T210000
DTSTAMP:20260422T203037
CREATED:20230521T143736Z
LAST-MODIFIED:20230521T143736Z
UID:10000603-1685815200-1685826000@www.benfieldwines.com
SUMMARY:Music with Morgan Tooth!
DESCRIPTION:great music with amazing wine\, beer\, bourbon and awesome food!
URL:https://www.benfieldwines.com/event/music-with-morgan-tooth-6/
LOCATION:Benfield Wines\, 102 N Main St\, Swanton\, OH\, 43558\, United States
CATEGORIES:Music
ATTACH;FMTTYPE=image/jpeg:https://www.benfieldwines.com/wp-content/uploads/2022/01/morgan-tooth.jpg
ORGANIZER;CN="Julia Benfield":MAILTO:julia@benfieldwines.com
GEO:41.58904;-83.890911
X-APPLE-STRUCTURED-LOCATION;VALUE=URI;X-ADDRESS=Benfield Wines 102 N Main St Swanton OH 43558 United States;X-APPLE-RADIUS=500;X-TITLE=102 N Main St:geo:-83.890911,41.58904
END:VEVENT
BEGIN:VEVENT
DTSTART;TZID=America/Detroit:20230531T190000
DTEND;TZID=America/Detroit:20230531T200000
DTSTAMP:20260422T203037
CREATED:20230428T205453Z
LAST-MODIFIED:20230428T205453Z
UID:10000584-1685559600-1685563200@www.benfieldwines.com
SUMMARY:Rockstar Bingo! Music Bingo!!
DESCRIPTION:Free to Play! Fun for all ages! Prizes! Bring your electronic device and come hungry and thirsty!!
URL:https://www.benfieldwines.com/event/rockstar-bingo-music-bingo/2023-05-31/
LOCATION:Benfield Wines\, 102 N Main St\, Swanton\, OH\, 43558\, United States
CATEGORIES:Special
ATTACH;FMTTYPE=image/jpeg:https://www.benfieldwines.com/wp-content/uploads/2022/05/rockstar.jpg
ORGANIZER;CN="Julia Benfield":MAILTO:julia@benfieldwines.com
GEO:41.58904;-83.890911
X-APPLE-STRUCTURED-LOCATION;VALUE=URI;X-ADDRESS=Benfield Wines 102 N Main St Swanton OH 43558 United States;X-APPLE-RADIUS=500;X-TITLE=102 N Main St:geo:-83.890911,41.58904
END:VEVENT
BEGIN:VEVENT
DTSTART;TZID=America/Detroit:20230527T180000
DTEND;TZID=America/Detroit:20230527T210000
DTSTAMP:20260422T203037
CREATED:20230428T204911Z
LAST-MODIFIED:20230428T204911Z
UID:10000580-1685210400-1685221200@www.benfieldwines.com
SUMMARY:Music with Johnny Rodriguez
DESCRIPTION:Great music with amazing wine\, beer\, bourbon and food!
URL:https://www.benfieldwines.com/event/music-with-johnny-rodriguez/
LOCATION:Benfield Wines\, 102 N Main St\, Swanton\, OH\, 43558\, United States
CATEGORIES:Music
ATTACH;FMTTYPE=image/jpeg:https://www.benfieldwines.com/wp-content/uploads/2023/04/Johnny-Rodriguez.jpg
ORGANIZER;CN="Julia Benfield":MAILTO:julia@benfieldwines.com
GEO:41.58904;-83.890911
X-APPLE-STRUCTURED-LOCATION;VALUE=URI;X-ADDRESS=Benfield Wines 102 N Main St Swanton OH 43558 United States;X-APPLE-RADIUS=500;X-TITLE=102 N Main St:geo:-83.890911,41.58904
END:VEVENT
BEGIN:VEVENT
DTSTART;TZID=America/Detroit:20230526T190000
DTEND;TZID=America/Detroit:20230526T210000
DTSTAMP:20260422T203037
CREATED:20230521T151639Z
LAST-MODIFIED:20230521T151639Z
UID:10000608-1685127600-1685134800@www.benfieldwines.com
SUMMARY:Friday Rockstar Bingo - Classic Rock!
DESCRIPTION:Come play some Music Bingo with us for a chance to win some prizes! Bring your electronic device and have some fun with us!!
URL:https://www.benfieldwines.com/event/friday-rockstar-bingo-classic-rock/
LOCATION:Benfield Wines\, 102 N Main St\, Swanton\, OH\, 43558\, United States
CATEGORIES:Special
ATTACH;FMTTYPE=image/jpeg:https://www.benfieldwines.com/wp-content/uploads/2022/05/rockstar.jpg
ORGANIZER;CN="Julia Benfield":MAILTO:julia@benfieldwines.com
GEO:41.58904;-83.890911
X-APPLE-STRUCTURED-LOCATION;VALUE=URI;X-ADDRESS=Benfield Wines 102 N Main St Swanton OH 43558 United States;X-APPLE-RADIUS=500;X-TITLE=102 N Main St:geo:-83.890911,41.58904
END:VEVENT
BEGIN:VEVENT
DTSTART;TZID=America/Detroit:20230525T170000
DTEND;TZID=America/Detroit:20230525T210000
DTSTAMP:20260422T203037
CREATED:20230428T210143Z
LAST-MODIFIED:20230428T210143Z
UID:10000601-1685034000-1685048400@www.benfieldwines.com
SUMMARY:National Wine Day!
DESCRIPTION:Come celebrate with us!! Happy Hour Prices\, Munchies\, and pop in to be entered to win prizes!
URL:https://www.benfieldwines.com/event/national-wine-day/
LOCATION:Benfield Wines\, 102 N Main St\, Swanton\, OH\, 43558\, United States
CATEGORIES:Special
ATTACH;FMTTYPE=image/jpeg:https://www.benfieldwines.com/wp-content/uploads/2023/04/after.jpg
ORGANIZER;CN="Julia Benfield":MAILTO:julia@benfieldwines.com
GEO:41.58904;-83.890911
X-APPLE-STRUCTURED-LOCATION;VALUE=URI;X-ADDRESS=Benfield Wines 102 N Main St Swanton OH 43558 United States;X-APPLE-RADIUS=500;X-TITLE=102 N Main St:geo:-83.890911,41.58904
END:VEVENT
BEGIN:VEVENT
DTSTART;TZID=America/Detroit:20230524T190000
DTEND;TZID=America/Detroit:20230524T200000
DTSTAMP:20260422T203037
CREATED:20230428T205453Z
LAST-MODIFIED:20230428T205453Z
UID:10000583-1684954800-1684958400@www.benfieldwines.com
SUMMARY:Rockstar Bingo! Music Bingo!!
DESCRIPTION:Free to Play! Fun for all ages! Prizes! Bring your electronic device and come hungry and thirsty!!
URL:https://www.benfieldwines.com/event/rockstar-bingo-music-bingo/2023-05-24/
LOCATION:Benfield Wines\, 102 N Main St\, Swanton\, OH\, 43558\, United States
CATEGORIES:Special
ATTACH;FMTTYPE=image/jpeg:https://www.benfieldwines.com/wp-content/uploads/2022/05/rockstar.jpg
ORGANIZER;CN="Julia Benfield":MAILTO:julia@benfieldwines.com
GEO:41.58904;-83.890911
X-APPLE-STRUCTURED-LOCATION;VALUE=URI;X-ADDRESS=Benfield Wines 102 N Main St Swanton OH 43558 United States;X-APPLE-RADIUS=500;X-TITLE=102 N Main St:geo:-83.890911,41.58904
END:VEVENT
BEGIN:VEVENT
DTSTART;TZID=America/Detroit:20230520T180000
DTEND;TZID=America/Detroit:20230520T210000
DTSTAMP:20260422T203037
CREATED:20230428T204029Z
LAST-MODIFIED:20230428T204029Z
UID:10000579-1684605600-1684616400@www.benfieldwines.com
SUMMARY:Music with EZ Pickenz
DESCRIPTION:Amazing music with great wine\, beer\, bourbon and food!
URL:https://www.benfieldwines.com/event/music-with-ez-pickenz-12/
LOCATION:Benfield Wines\, 102 N Main St\, Swanton\, OH\, 43558\, United States
CATEGORIES:Music
ATTACH;FMTTYPE=image/jpeg:https://www.benfieldwines.com/wp-content/uploads/2022/01/ez.jpg
ORGANIZER;CN="Julia Benfield":MAILTO:julia@benfieldwines.com
GEO:41.58904;-83.890911
X-APPLE-STRUCTURED-LOCATION;VALUE=URI;X-ADDRESS=Benfield Wines 102 N Main St Swanton OH 43558 United States;X-APPLE-RADIUS=500;X-TITLE=102 N Main St:geo:-83.890911,41.58904
END:VEVENT
BEGIN:VEVENT
DTSTART;TZID=America/Detroit:20230517T190000
DTEND;TZID=America/Detroit:20230517T200000
DTSTAMP:20260422T203037
CREATED:20230428T205453Z
LAST-MODIFIED:20230428T205453Z
UID:10000582-1684350000-1684353600@www.benfieldwines.com
SUMMARY:Rockstar Bingo! Music Bingo!!
DESCRIPTION:Free to Play! Fun for all ages! Prizes! Bring your electronic device and come hungry and thirsty!!
URL:https://www.benfieldwines.com/event/rockstar-bingo-music-bingo/2023-05-17/
LOCATION:Benfield Wines\, 102 N Main St\, Swanton\, OH\, 43558\, United States
CATEGORIES:Special
ATTACH;FMTTYPE=image/jpeg:https://www.benfieldwines.com/wp-content/uploads/2022/05/rockstar.jpg
ORGANIZER;CN="Julia Benfield":MAILTO:julia@benfieldwines.com
GEO:41.58904;-83.890911
X-APPLE-STRUCTURED-LOCATION;VALUE=URI;X-ADDRESS=Benfield Wines 102 N Main St Swanton OH 43558 United States;X-APPLE-RADIUS=500;X-TITLE=102 N Main St:geo:-83.890911,41.58904
END:VEVENT
BEGIN:VEVENT
DTSTART;TZID=America/Detroit:20230513T180000
DTEND;TZID=America/Detroit:20230513T210000
DTSTAMP:20260422T203037
CREATED:20230428T203355Z
LAST-MODIFIED:20230428T203355Z
UID:10000577-1684000800-1684011600@www.benfieldwines.com
SUMMARY:Music with Ramona Collins!
DESCRIPTION:Amazing music with great wine\, beer\, bourbon and food!
URL:https://www.benfieldwines.com/event/music-with-ramona-collins-10/
LOCATION:Benfield Wines\, 102 N Main St\, Swanton\, OH\, 43558\, United States
CATEGORIES:Music
ATTACH;FMTTYPE=image/jpeg:https://www.benfieldwines.com/wp-content/uploads/2021/04/ramonac.jpg
ORGANIZER;CN="Julia Benfield":MAILTO:julia@benfieldwines.com
GEO:41.58904;-83.890911
X-APPLE-STRUCTURED-LOCATION;VALUE=URI;X-ADDRESS=Benfield Wines 102 N Main St Swanton OH 43558 United States;X-APPLE-RADIUS=500;X-TITLE=102 N Main St:geo:-83.890911,41.58904
END:VEVENT
BEGIN:VEVENT
DTSTART;TZID=America/Detroit:20230513T130000
DTEND;TZID=America/Detroit:20230513T160000
DTSTAMP:20260422T203037
CREATED:20230428T203106Z
LAST-MODIFIED:20230428T203106Z
UID:10000576-1683982800-1683993600@www.benfieldwines.com
SUMMARY:Mingle with Your Mama Painting Class
DESCRIPTION:Tickets for the much anticipated  “Mingle with Your Momma” paint classes are now up for grabs and open to the public! We have TWO dates open for May 6th and May 13th from 1-4p at Benfield Wines!\nThis event is going to be a blast for everyone!!\nWe have so many amazing choices for designs with this class\, there is sure to be something fun for everyone. The pictures on this post are just a few of the choices we are offering.\nBring your little ones\, your mom\, grandma\, best friend\, etc. everyone is welcome\, but tickets are pre-sale only.\nThis event is going to be a blast for everyone!! We have so many amazing choices for designs with this class\, there is sure to be something fun for everyone. The pictures on this post are just a few of the choices we are offering.\nBring your little ones\, your mom\, grandma\, best friend\, etc. everyone is welcome\, but tickets are pre-sale only.  \nPURCHASE YOUR TICKETS HERE
URL:https://www.benfieldwines.com/event/mingle-with-your-mama-painting-class/
LOCATION:Benfield Wines\, 102 N Main St\, Swanton\, OH\, 43558\, United States
CATEGORIES:Art
ATTACH;FMTTYPE=image/jpeg:https://www.benfieldwines.com/wp-content/uploads/2023/04/mama.jpg
ORGANIZER;CN="Julia Benfield":MAILTO:julia@benfieldwines.com
GEO:41.58904;-83.890911
X-APPLE-STRUCTURED-LOCATION;VALUE=URI;X-ADDRESS=Benfield Wines 102 N Main St Swanton OH 43558 United States;X-APPLE-RADIUS=500;X-TITLE=102 N Main St:geo:-83.890911,41.58904
END:VEVENT
BEGIN:VEVENT
DTSTART;TZID=America/Detroit:20230512T180000
DTEND;TZID=America/Detroit:20230512T210000
DTSTAMP:20260422T203037
CREATED:20230428T203829Z
LAST-MODIFIED:20230428T203900Z
UID:10000578-1683914400-1683925200@www.benfieldwines.com
SUMMARY:Music with Lori Lefevre and Chris Buzzelli
DESCRIPTION:Amazing music with great wine\, beer\, bourbon and food!
URL:https://www.benfieldwines.com/event/music-with-lor-lefevre-and-chris-buzzelli/
LOCATION:Benfield Wines\, 102 N Main St\, Swanton\, OH\, 43558\, United States
CATEGORIES:Music
ATTACH;FMTTYPE=image/png:https://www.benfieldwines.com/wp-content/uploads/2023/04/Lori-Lefevre.png
ORGANIZER;CN="Julia Benfield":MAILTO:julia@benfieldwines.com
GEO:41.58904;-83.890911
X-APPLE-STRUCTURED-LOCATION;VALUE=URI;X-ADDRESS=Benfield Wines 102 N Main St Swanton OH 43558 United States;X-APPLE-RADIUS=500;X-TITLE=102 N Main St:geo:-83.890911,41.58904
END:VEVENT
BEGIN:VEVENT
DTSTART;TZID=America/Detroit:20230510T190000
DTEND;TZID=America/Detroit:20230510T200000
DTSTAMP:20260422T203037
CREATED:20230428T205453Z
LAST-MODIFIED:20230428T205453Z
UID:10000581-1683745200-1683748800@www.benfieldwines.com
SUMMARY:Rockstar Bingo! Music Bingo!!
DESCRIPTION:Free to Play! Fun for all ages! Prizes! Bring your electronic device and come hungry and thirsty!!
URL:https://www.benfieldwines.com/event/rockstar-bingo-music-bingo/2023-05-10/
LOCATION:Benfield Wines\, 102 N Main St\, Swanton\, OH\, 43558\, United States
CATEGORIES:Special
ATTACH;FMTTYPE=image/jpeg:https://www.benfieldwines.com/wp-content/uploads/2022/05/rockstar.jpg
ORGANIZER;CN="Julia Benfield":MAILTO:julia@benfieldwines.com
GEO:41.58904;-83.890911
X-APPLE-STRUCTURED-LOCATION;VALUE=URI;X-ADDRESS=Benfield Wines 102 N Main St Swanton OH 43558 United States;X-APPLE-RADIUS=500;X-TITLE=102 N Main St:geo:-83.890911,41.58904
END:VEVENT
BEGIN:VEVENT
DTSTART;TZID=America/Detroit:20230506T180000
DTEND;TZID=America/Detroit:20230506T210000
DTSTAMP:20260422T203037
CREATED:20230226T185231Z
LAST-MODIFIED:20230226T185231Z
UID:10000573-1683396000-1683406800@www.benfieldwines.com
SUMMARY:Music with Jenn & John
DESCRIPTION:Great music with amazing wine\, beer\, bourbon and food!
URL:https://www.benfieldwines.com/event/music-with-jenn-john/
LOCATION:Benfield Wines\, 102 N Main St\, Swanton\, OH\, 43558\, United States
CATEGORIES:Music
ATTACH;FMTTYPE=image/jpeg:https://www.benfieldwines.com/wp-content/uploads/2021/04/Jenn-and-John.jpg
ORGANIZER;CN="Julia Benfield":MAILTO:julia@benfieldwines.com
GEO:41.58904;-83.890911
X-APPLE-STRUCTURED-LOCATION;VALUE=URI;X-ADDRESS=Benfield Wines 102 N Main St Swanton OH 43558 United States;X-APPLE-RADIUS=500;X-TITLE=102 N Main St:geo:-83.890911,41.58904
END:VEVENT
BEGIN:VEVENT
DTSTART;TZID=America/Detroit:20230506T130000
DTEND;TZID=America/Detroit:20230506T160000
DTSTAMP:20260422T203037
CREATED:20230428T202712Z
LAST-MODIFIED:20230428T202837Z
UID:10000575-1683378000-1683388800@www.benfieldwines.com
SUMMARY:Mingle with Your Momma Painting Class
DESCRIPTION:Tickets for the much anticipated  “Mingle with Your Momma” paint classes are now up for grabs and open to the public! We have TWO dates open for May 6th and May 13th from 1-4p at Benfield Wines!\nThis event is going to be a blast for everyone!!\nWe have so many amazing choices for designs with this class\, there is sure to be something fun for everyone. The pictures on this post are just a few of the choices we are offering.\nBring your little ones\, your mom\, grandma\, best friend\, etc. everyone is welcome\, but tickets are pre-sale only.\nThis event is going to be a blast for everyone!! We have so many amazing choices for designs with this class\, there is sure to be something fun for everyone. The pictures on this post are just a few of the choices we are offering.\nBring your little ones\, your mom\, grandma\, best friend\, etc. everyone is welcome\, but tickets are pre-sale only.  \nPURCHASE YOUR TICKETS HERE \n \n \n \n \n \n \n \n \ne
URL:https://www.benfieldwines.com/event/mingle-with-your-momma-painting-class/
LOCATION:Benfield Wines\, 102 N Main St\, Swanton\, OH\, 43558\, United States
CATEGORIES:Art
ATTACH;FMTTYPE=image/jpeg:https://www.benfieldwines.com/wp-content/uploads/2023/04/mama.jpg
ORGANIZER;CN="Julia Benfield":MAILTO:julia@benfieldwines.com
GEO:41.58904;-83.890911
X-APPLE-STRUCTURED-LOCATION;VALUE=URI;X-ADDRESS=Benfield Wines 102 N Main St Swanton OH 43558 United States;X-APPLE-RADIUS=500;X-TITLE=102 N Main St:geo:-83.890911,41.58904
END:VEVENT
BEGIN:VEVENT
DTSTART;TZID=America/Detroit:20230505T180000
DTEND;TZID=America/Detroit:20230505T210000
DTSTAMP:20260422T203037
CREATED:20230214T145503Z
LAST-MODIFIED:20230214T145840Z
UID:10000557-1683309600-1683320400@www.benfieldwines.com
SUMMARY:Lifelines & Benfield Wines: An Evening with Medium Sirena La Point
DESCRIPTION:These events are limited seating so that Sirena may make as many connections as possible but remember a message is not guaranteed!\nNo outside alcohol\, please.
URL:https://www.benfieldwines.com/event/lifelines-benfield-wines-an-evening-with-medium-sirena-la-point-2/
LOCATION:Benfield Wines\, 102 N Main St\, Swanton\, OH\, 43558\, United States
CATEGORIES:Special
ATTACH;FMTTYPE=image/jpeg:https://www.benfieldwines.com/wp-content/uploads/2022/01/272118550_2015991425234887_1557872486365772178_n.jpg
ORGANIZER;CN="Julia Benfield":MAILTO:julia@benfieldwines.com
GEO:41.58904;-83.890911
X-APPLE-STRUCTURED-LOCATION;VALUE=URI;X-ADDRESS=Benfield Wines 102 N Main St Swanton OH 43558 United States;X-APPLE-RADIUS=500;X-TITLE=102 N Main St:geo:-83.890911,41.58904
END:VEVENT
BEGIN:VEVENT
DTSTART;TZID=America/Detroit:20230503T190000
DTEND;TZID=America/Detroit:20230503T200000
DTSTAMP:20260422T203037
CREATED:20230205T175029Z
LAST-MODIFIED:20230205T175029Z
UID:10000548-1683140400-1683144000@www.benfieldwines.com
SUMMARY:Rockstar Bingo!
DESCRIPTION:Free to Play! Fun for all ages!  Prizes! Bring your electronic device and come hungry and thirsty!!
URL:https://www.benfieldwines.com/event/rockstar-bingo-18/2023-05-03/
LOCATION:OH
CATEGORIES:Special
ATTACH;FMTTYPE=image/jpeg:https://www.benfieldwines.com/wp-content/uploads/2022/05/rockstar.jpg
END:VEVENT
BEGIN:VEVENT
DTSTART;TZID=America/Detroit:20230429T180000
DTEND;TZID=America/Detroit:20230429T210000
DTSTAMP:20260422T203037
CREATED:20230226T170051Z
LAST-MODIFIED:20230226T170051Z
UID:10000571-1682791200-1682802000@www.benfieldwines.com
SUMMARY:Music with Dave Carpenter
DESCRIPTION:Great music with amazing wine\, beer\, bourbon and food!
URL:https://www.benfieldwines.com/event/music-with-dave-carpenter-2/
LOCATION:Benfield Wines\, 102 N Main St\, Swanton\, OH\, 43558\, United States
CATEGORIES:Music
ATTACH;FMTTYPE=image/jpeg:https://www.benfieldwines.com/wp-content/uploads/2023/01/Dave-carpenter.jpg
ORGANIZER;CN="Julia Benfield":MAILTO:julia@benfieldwines.com
GEO:41.58904;-83.890911
X-APPLE-STRUCTURED-LOCATION;VALUE=URI;X-ADDRESS=Benfield Wines 102 N Main St Swanton OH 43558 United States;X-APPLE-RADIUS=500;X-TITLE=102 N Main St:geo:-83.890911,41.58904
END:VEVENT
BEGIN:VEVENT
DTSTART;TZID=America/Detroit:20230428T190000
DTEND;TZID=America/Detroit:20230428T203000
DTSTAMP:20260422T203037
CREATED:20230226T165924Z
LAST-MODIFIED:20230226T165924Z
UID:10000570-1682708400-1682713800@www.benfieldwines.com
SUMMARY:Scentsy Wine & Wax Party
DESCRIPTION:Come hang out with the girls for a fun Scentsy party and stock up on all your favorite wax melts! Free munchies!
URL:https://www.benfieldwines.com/event/scentsy-wine-wax-party-2/
LOCATION:Benfield Wines\, 102 N Main St\, Swanton\, OH\, 43558\, United States
CATEGORIES:Special
ATTACH;FMTTYPE=image/jpeg:https://www.benfieldwines.com/wp-content/uploads/2023/02/scentsy-1.jpg
ORGANIZER;CN="Julia Benfield":MAILTO:julia@benfieldwines.com
GEO:41.58904;-83.890911
X-APPLE-STRUCTURED-LOCATION;VALUE=URI;X-ADDRESS=Benfield Wines 102 N Main St Swanton OH 43558 United States;X-APPLE-RADIUS=500;X-TITLE=102 N Main St:geo:-83.890911,41.58904
END:VEVENT
BEGIN:VEVENT
DTSTART;TZID=America/Detroit:20230426T190000
DTEND;TZID=America/Detroit:20230426T200000
DTSTAMP:20260422T203038
CREATED:20230205T175029Z
LAST-MODIFIED:20230205T175029Z
UID:10000547-1682535600-1682539200@www.benfieldwines.com
SUMMARY:Rockstar Bingo!
DESCRIPTION:Free to Play! Fun for all ages!  Prizes! Bring your electronic device and come hungry and thirsty!!
URL:https://www.benfieldwines.com/event/rockstar-bingo-18/2023-04-26/
LOCATION:OH
CATEGORIES:Special
ATTACH;FMTTYPE=image/jpeg:https://www.benfieldwines.com/wp-content/uploads/2022/05/rockstar.jpg
END:VEVENT
END:VCALENDAR