BEGIN:VCALENDAR
VERSION:2.0
PRODID:-//Benfield Wines - ECPv6.15.20//NONSGML v1.0//EN
CALSCALE:GREGORIAN
METHOD:PUBLISH
X-WR-CALNAME:Benfield Wines
X-ORIGINAL-URL:https://www.benfieldwines.com
X-WR-CALDESC:Events for Benfield Wines
REFRESH-INTERVAL;VALUE=DURATION:PT1H
X-Robots-Tag:noindex
X-PUBLISHED-TTL:PT1H
BEGIN:VTIMEZONE
TZID:America/Detroit
BEGIN:DAYLIGHT
TZOFFSETFROM:-0500
TZOFFSETTO:-0400
TZNAME:EDT
DTSTART:20200308T070000
END:DAYLIGHT
BEGIN:STANDARD
TZOFFSETFROM:-0400
TZOFFSETTO:-0500
TZNAME:EST
DTSTART:20201101T060000
END:STANDARD
BEGIN:DAYLIGHT
TZOFFSETFROM:-0500
TZOFFSETTO:-0400
TZNAME:EDT
DTSTART:20210314T070000
END:DAYLIGHT
BEGIN:STANDARD
TZOFFSETFROM:-0400
TZOFFSETTO:-0500
TZNAME:EST
DTSTART:20211107T060000
END:STANDARD
BEGIN:DAYLIGHT
TZOFFSETFROM:-0500
TZOFFSETTO:-0400
TZNAME:EDT
DTSTART:20220313T070000
END:DAYLIGHT
BEGIN:STANDARD
TZOFFSETFROM:-0400
TZOFFSETTO:-0500
TZNAME:EST
DTSTART:20221106T060000
END:STANDARD
END:VTIMEZONE
BEGIN:VEVENT
DTSTART;TZID=America/Detroit:20210722T160000
DTEND;TZID=America/Detroit:20210722T190000
DTSTAMP:20260425T070501
CREATED:20210716T002338Z
LAST-MODIFIED:20210716T002338Z
UID:10000313-1626969600-1626980400@www.benfieldwines.com
SUMMARY:Wine And Dine with Lulu Fare Food Truck!
DESCRIPTION:Yummy food and great wine!  Dine in or carry out!
URL:https://www.benfieldwines.com/event/wine-and-dine-with-lulu-fare-food-truck-4/
LOCATION:Benfield Wines\, 102 N Main St\, Swanton\, OH\, 43558\, United States
CATEGORIES:Food truck
ORGANIZER;CN="Julia Benfield":MAILTO:julia@benfieldwines.com
GEO:41.58904;-83.890911
X-APPLE-STRUCTURED-LOCATION;VALUE=URI;X-ADDRESS=Benfield Wines 102 N Main St Swanton OH 43558 United States;X-APPLE-RADIUS=500;X-TITLE=102 N Main St:geo:-83.890911,41.58904
END:VEVENT
BEGIN:VEVENT
DTSTART;TZID=America/Detroit:20210715T180000
DTEND;TZID=America/Detroit:20210715T210000
DTSTAMP:20260425T070501
CREATED:20210509T172832Z
LAST-MODIFIED:20210510T125240Z
UID:10000296-1626372000-1626382800@www.benfieldwines.com
SUMMARY:Lifelines and Benfield Wines: An Evening with Medium Sirena La Point
DESCRIPTION:These events are limited seating so that Sirena may make as many connections as possible but remember a message is not guaranteed! \nNo outside alcohol\, please. \nIn the comment box\, please include the names of the people in your party so we can seat you together.
URL:https://www.benfieldwines.com/event/lifelines-and-benfield-wines-an-evening-with-medium-sirena-la-point-2/
LOCATION:Benfield Wines\, 102 N Main St\, Swanton\, OH\, 43558\, United States
CATEGORIES:Special
ATTACH;FMTTYPE=image/jpeg:https://www.benfieldwines.com/wp-content/uploads/2021/01/medium.jpg
ORGANIZER;CN="Julia Benfield":MAILTO:julia@benfieldwines.com
GEO:41.58904;-83.890911
X-APPLE-STRUCTURED-LOCATION;VALUE=URI;X-ADDRESS=Benfield Wines 102 N Main St Swanton OH 43558 United States;X-APPLE-RADIUS=500;X-TITLE=102 N Main St:geo:-83.890911,41.58904
END:VEVENT
BEGIN:VEVENT
DTSTART;TZID=America/Detroit:20210708T190000
DTEND;TZID=America/Detroit:20210708T210000
DTSTAMP:20260425T070501
CREATED:20210420T213223Z
LAST-MODIFIED:20210420T214450Z
UID:10000291-1625770800-1625778000@www.benfieldwines.com
SUMMARY:Giraffe Painting Class
DESCRIPTION:Have fun\, be creative\, and drink some great wine!\nNo outside alcohol\nNo refunds\nNeed not be 21 to paint!
URL:https://www.benfieldwines.com/event/giraffe-painting-class/
LOCATION:Benfield Wines\, 102 N Main St\, Swanton\, OH\, 43558\, United States
CATEGORIES:Art
ORGANIZER;CN="Julia Benfield":MAILTO:julia@benfieldwines.com
GEO:41.58904;-83.890911
X-APPLE-STRUCTURED-LOCATION;VALUE=URI;X-ADDRESS=Benfield Wines 102 N Main St Swanton OH 43558 United States;X-APPLE-RADIUS=500;X-TITLE=102 N Main St:geo:-83.890911,41.58904
END:VEVENT
BEGIN:VEVENT
DTSTART;TZID=America/Detroit:20210703T180000
DTEND;TZID=America/Detroit:20210703T210000
DTSTAMP:20260425T070501
CREATED:20210624T191242Z
LAST-MODIFIED:20210624T191242Z
UID:10000303-1625335200-1625346000@www.benfieldwines.com
SUMMARY:Music with Abbigale
DESCRIPTION:Great music\, great wine\, great beer!
URL:https://www.benfieldwines.com/event/music-with-abbigale-3/
LOCATION:Benfield Wines\, 102 N Main St\, Swanton\, OH\, 43558\, United States
CATEGORIES:Music
ORGANIZER;CN="Julia Benfield":MAILTO:julia@benfieldwines.com
GEO:41.58904;-83.890911
X-APPLE-STRUCTURED-LOCATION;VALUE=URI;X-ADDRESS=Benfield Wines 102 N Main St Swanton OH 43558 United States;X-APPLE-RADIUS=500;X-TITLE=102 N Main St:geo:-83.890911,41.58904
END:VEVENT
BEGIN:VEVENT
DTSTART;TZID=America/Detroit:20210703T080000
DTEND;TZID=America/Detroit:20210703T180000
DTSTAMP:20260425T070501
CREATED:20210628T131625Z
LAST-MODIFIED:20210628T131625Z
UID:10000307-1625299200-1625335200@www.benfieldwines.com
SUMMARY:Red\, Wine and BOOM!
DESCRIPTION:Come join us before and after the Swanton Fireworks!! Saucy Slamwich will be here 7pm-11pm and Abbigale will be leading the celebration starting at 6pm! Wine\, Beer\, Bourbon\, great music\, and some big BOOMS!!!
URL:https://www.benfieldwines.com/event/red-wine-and-boom/
LOCATION:Benfield Wines\, 102 N Main St\, Swanton\, OH\, 43558\, United States
CATEGORIES:Food truck,Music,Special
ORGANIZER;CN="Julia Benfield":MAILTO:julia@benfieldwines.com
GEO:41.58904;-83.890911
X-APPLE-STRUCTURED-LOCATION;VALUE=URI;X-ADDRESS=Benfield Wines 102 N Main St Swanton OH 43558 United States;X-APPLE-RADIUS=500;X-TITLE=102 N Main St:geo:-83.890911,41.58904
END:VEVENT
BEGIN:VEVENT
DTSTART;TZID=America/Detroit:20210626T180000
DTEND;TZID=America/Detroit:20210626T210000
DTSTAMP:20260425T070501
CREATED:20210624T185939Z
LAST-MODIFIED:20210624T185939Z
UID:10000302-1624730400-1624741200@www.benfieldwines.com
SUMMARY:Renegade Lemonade
DESCRIPTION:Great music\, great wine\, great beer!
URL:https://www.benfieldwines.com/event/renegade-lemonade/
LOCATION:Benfield Wines\, 102 N Main St\, Swanton\, OH\, 43558\, United States
CATEGORIES:Music
ATTACH;FMTTYPE=image/jpeg:https://www.benfieldwines.com/wp-content/uploads/2021/06/renegade-lemonade.jpg
ORGANIZER;CN="Julia Benfield":MAILTO:julia@benfieldwines.com
GEO:41.58904;-83.890911
X-APPLE-STRUCTURED-LOCATION;VALUE=URI;X-ADDRESS=Benfield Wines 102 N Main St Swanton OH 43558 United States;X-APPLE-RADIUS=500;X-TITLE=102 N Main St:geo:-83.890911,41.58904
END:VEVENT
BEGIN:VEVENT
DTSTART;TZID=America/Detroit:20210626T100000
DTEND;TZID=America/Detroit:20210626T160000
DTSTAMP:20260425T070501
CREATED:20210526T132018Z
LAST-MODIFIED:20210526T135419Z
UID:10000298-1624701600-1624723200@www.benfieldwines.com
SUMMARY:Mom2Mom Sale Table Registry
DESCRIPTION:In conjunction with Swanton Community Garage and Sidewalk sales! \nSet up a table and get rid of some of your gently loved Kid stuff! \n$5 for 6 foot table space. Can add your own table behind your space\, put baskets on the floor\, etc for additional room.
URL:https://www.benfieldwines.com/event/mom2mom-sale-table-registry/
LOCATION:Benfield Wines\, 102 N Main St\, Swanton\, OH\, 43558\, United States
ORGANIZER;CN="Julia Benfield":MAILTO:julia@benfieldwines.com
GEO:41.58904;-83.890911
X-APPLE-STRUCTURED-LOCATION;VALUE=URI;X-ADDRESS=Benfield Wines 102 N Main St Swanton OH 43558 United States;X-APPLE-RADIUS=500;X-TITLE=102 N Main St:geo:-83.890911,41.58904
END:VEVENT
BEGIN:VEVENT
DTSTART;TZID=America/Detroit:20210624T190000
DTEND;TZID=America/Detroit:20210624T210000
DTSTAMP:20260425T070501
CREATED:20210407T215957Z
LAST-MODIFIED:20210409T105940Z
UID:10000281-1624561200-1624568400@www.benfieldwines.com
SUMMARY:Flamingos with Art Matters Ltd
DESCRIPTION:Have fun\, be creative\, and drink some great wine! You pick which picture!\nNo outside alcohol\nNo refunds\nNeed not be 21 to paint
URL:https://www.benfieldwines.com/event/flamingos-with-art-matters-ltd/
LOCATION:Benfield Wines\, 102 N Main St\, Swanton\, OH\, 43558\, United States
CATEGORIES:Art
ORGANIZER;CN="Julia Benfield":MAILTO:julia@benfieldwines.com
GEO:41.58904;-83.890911
X-APPLE-STRUCTURED-LOCATION;VALUE=URI;X-ADDRESS=Benfield Wines 102 N Main St Swanton OH 43558 United States;X-APPLE-RADIUS=500;X-TITLE=102 N Main St:geo:-83.890911,41.58904
END:VEVENT
BEGIN:VEVENT
DTSTART;TZID=America/Detroit:20210619T180000
DTEND;TZID=America/Detroit:20210619T210000
DTSTAMP:20260425T070501
CREATED:20210601T212812Z
LAST-MODIFIED:20210601T212812Z
UID:10000301-1624125600-1624136400@www.benfieldwines.com
SUMMARY:Music with Ryan Dunlap!
DESCRIPTION:Great music\, great wine\, great craft beer!
URL:https://www.benfieldwines.com/event/music-with-ryan-dunlap/
LOCATION:Benfield Wines\, 102 N Main St\, Swanton\, OH\, 43558\, United States
CATEGORIES:Music
ATTACH;FMTTYPE=image/png:https://www.benfieldwines.com/wp-content/uploads/2021/06/ryan-dunlap.png
ORGANIZER;CN="Julia Benfield":MAILTO:julia@benfieldwines.com
GEO:41.58904;-83.890911
X-APPLE-STRUCTURED-LOCATION;VALUE=URI;X-ADDRESS=Benfield Wines 102 N Main St Swanton OH 43558 United States;X-APPLE-RADIUS=500;X-TITLE=102 N Main St:geo:-83.890911,41.58904
END:VEVENT
BEGIN:VEVENT
DTSTART;TZID=America/Detroit:20210612T180000
DTEND;TZID=America/Detroit:20210612T210000
DTSTAMP:20260425T070501
CREATED:20210601T212322Z
LAST-MODIFIED:20210601T212322Z
UID:10000300-1623520800-1623531600@www.benfieldwines.com
SUMMARY:Music with Dragonfly
DESCRIPTION:Great music\, great wines\, great beer\, great times!
URL:https://www.benfieldwines.com/event/music-with-dragonfly-3/
LOCATION:Benfield Wines\, 102 N Main St\, Swanton\, OH\, 43558\, United States
CATEGORIES:Music
ATTACH;FMTTYPE=image/jpeg:https://www.benfieldwines.com/wp-content/uploads/2021/01/dragonfly.jpg
ORGANIZER;CN="Julia Benfield":MAILTO:julia@benfieldwines.com
GEO:41.58904;-83.890911
X-APPLE-STRUCTURED-LOCATION;VALUE=URI;X-ADDRESS=Benfield Wines 102 N Main St Swanton OH 43558 United States;X-APPLE-RADIUS=500;X-TITLE=102 N Main St:geo:-83.890911,41.58904
END:VEVENT
BEGIN:VEVENT
DTSTART;TZID=America/Detroit:20210612T120000
DTEND;TZID=America/Detroit:20210612T143000
DTSTAMP:20260425T070501
CREATED:20210328T131453Z
LAST-MODIFIED:20210328T132053Z
UID:10000280-1623499200-1623508200@www.benfieldwines.com
SUMMARY:Saturday Round Sign Class with Bless This Hot Mess
DESCRIPTION:Come have some fun and be creative!\nPick your sign! Put any necessary name information in the comments section\nNo outside alcohol.\nNo refunds
URL:https://www.benfieldwines.com/event/saturday-round-sign-class-with-bless-this-hot-mess/
LOCATION:Benfield Wines\, 102 N Main St\, Swanton\, OH\, 43558\, United States
CATEGORIES:Art
ORGANIZER;CN="Julia Benfield":MAILTO:julia@benfieldwines.com
GEO:41.58904;-83.890911
X-APPLE-STRUCTURED-LOCATION;VALUE=URI;X-ADDRESS=Benfield Wines 102 N Main St Swanton OH 43558 United States;X-APPLE-RADIUS=500;X-TITLE=102 N Main St:geo:-83.890911,41.58904
END:VEVENT
BEGIN:VEVENT
DTSTART;TZID=America/Detroit:20210611T190000
DTEND;TZID=America/Detroit:20210611T210000
DTSTAMP:20260425T070501
CREATED:20210409T145057Z
LAST-MODIFIED:20210409T145148Z
UID:10000283-1623438000-1623445200@www.benfieldwines.com
SUMMARY:Bees or Boots Art Class
DESCRIPTION:Have fun\, be creative\, and drink some great wine! You pick which picture!\nNo outside alcohol\nNo refunds\nNeed not be 21 to paint!
URL:https://www.benfieldwines.com/event/bees-or-boots-art-class/
LOCATION:Benfield Wines\, 102 N Main St\, Swanton\, OH\, 43558\, United States
CATEGORIES:Art
ORGANIZER;CN="Julia Benfield":MAILTO:julia@benfieldwines.com
GEO:41.58904;-83.890911
X-APPLE-STRUCTURED-LOCATION;VALUE=URI;X-ADDRESS=Benfield Wines 102 N Main St Swanton OH 43558 United States;X-APPLE-RADIUS=500;X-TITLE=102 N Main St:geo:-83.890911,41.58904
END:VEVENT
BEGIN:VEVENT
DTSTART;TZID=America/Detroit:20210605T180000
DTEND;TZID=America/Detroit:20210605T210000
DTSTAMP:20260425T070501
CREATED:20210601T211952Z
LAST-MODIFIED:20210601T211952Z
UID:10000299-1622916000-1622926800@www.benfieldwines.com
SUMMARY:Music with Trez Gregory & Ramona Collins
DESCRIPTION:Amazing music\, great wine\, great beer!
URL:https://www.benfieldwines.com/event/music-with-trez-gregory-ramona-collins/
LOCATION:Benfield Wines\, 102 N Main St\, Swanton\, OH\, 43558\, United States
CATEGORIES:Music
ATTACH;FMTTYPE=image/png:https://www.benfieldwines.com/wp-content/uploads/2021/06/trez.png
ORGANIZER;CN="Julia Benfield":MAILTO:julia@benfieldwines.com
GEO:41.58904;-83.890911
X-APPLE-STRUCTURED-LOCATION;VALUE=URI;X-ADDRESS=Benfield Wines 102 N Main St Swanton OH 43558 United States;X-APPLE-RADIUS=500;X-TITLE=102 N Main St:geo:-83.890911,41.58904
END:VEVENT
BEGIN:VEVENT
DTSTART;TZID=America/Detroit:20210604T183000
DTEND;TZID=America/Detroit:20210604T210000
DTSTAMP:20260425T070501
CREATED:20210327T165213Z
LAST-MODIFIED:20210327T192858Z
UID:10000279-1622831400-1622840400@www.benfieldwines.com
SUMMARY:Round Sign Class with Bless This Hot Mess
DESCRIPTION:Come have some fun and be creative!\nPick your sign! Put any necessary name information in the comments section\nNo outside alcohol.\nNo refunds
URL:https://www.benfieldwines.com/event/569/
LOCATION:Benfield Wines\, 102 N Main St\, Swanton\, OH\, 43558\, United States
CATEGORIES:Art
ORGANIZER;CN="Julia Benfield":MAILTO:julia@benfieldwines.com
GEO:41.58904;-83.890911
X-APPLE-STRUCTURED-LOCATION;VALUE=URI;X-ADDRESS=Benfield Wines 102 N Main St Swanton OH 43558 United States;X-APPLE-RADIUS=500;X-TITLE=102 N Main St:geo:-83.890911,41.58904
END:VEVENT
BEGIN:VEVENT
DTSTART;TZID=America/Detroit:20210529T180000
DTEND;TZID=America/Detroit:20210529T210000
DTSTAMP:20260425T070501
CREATED:20210417T172154Z
LAST-MODIFIED:20210417T172200Z
UID:10000290-1622311200-1622322000@www.benfieldwines.com
SUMMARY:Music with EZ Pickenz!
DESCRIPTION:Music 6pm-9pm
URL:https://www.benfieldwines.com/event/music-with-ez-pickenz-2/
LOCATION:Benfield Wines\, 102 N Main St\, Swanton\, OH\, 43558\, United States
CATEGORIES:Music
ORGANIZER;CN="Julia Benfield":MAILTO:julia@benfieldwines.com
GEO:41.58904;-83.890911
X-APPLE-STRUCTURED-LOCATION;VALUE=URI;X-ADDRESS=Benfield Wines 102 N Main St Swanton OH 43558 United States;X-APPLE-RADIUS=500;X-TITLE=102 N Main St:geo:-83.890911,41.58904
END:VEVENT
BEGIN:VEVENT
DTSTART;TZID=America/Detroit:20210527T160000
DTEND;TZID=America/Detroit:20210527T190000
DTSTAMP:20260425T070501
CREATED:20210430T160559Z
LAST-MODIFIED:20210430T160559Z
UID:10000295-1622131200-1622142000@www.benfieldwines.com
SUMMARY:Wine and Dine with LuLu Fare Food Truck!
DESCRIPTION:Amazing food! Pick up your dinner and dine in or carryout!
URL:https://www.benfieldwines.com/event/wine-and-dine-with-lulu-fare-food-truck-3/
LOCATION:Benfield Wines\, 102 N Main St\, Swanton\, OH\, 43558\, United States
CATEGORIES:Food truck
ORGANIZER;CN="Julia Benfield":MAILTO:julia@benfieldwines.com
GEO:41.58904;-83.890911
X-APPLE-STRUCTURED-LOCATION;VALUE=URI;X-ADDRESS=Benfield Wines 102 N Main St Swanton OH 43558 United States;X-APPLE-RADIUS=500;X-TITLE=102 N Main St:geo:-83.890911,41.58904
END:VEVENT
BEGIN:VEVENT
DTSTART;TZID=America/Detroit:20210522T180000
DTEND;TZID=America/Detroit:20210522T210000
DTSTAMP:20260425T070501
CREATED:20210417T172026Z
LAST-MODIFIED:20210417T172026Z
UID:10000289-1621706400-1621717200@www.benfieldwines.com
SUMMARY:Music with Jenn and John!
DESCRIPTION:Music 6pm-9pm
URL:https://www.benfieldwines.com/event/music-with-jenn-and-john/
LOCATION:Benfield Wines\, 102 N Main St\, Swanton\, OH\, 43558\, United States
CATEGORIES:Music
ATTACH;FMTTYPE=image/jpeg:https://www.benfieldwines.com/wp-content/uploads/2021/04/Jenn-and-John.jpg
ORGANIZER;CN="Julia Benfield":MAILTO:julia@benfieldwines.com
GEO:41.58904;-83.890911
X-APPLE-STRUCTURED-LOCATION;VALUE=URI;X-ADDRESS=Benfield Wines 102 N Main St Swanton OH 43558 United States;X-APPLE-RADIUS=500;X-TITLE=102 N Main St:geo:-83.890911,41.58904
END:VEVENT
BEGIN:VEVENT
DTSTART;TZID=America/Detroit:20210520T160000
DTEND;TZID=America/Detroit:20210520T190000
DTSTAMP:20260425T070501
CREATED:20210430T160417Z
LAST-MODIFIED:20210430T160417Z
UID:10000294-1621526400-1621537200@www.benfieldwines.com
SUMMARY:Wine and Dine with LuLu Fare Food Truck!
DESCRIPTION:Amazing food! Pick up your dinner and dine in or carryout!
URL:https://www.benfieldwines.com/event/wine-and-dine-with-lulu-fare-food-truck-2/
LOCATION:Benfield Wines\, 102 N Main St\, Swanton\, OH\, 43558\, United States
CATEGORIES:Food truck
ORGANIZER;CN="Julia Benfield":MAILTO:julia@benfieldwines.com
GEO:41.58904;-83.890911
X-APPLE-STRUCTURED-LOCATION;VALUE=URI;X-ADDRESS=Benfield Wines 102 N Main St Swanton OH 43558 United States;X-APPLE-RADIUS=500;X-TITLE=102 N Main St:geo:-83.890911,41.58904
END:VEVENT
BEGIN:VEVENT
DTSTART;TZID=America/Detroit:20210515T180000
DTEND;TZID=America/Detroit:20210515T210000
DTSTAMP:20260425T070501
CREATED:20210417T171736Z
LAST-MODIFIED:20210417T171736Z
UID:10000288-1621101600-1621112400@www.benfieldwines.com
SUMMARY:Music with Abbigale!!
DESCRIPTION:Music 6pm-9pm
URL:https://www.benfieldwines.com/event/music-with-abbigale-2/
LOCATION:Benfield Wines\, 102 N Main St\, Swanton\, OH\, 43558\, United States
CATEGORIES:Music
ATTACH;FMTTYPE=image/jpeg:https://www.benfieldwines.com/wp-content/uploads/2021/04/Abbigale.jpg
ORGANIZER;CN="Julia Benfield":MAILTO:julia@benfieldwines.com
GEO:41.58904;-83.890911
X-APPLE-STRUCTURED-LOCATION;VALUE=URI;X-ADDRESS=Benfield Wines 102 N Main St Swanton OH 43558 United States;X-APPLE-RADIUS=500;X-TITLE=102 N Main St:geo:-83.890911,41.58904
END:VEVENT
BEGIN:VEVENT
DTSTART;TZID=America/Detroit:20210514T190000
DTEND;TZID=America/Detroit:20210514T210000
DTSTAMP:20260425T070501
CREATED:20210409T140136Z
LAST-MODIFIED:20210409T140136Z
UID:10000282-1621018800-1621026000@www.benfieldwines.com
SUMMARY:Patriotic Gnome Class with Art Matters Ltd
DESCRIPTION:Have fun\, be creative\, and drink some great wine!\nNo outside alcohol\nNo refunds\nNeed not be 21 to paint!
URL:https://www.benfieldwines.com/event/patriotic-gnome-class-with-art-matters-ltd/
LOCATION:Benfield Wines\, 102 N Main St\, Swanton\, OH\, 43558\, United States
CATEGORIES:Art
ORGANIZER;CN="Julia Benfield":MAILTO:julia@benfieldwines.com
GEO:41.58904;-83.890911
X-APPLE-STRUCTURED-LOCATION;VALUE=URI;X-ADDRESS=Benfield Wines 102 N Main St Swanton OH 43558 United States;X-APPLE-RADIUS=500;X-TITLE=102 N Main St:geo:-83.890911,41.58904
END:VEVENT
BEGIN:VEVENT
DTSTART;TZID=America/Detroit:20210513T160000
DTEND;TZID=America/Detroit:20210513T190000
DTSTAMP:20260425T070501
CREATED:20210430T160325Z
LAST-MODIFIED:20210430T160443Z
UID:10000293-1620921600-1620932400@www.benfieldwines.com
SUMMARY:Wine and Dine with LuLu Fare Food Truck!
DESCRIPTION:Amazing food! Pick up your dinner and dine in or carryout!
URL:https://www.benfieldwines.com/event/740/
LOCATION:Benfield Wines\, 102 N Main St\, Swanton\, OH\, 43558\, United States
ORGANIZER;CN="Julia Benfield":MAILTO:julia@benfieldwines.com
GEO:41.58904;-83.890911
X-APPLE-STRUCTURED-LOCATION;VALUE=URI;X-ADDRESS=Benfield Wines 102 N Main St Swanton OH 43558 United States;X-APPLE-RADIUS=500;X-TITLE=102 N Main St:geo:-83.890911,41.58904
END:VEVENT
BEGIN:VEVENT
DTSTART;TZID=America/Detroit:20210508T180000
DTEND;TZID=America/Detroit:20210508T210000
DTSTAMP:20260425T070501
CREATED:20210417T171517Z
LAST-MODIFIED:20210417T171805Z
UID:10000287-1620496800-1620507600@www.benfieldwines.com
SUMMARY:Music with Rick Flores!
DESCRIPTION:Music 6pm-9pm!
URL:https://www.benfieldwines.com/event/rick-flores/
LOCATION:Benfield Wines\, 102 N Main St\, Swanton\, OH\, 43558\, United States
CATEGORIES:Music
ATTACH;FMTTYPE=image/jpeg:https://www.benfieldwines.com/wp-content/uploads/2021/04/Rick-flores.jpg
ORGANIZER;CN="Julia Benfield":MAILTO:julia@benfieldwines.com
GEO:41.58904;-83.890911
X-APPLE-STRUCTURED-LOCATION;VALUE=URI;X-ADDRESS=Benfield Wines 102 N Main St Swanton OH 43558 United States;X-APPLE-RADIUS=500;X-TITLE=102 N Main St:geo:-83.890911,41.58904
END:VEVENT
BEGIN:VEVENT
DTSTART;TZID=America/Detroit:20210507T180000
DTEND;TZID=America/Detroit:20210507T210000
DTSTAMP:20260425T070501
CREATED:20210214T021321Z
LAST-MODIFIED:20210427T150926Z
UID:10000258-1620410400-1620421200@www.benfieldwines.com
SUMMARY:Lifelines and Benfield Wines: An Evening with Medium Sirena La Point - SOLD OUT
DESCRIPTION:These events are limited seating so that Sirena may make as many connections as possible but remember a message is not guaranteed! \nOne drink included in price of ticket \nNo outside alcohol\, please.
URL:https://www.benfieldwines.com/event/lifelines-and-benfield-wines-an-evening-with-medium-sirena-la-point/
LOCATION:Benfield Wines\, 102 N Main St\, Swanton\, OH\, 43558\, United States
CATEGORIES:Special
ORGANIZER;CN="Julia Benfield":MAILTO:julia@benfieldwines.com
GEO:41.58904;-83.890911
X-APPLE-STRUCTURED-LOCATION;VALUE=URI;X-ADDRESS=Benfield Wines 102 N Main St Swanton OH 43558 United States;X-APPLE-RADIUS=500;X-TITLE=102 N Main St:geo:-83.890911,41.58904
END:VEVENT
BEGIN:VEVENT
DTSTART;TZID=America/Detroit:20210507T163000
DTEND;TZID=America/Detroit:20210507T200000
DTSTAMP:20260425T070501
CREATED:20210321T144048Z
LAST-MODIFIED:20210321T144048Z
UID:10000267-1620405000-1620417600@www.benfieldwines.com
SUMMARY:Papis and Hahny's Food Truck!
DESCRIPTION:Come pair some delicious food from Papi and Hahnys with some great wine!
URL:https://www.benfieldwines.com/event/papis-and-hahnys-food-truck/
LOCATION:Benfield Wines\, 102 N Main St\, Swanton\, OH\, 43558\, United States
CATEGORIES:Food truck
ATTACH;FMTTYPE=image/jpeg:https://www.benfieldwines.com/wp-content/uploads/2021/03/papis.jpg
ORGANIZER;CN="Julia Benfield":MAILTO:julia@benfieldwines.com
GEO:41.58904;-83.890911
X-APPLE-STRUCTURED-LOCATION;VALUE=URI;X-ADDRESS=Benfield Wines 102 N Main St Swanton OH 43558 United States;X-APPLE-RADIUS=500;X-TITLE=102 N Main St:geo:-83.890911,41.58904
END:VEVENT
BEGIN:VEVENT
DTSTART;TZID=America/Detroit:20210506T160000
DTEND;TZID=America/Detroit:20210506T190000
DTSTAMP:20260425T070501
CREATED:20210430T160234Z
LAST-MODIFIED:20210430T160234Z
UID:10000292-1620316800-1620327600@www.benfieldwines.com
SUMMARY:Wine and Dine with LuLu Fare Food Truck!
DESCRIPTION:Amazing food! Pick up your dinner and dine in or carryout! New Menu Every Week!
URL:https://www.benfieldwines.com/event/wine-and-dine-with-lulu-fare-food-truck/
LOCATION:Benfield Wines\, 102 N Main St\, Swanton\, OH\, 43558\, United States
CATEGORIES:Food truck
ORGANIZER;CN="Julia Benfield":MAILTO:julia@benfieldwines.com
GEO:41.58904;-83.890911
X-APPLE-STRUCTURED-LOCATION;VALUE=URI;X-ADDRESS=Benfield Wines 102 N Main St Swanton OH 43558 United States;X-APPLE-RADIUS=500;X-TITLE=102 N Main St:geo:-83.890911,41.58904
END:VEVENT
BEGIN:VEVENT
DTSTART;TZID=America/Detroit:20210501T180000
DTEND;TZID=America/Detroit:20210501T210000
DTSTAMP:20260425T070501
CREATED:20210415T224549Z
LAST-MODIFIED:20210415T224859Z
UID:10000286-1619892000-1619902800@www.benfieldwines.com
SUMMARY:Music with Ramona Collins
DESCRIPTION:Great music\, great wine\, great beer\, great times!
URL:https://www.benfieldwines.com/event/music-with-ramona-collins/
LOCATION:Benfield Wines\, 102 N Main St\, Swanton\, OH\, 43558\, United States
CATEGORIES:Music
ATTACH;FMTTYPE=image/jpeg:https://www.benfieldwines.com/wp-content/uploads/2021/04/ramonac.jpg
ORGANIZER;CN="Julia Benfield":MAILTO:julia@benfieldwines.com
GEO:41.58904;-83.890911
X-APPLE-STRUCTURED-LOCATION;VALUE=URI;X-ADDRESS=Benfield Wines 102 N Main St Swanton OH 43558 United States;X-APPLE-RADIUS=500;X-TITLE=102 N Main St:geo:-83.890911,41.58904
END:VEVENT
BEGIN:VEVENT
DTSTART;TZID=America/Detroit:20210429T163000
DTEND;TZID=America/Detroit:20210429T193000
DTSTAMP:20260425T070501
CREATED:20210321T144258Z
LAST-MODIFIED:20210321T144258Z
UID:10000278-1619713800-1619724600@www.benfieldwines.com
SUMMARY:Wine and Dine Thursdays with Lulu Fare Food Truck!
DESCRIPTION:Amazing food and great wine! What a pair! Come dine in or carry out! \nPreorder is recommended! 419-356-3885
URL:https://www.benfieldwines.com/event/wine-and-dine-thursdays-with-lulu-fare-food-truck/2021-04-29/
LOCATION:Benfield Wines\, 102 N Main St\, Swanton\, OH\, 43558\, United States
ORGANIZER;CN="Julia Benfield":MAILTO:julia@benfieldwines.com
GEO:41.58904;-83.890911
X-APPLE-STRUCTURED-LOCATION;VALUE=URI;X-ADDRESS=Benfield Wines 102 N Main St Swanton OH 43558 United States;X-APPLE-RADIUS=500;X-TITLE=102 N Main St:geo:-83.890911,41.58904
END:VEVENT
BEGIN:VEVENT
DTSTART;TZID=America/Detroit:20210425T163000
DTEND;TZID=America/Detroit:20210425T193000
DTSTAMP:20260425T070501
CREATED:20210321T144258Z
LAST-MODIFIED:20210321T144258Z
UID:10000277-1619368200-1619379000@www.benfieldwines.com
SUMMARY:Wine and Dine Thursdays with Lulu Fare Food Truck!
DESCRIPTION:Amazing food and great wine! What a pair! Come dine in or carry out! \nPreorder is recommended! 419-356-3885
URL:https://www.benfieldwines.com/event/wine-and-dine-thursdays-with-lulu-fare-food-truck/2021-04-25/
LOCATION:Benfield Wines\, 102 N Main St\, Swanton\, OH\, 43558\, United States
ORGANIZER;CN="Julia Benfield":MAILTO:julia@benfieldwines.com
GEO:41.58904;-83.890911
X-APPLE-STRUCTURED-LOCATION;VALUE=URI;X-ADDRESS=Benfield Wines 102 N Main St Swanton OH 43558 United States;X-APPLE-RADIUS=500;X-TITLE=102 N Main St:geo:-83.890911,41.58904
END:VEVENT
BEGIN:VEVENT
DTSTART;TZID=America/Detroit:20210424T180000
DTEND;TZID=America/Detroit:20210424T210000
DTSTAMP:20260425T070501
CREATED:20210415T224219Z
LAST-MODIFIED:20210415T224219Z
UID:10000285-1619287200-1619298000@www.benfieldwines.com
SUMMARY:Music with Mike and Jen
DESCRIPTION:Great music\, great wine\, great beer\, great times!
URL:https://www.benfieldwines.com/event/music-with-mike-and-jen/
LOCATION:Benfield Wines\, 102 N Main St\, Swanton\, OH\, 43558\, United States
CATEGORIES:Music
ATTACH;FMTTYPE=image/jpeg:https://www.benfieldwines.com/wp-content/uploads/2021/04/mike-and-jen.jpg
ORGANIZER;CN="Julia Benfield":MAILTO:julia@benfieldwines.com
GEO:41.58904;-83.890911
X-APPLE-STRUCTURED-LOCATION;VALUE=URI;X-ADDRESS=Benfield Wines 102 N Main St Swanton OH 43558 United States;X-APPLE-RADIUS=500;X-TITLE=102 N Main St:geo:-83.890911,41.58904
END:VEVENT
BEGIN:VEVENT
DTSTART;TZID=America/Detroit:20210422T163000
DTEND;TZID=America/Detroit:20210422T193000
DTSTAMP:20260425T070501
CREATED:20210321T144258Z
LAST-MODIFIED:20210321T144258Z
UID:10000276-1619109000-1619119800@www.benfieldwines.com
SUMMARY:Wine and Dine Thursdays with Lulu Fare Food Truck!
DESCRIPTION:Amazing food and great wine! What a pair! Come dine in or carry out! \nPreorder is recommended! 419-356-3885
URL:https://www.benfieldwines.com/event/wine-and-dine-thursdays-with-lulu-fare-food-truck/2021-04-22/
LOCATION:Benfield Wines\, 102 N Main St\, Swanton\, OH\, 43558\, United States
ORGANIZER;CN="Julia Benfield":MAILTO:julia@benfieldwines.com
GEO:41.58904;-83.890911
X-APPLE-STRUCTURED-LOCATION;VALUE=URI;X-ADDRESS=Benfield Wines 102 N Main St Swanton OH 43558 United States;X-APPLE-RADIUS=500;X-TITLE=102 N Main St:geo:-83.890911,41.58904
END:VEVENT
END:VCALENDAR